{"text_format":"1","workbook":"xlsx","n_sheets":2,"sheets":["Prüfung","Rangliste"],"not_rendered":{"charts":0,"images":0,"macros":1,"external_links":0,"defined_names":0,"comments":0,"pivot_tables":0},"unopened":[],"bounds":{"document_bytes":16777216,"sheet_cells":100000,"rows_first":2000,"rows_last":500,"rows_between":2000,"halvings":0,"cell_chars":16384,"cell_head_chars":4096},"cells_cut":0,"cells_raw":0,"read":"whole","date_system":"1900"}

{"sheet":"Prüfung","index":0,"n_rows":98,"n_cols":46,"rows_kept":98,"cut":false,"hidden":false,"merged":[[36,2,36,4],[36,7,36,13],[36,23,36,29],[36,39,36,44],[37,15,37,18],[37,19,37,20],[37,31,37,34],[37,35,37,36],[9,39,9,44],[9,2,9,4],[10,15,10,18],[10,19,10,20],[9,7,9,13],[9,23,9,29],[18,2,18,4],[18,7,18,13],[18,23,18,29],[18,39,18,44],[10,31,10,34],[10,35,10,36],[19,15,19,18],[19,19,19,20],[19,31,19,34],[19,35,19,36],[27,2,27,4],[27,7,27,13],[27,23,27,29],[27,39,27,44],[28,15,28,18],[28,19,28,20],[28,31,28,34],[28,35,28,36],[45,2,45,4],[45,7,45,13],[45,23,45,29],[45,39,45,44],[46,15,46,18],[46,19,46,20],[46,31,46,34],[46,35,46,36],[54,23,54,29],[54,39,54,44],[55,15,55,18],[55,19,55,20],[55,31,55,34],[55,35,55,36],[63,39,63,44],[64,15,64,18],[64,19,64,20],[64,31,64,34],[64,35,64,36],[72,39,72,44],[73,15,73,18],[73,19,73,20],[73,31,73,34],[73,35,73,36],[81,39,81,44],[82,15,82,18],[82,19,82,20],[82,31,82,34],[82,35,82,36],[90,39,90,44],[91,15,91,18],[91,19,91,20],[91,31,91,34],[91,35,91,36],[1,2,1,4],[2,2,2,4],[90,2,90,4],[90,7,90,13],[90,23,90,29],[81,2,81,4],[81,7,81,13],[81,23,81,29],[72,2,72,4],[72,7,72,13],[72,23,72,29],[63,2,63,4],[63,7,63,13],[63,23,63,29],[54,2,54,4],[54,7,54,13]]}
["Fahrprüfung"]
["Turnier:",null,"_____________________________"]
["Wettbewerb:",null,"_____________________________"]
[]
["Excel-Tool-Version:",null,null,1.3,null,null,null,"Erlaubte Zeiten:",null,null,null,null,null,null,null,null,null,null,null,null,null,null,null,"Erlaubte Zeiten:",null,null,null,null,null,null,null,null,null,null,null,null,null,null,null,"Erlaubte Zeiten:"]
["Neuste Versionen unter:",null,null,"www.david-stadelmann.ch",null,null,null,"1-Spänner:",null,null,null,188,null,null,null,null,null,null,null,null,null,null,null,"1-Spänner:",null,null,null,180,null,null,null,null,null,null,null,null,null,null,null,"1-Spänner:",null,null,null,{"$f":"AB6","v":180}]
[null,null,null,null,null,null,null,"2-Spänner:",null,null,null,{"$f":"L6+10","v":198},null,null,null,null,null,null,null,null,null,null,null,"2-Spänner:",null,null,null,{"$f":"AB6+10","v":190},null,null,null,null,null,null,null,null,null,null,null,"2-Spänner:",null,null,null,{"$f":"AR6+10","v":190}]
[null,null,null,null,null,null,null,"Fehlerpunkte für Überzeit:",null,null,null,0.5,null,null,null,null,null,null,null,null,null,null,null,"Fehlerpunkte für Überzeit:",null,null,null,{"$f":"L8","v":0.5},null,null,null,null,null,null,null,null,null,null,null,"Fehlerpunkte für Überzeit:",null,null,null,{"$f":"AB8","v":0.5}]
[]
[1,"Equipe:","Nichtstarter",null,null,null,null,"Umgang 1",null,null,null,null,null,null,null,null,null,null,null,null,null,null,null,"Umgang 2",null,null,null,null,null,null,null,null,null,null,null,null,null,null,null,"Stechen",null,null,null,null,null,"um Rang"]
[null,null,"Fahrer","Pferd 1","Pferd 2","1.- oder 2. Spänner","Erlaubte Zeit","Hindernisfehler","Zeit","Überzeit","gerundete Überzeit","Zeitfehler","Total Fehler",null,null,"Zeit",null,null,null,"Fehler",null,null,"Erlaubte Zeit","Hindernisfehler","Zeit","Überzeit","gerundete Überzeit","Zeitfehler","Total Fehler",null,null,"Zeit",null,null,null,"Fehler",null,null,"Erlaubte Zeit","Hindernisfehler","Zeit","Überzeit","gerundete Überzeit","Zeitfehler","Total Fehler"]
[null,101,"Nichtstarter",null,null,{"$f":"IF(E12=\"\",1,2)","v":1},{"$f":"IF(F12=1,L$6,L$7)","v":188},null,null,{"$f":"IF(I12>G12,(I12-G12),0)","v":0},{"$f":"ROUNDUP(J12,0)","v":0},{"$f":"K12*L$8","v":0},{"$f":"H12+L12","v":0},{"$f":"IF(R12=S12,\"x\",\"\")","v":""},{"$f":"IF(M12=U12,\"x\",\"\")","v":"x"},{"$f":"IF(N12=\"\",I12,\"0\")","v":0},{"$f":"IF(O12=\"\",\"0\",I12)","v":0},{"$f":"Q12+0.001","v":1E-3},{"$f":"AI12","v":6.0000000000000001E-3},{"$f":"IF(N12=\"\",M12,\"0\")","v":0},{"$f":"AK12","v":0},null,{"$f":"IF($F12=1,AB$6,AB$7)","v":180},null,null,{"$f":"IF(Y12>W12,(Y12-W12),0)","v":0},{"$f":"ROUNDUP(Z12,0)","v":0},{"$f":"AA12*AB$8","v":0},{"$f":"X12+AB12","v":0},{"$f":"IF(AH12=AI12,\"x\",\"\")","v":""},{"$f":"IF(AC12=AK12,\"x\",\"\")","v":"x"},{"$f":"IF(AD12=\"\",Y12,\"0\")","v":0},{"$f":"IF(AE12=\"\",\"0\",Y12)","v":0},{"$f":"AG12+0.004","v":4.0000000000000001E-3},{"$f":"LARGE((AH12:AH14,R12:R14),1)","v":6.0000000000000001E-3},{"$f":"IF(AD12=\"\",AC12,\"0\")","v":0},{"$f":"LARGE((AC12:AC14,M12:M14),1)","v":0},null,{"$f":"IF($F12=1,AR$6,AR$7)","v":180},null,null,{"$f":"IF(AO12>AM12,(AO12-AM12),0)","v":0},{"$f":"ROUNDUP(AP12,0)","v":0},{"$f":"AQ12*AR$8","v":0},{"$f":"AN12+AR12","v":0}]
[null,201,"Nichtstarter",null,null,{"$f":"IF(E13=\"\",1,2)","v":1},{"$f":"IF(F13=1,L$6,L$7)","v":188},null,null,{"$f":"IF(I13>G13,(I13-G13),0)","v":0},{"$f":"ROUNDUP(J13,0)","v":0},{"$f":"K13*L$8","v":0},{"$f":"H13+L13","v":0},{"$f":"IF(R13=S12,\"x\",\"\")","v":""},{"$f":"IF(M13=U12,\"x\",\"\")","v":"x"},{"$f":"IF(N13=\"\",I13,\"0\")","v":0},{"$f":"IF(O13=\"\",\"0\",I13)","v":0},{"$f":"Q13+0.002","v":2E-3},null,{"$f":"IF(N13=\"\",M13,\"0\")","v":0},null,null,{"$f":"IF($F13=1,AB$6,AB$7)","v":180},null,null,{"$f":"IF(Y13>W13,(Y13-W13),0)","v":0},{"$f":"ROUNDUP(Z13,0)","v":0},{"$f":"AA13*AB$8","v":0},{"$f":"X13+AB13","v":0},{"$f":"IF(AH13=AI12,\"x\",\"\")","v":""},{"$f":"IF(AC13=AK12,\"x\",\"\")","v":"x"},{"$f":"IF(AD13=\"\",Y13,\"0\")","v":0},{"$f":"IF(AE13=\"\",\"0\",Y13)","v":0},{"$f":"AG13+0.005","v":5.0000000000000001E-3},null,{"$f":"IF(AD13=\"\",AC13,\"0\")","v":0},null,null,{"$f":"IF($F13=1,AR$6,AR$7)","v":180},null,null,{"$f":"IF(AO13>AM13,(AO13-AM13),0)","v":0},{"$f":"ROUNDUP(AP13,0)","v":0},{"$f":"AQ13*AR$8","v":0},{"$f":"AN13+AR13","v":0}]
[null,301,"Nichtstarter",null,null,1,188,null,null,0,0,0,0,{"$f":"IF(R14=S12,\"x\",\"\")","v":""},{"$f":"IF(M14=U12,\"x\",\"\")","v":"x"},{"$f":"IF(N14=\"\",I14,\"0\")","v":0},{"$f":"IF(O14=\"\",\"0\",I14)","v":0},{"$f":"Q14+0.003","v":3.0000000000000001E-3},null,{"$f":"IF(N14=\"\",M14,\"0\")","v":0},null,null,180,null,null,0,0,0,0,{"$f":"IF(AH14=AI12,\"x\",\"\")","v":"x"},{"$f":"IF(AC14=AK12,\"x\",\"\")","v":"x"},{"$f":"IF(AD14=\"\",Y14,\"0\")","v":"0"},{"$f":"IF(AE14=\"\",\"0\",Y14)","v":0},{"$f":"AG14+0.006","v":6.0000000000000001E-3},null,{"$f":"IF(AD14=\"\",AC14,\"0\")","v":"0"},null,null,180,null,null,0,0,0,0]
[]
[null,null,null,null,null,null,null,null,null,null,null,null,null,null,null,null,null,null,null,null,null,null,null,null,null,null,null,"Fehler",{"$f":"IF(C10=\"Nichtstarter\",\"NS\",IF(SUM(T12+T13+T14+AJ12+AJ13+AJ14)>998,\"Disqual.\",(SUM(T12+T13+T14+AJ12+AJ13+AJ14))))","v":"NS"},null,null,null,null,null,null,null,null,null,null,null,null,null,null,"Fehler",{"$f":"AS12+AS13+AS14","v":0}]
[null,null,null,null,null,null,null,null,null,null,null,null,null,null,null,null,null,null,null,null,null,null,null,null,null,null,null,"Zeit",{"$f":"IF(C10=\"Nichtstarter\",\"NS\",IF(SUM(T12+T13+T14+AJ12+AJ13+AJ14)>998,\"Disqual.\",(SUM(P12+P13+P14+AF12+AF13+AF14))))","v":"NS"},null,null,null,null,null,null,null,null,null,null,null,null,null,null,"Zeit",{"$f":"AO12+AO13+AO14","v":0}]
[]
[2,"Equipe:","Nichtstarter",null,null,null,null,"Umgang 1",null,null,null,null,null,null,null,null,null,null,null,null,null,null,null,"Umgang 2",null,null,null,null,null,null,null,null,null,null,null,null,null,null,null,"Stechen",null,null,null,null,null,"um Rang"]
[null,null,"Fahrer","Pferd 1","Pferd 2","1.- oder 2. Spänner","Erlaubte Zeit","Hindernisfehler","Zeit","Überzeit","gerundete Überzeit","Zeitfehler","Total Fehler",null,null,"Zeit",null,null,null,"Fehler",null,null,"Erlaubte Zeit","Hindernisfehler","Zeit","Überzeit","gerundete Überzeit","Zeitfehler","Total Fehler",null,null,"Zeit",null,null,null,"Fehler",null,null,"Erlaubte Zeit","Hindernisfehler","Zeit","Überzeit","gerundete Überzeit","Zeitfehler","Total Fehler"]
[null,102,"Nichtstarter",null,null,{"$f":"IF(E21=\"\",1,2)","v":1},{"$f":"IF(F21=1,L$6,L$7)","v":188},null,null,{"$f":"IF(I21>G21,(I21-G21),0)","v":0},{"$f":"ROUNDUP(J21,0)","v":0},{"$f":"K21*L$8","v":0},{"$f":"H21+L21","v":0},{"$f":"IF(R21=S21,\"x\",\"\")","v":""},{"$f":"IF(M21=U21,\"x\",\"\")","v":"x"},{"$f":"IF(N21=\"\",I21,\"0\")","v":0},{"$f":"IF(O21=\"\",\"0\",I21)","v":0},{"$f":"Q21+0.001","v":1E-3},{"$f":"AI21","v":6.0000000000000001E-3},{"$f":"IF(N21=\"\",M21,\"0\")","v":0},{"$f":"AK21","v":0},null,{"$f":"IF($F21=1,AB$6,AB$7)","v":180},null,null,{"$f":"IF(Y21>W21,(Y21-W21),0)","v":0},{"$f":"ROUNDUP(Z21,0)","v":0},{"$f":"AA21*AB$8","v":0},{"$f":"X21+AB21","v":0},{"$f":"IF(AH21=AI21,\"x\",\"\")","v":""},{"$f":"IF(AC21=AK21,\"x\",\"\")","v":"x"},{"$f":"IF(AD21=\"\",Y21,\"0\")","v":0},{"$f":"IF(AE21=\"\",\"0\",Y21)","v":0},{"$f":"AG21+0.004","v":4.0000000000000001E-3},{"$f":"LARGE((AH21:AH23,R21:R23),1)","v":6.0000000000000001E-3},{"$f":"IF(AD21=\"\",AC21,\"0\")","v":0},{"$f":"LARGE((AC21:AC23,M21:M23),1)","v":0},null,{"$f":"IF($F21=1,AR$6,AR$7)","v":180},null,null,{"$f":"IF(AO21>AM21,(AO21-AM21),0)","v":0},{"$f":"ROUNDUP(AP21,0)","v":0},{"$f":"AQ21*AR$8","v":0},{"$f":"AN21+AR21","v":0}]
[null,202,"Nichtstarter",null,null,{"$f":"IF(E22=\"\",1,2)","v":1},{"$f":"IF(F22=1,L$6,L$7)","v":188},null,null,{"$f":"IF(I22>G22,(I22-G22),0)","v":0},{"$f":"ROUNDUP(J22,0)","v":0},{"$f":"K22*L$8","v":0},{"$f":"H22+L22","v":0},{"$f":"IF(R22=S21,\"x\",\"\")","v":""},{"$f":"IF(M22=U21,\"x\",\"\")","v":"x"},{"$f":"IF(N22=\"\",I22,\"0\")","v":0},{"$f":"IF(O22=\"\",\"0\",I22)","v":0},{"$f":"Q22+0.002","v":2E-3},null,{"$f":"IF(N22=\"\",M22,\"0\")","v":0},null,null,{"$f":"IF($F22=1,AB$6,AB$7)","v":180},null,null,{"$f":"IF(Y22>W22,(Y22-W22),0)","v":0},{"$f":"ROUNDUP(Z22,0)","v":0},{"$f":"AA22*AB$8","v":0},{"$f":"X22+AB22","v":0},{"$f":"IF(AH22=AI21,\"x\",\"\")","v":""},{"$f":"IF(AC22=AK21,\"x\",\"\")","v":"x"},{"$f":"IF(AD22=\"\",Y22,\"0\")","v":0},{"$f":"IF(AE22=\"\",\"0\",Y22)","v":0},{"$f":"AG22+0.005","v":5.0000000000000001E-3},null,{"$f":"IF(AD22=\"\",AC22,\"0\")","v":0},null,null,{"$f":"IF($F22=1,AR$6,AR$7)","v":180},null,null,{"$f":"IF(AO22>AM22,(AO22-AM22),0)","v":0},{"$f":"ROUNDUP(AP22,0)","v":0},{"$f":"AQ22*AR$8","v":0},{"$f":"AN22+AR22","v":0}]
[null,302,"Nichtstarter",null,null,1,188,null,null,0,0,0,0,{"$f":"IF(R23=S21,\"x\",\"\")","v":""},{"$f":"IF(M23=U21,\"x\",\"\")","v":"x"},{"$f":"IF(N23=\"\",I23,\"0\")","v":0},{"$f":"IF(O23=\"\",\"0\",I23)","v":0},{"$f":"Q23+0.003","v":3.0000000000000001E-3},null,{"$f":"IF(N23=\"\",M23,\"0\")","v":0},null,null,180,null,null,0,0,0,0,{"$f":"IF(AH23=AI21,\"x\",\"\")","v":"x"},{"$f":"IF(AC23=AK21,\"x\",\"\")","v":"x"},{"$f":"IF(AD23=\"\",Y23,\"0\")","v":"0"},{"$f":"IF(AE23=\"\",\"0\",Y23)","v":0},{"$f":"AG23+0.006","v":6.0000000000000001E-3},null,{"$f":"IF(AD23=\"\",AC23,\"0\")","v":"0"},null,null,180,null,null,0,0,0,0]
[]
[null,null,null,null,null,null,null,null,null,null,null,null,null,null,null,null,null,null,null,null,null,null,null,null,null,null,null,"Fehler",{"$f":"IF(C19=\"Nichtstarter\",\"NS\",IF(SUM(T21+T22+T23+AJ21+AJ22+AJ23)>998,\"Disqual.\",(SUM(T21+T22+T23+AJ21+AJ22+AJ23))))","v":"NS"},null,null,null,null,null,null,null,null,null,null,null,null,null,null,"Fehler",{"$f":"AS21+AS22+AS23","v":0}]
[null,null,null,null,null,null,null,null,null,null,null,null,null,null,null,null,null,null,null,null,null,null,null,null,null,null,null,"Zeit",{"$f":"IF(C19=\"Nichtstarter\",\"NS\",IF(SUM(T21+T22+T23+AJ21+AJ22+AJ23)>998,\"Disqual.\",(SUM(P21+P22+P23+AF21+AF22+AF23))))","v":"NS"},null,null,null,null,null,null,null,null,null,null,null,null,null,null,"Zeit",{"$f":"AO21+AO22+AO23","v":0}]
[]
[3,"Equipe:","Nichtstarter",null,null,null,null,"Umgang 1",null,null,null,null,null,null,null,null,null,null,null,null,null,null,null,"Umgang 2",null,null,null,null,null,null,null,null,null,null,null,null,null,null,null,"Stechen",null,null,null,null,null,"um Rang"]
[null,null,"Fahrer","Pferd 1","Pferd 2","1.- oder 2. Spänner","Erlaubte Zeit","Hindernisfehler","Zeit","Überzeit","gerundete Überzeit","Zeitfehler","Total Fehler",null,null,"Zeit",null,null,null,"Fehler",null,null,"Erlaubte Zeit","Hindernisfehler","Zeit","Überzeit","gerundete Überzeit","Zeitfehler","Total Fehler",null,null,"Zeit",null,null,null,"Fehler",null,null,"Erlaubte Zeit","Hindernisfehler","Zeit","Überzeit","gerundete Überzeit","Zeitfehler","Total Fehler"]
[null,103,"Nichtstarter",null,null,{"$f":"IF(E30=\"\",1,2)","v":1},{"$f":"IF(F30=1,L$6,L$7)","v":188},null,null,{"$f":"IF(I30>G30,(I30-G30),0)","v":0},{"$f":"ROUNDUP(J30,0)","v":0},{"$f":"K30*L$8","v":0},{"$f":"H30+L30","v":0},{"$f":"IF(R30=S30,\"x\",\"\")","v":""},{"$f":"IF(M30=U30,\"x\",\"\")","v":"x"},{"$f":"IF(N30=\"\",I30,\"0\")","v":0},{"$f":"IF(O30=\"\",\"0\",I30)","v":0},{"$f":"Q30+0.001","v":1E-3},{"$f":"AI30","v":6.0000000000000001E-3},{"$f":"IF(N30=\"\",M30,\"0\")","v":0},{"$f":"AK30","v":0},null,{"$f":"IF($F30=1,AB$6,AB$7)","v":180},null,null,{"$f":"IF(Y30>W30,(Y30-W30),0)","v":0},{"$f":"ROUNDUP(Z30,0)","v":0},{"$f":"AA30*AB$8","v":0},{"$f":"X30+AB30","v":0},{"$f":"IF(AH30=AI30,\"x\",\"\")","v":""},{"$f":"IF(AC30=AK30,\"x\",\"\")","v":"x"},{"$f":"IF(AD30=\"\",Y30,\"0\")","v":0},{"$f":"IF(AE30=\"\",\"0\",Y30)","v":0},{"$f":"AG30+0.004","v":4.0000000000000001E-3},{"$f":"LARGE((AH30:AH32,R30:R32),1)","v":6.0000000000000001E-3},{"$f":"IF(AD30=\"\",AC30,\"0\")","v":0},{"$f":"LARGE((AC30:AC32,M30:M32),1)","v":0},null,{"$f":"IF($F30=1,AR$6,AR$7)","v":180},null,null,{"$f":"IF(AO30>AM30,(AO30-AM30),0)","v":0},{"$f":"ROUNDUP(AP30,0)","v":0},{"$f":"AQ30*AR$8","v":0},{"$f":"AN30+AR30","v":0}]
[null,203,"Nichtstarter",null,null,{"$f":"IF(E31=\"\",1,2)","v":1},{"$f":"IF(F31=1,L$6,L$7)","v":188},null,null,{"$f":"IF(I31>G31,(I31-G31),0)","v":0},{"$f":"ROUNDUP(J31,0)","v":0},{"$f":"K31*L$8","v":0},{"$f":"H31+L31","v":0},{"$f":"IF(R31=S30,\"x\",\"\")","v":""},{"$f":"IF(M31=U30,\"x\",\"\")","v":"x"},{"$f":"IF(N31=\"\",I31,\"0\")","v":0},{"$f":"IF(O31=\"\",\"0\",I31)","v":0},{"$f":"Q31+0.002","v":2E-3},null,{"$f":"IF(N31=\"\",M31,\"0\")","v":0},null,null,{"$f":"IF($F31=1,AB$6,AB$7)","v":180},null,null,{"$f":"IF(Y31>W31,(Y31-W31),0)","v":0},{"$f":"ROUNDUP(Z31,0)","v":0},{"$f":"AA31*AB$8","v":0},{"$f":"X31+AB31","v":0},{"$f":"IF(AH31=AI30,\"x\",\"\")","v":""},{"$f":"IF(AC31=AK30,\"x\",\"\")","v":"x"},{"$f":"IF(AD31=\"\",Y31,\"0\")","v":0},{"$f":"IF(AE31=\"\",\"0\",Y31)","v":0},{"$f":"AG31+0.005","v":5.0000000000000001E-3},null,{"$f":"IF(AD31=\"\",AC31,\"0\")","v":0},null,null,{"$f":"IF($F31=1,AR$6,AR$7)","v":180},null,null,{"$f":"IF(AO31>AM31,(AO31-AM31),0)","v":0},{"$f":"ROUNDUP(AP31,0)","v":0},{"$f":"AQ31*AR$8","v":0},{"$f":"AN31+AR31","v":0}]
[null,303,"Nichtstarter",null,null,1,188,null,null,0,0,0,0,{"$f":"IF(R32=S30,\"x\",\"\")","v":""},{"$f":"IF(M32=U30,\"x\",\"\")","v":"x"},{"$f":"IF(N32=\"\",I32,\"0\")","v":0},{"$f":"IF(O32=\"\",\"0\",I32)","v":0},{"$f":"Q32+0.003","v":3.0000000000000001E-3},null,{"$f":"IF(N32=\"\",M32,\"0\")","v":0},null,null,180,null,null,0,0,0,0,{"$f":"IF(AH32=AI30,\"x\",\"\")","v":"x"},{"$f":"IF(AC32=AK30,\"x\",\"\")","v":"x"},{"$f":"IF(AD32=\"\",Y32,\"0\")","v":"0"},{"$f":"IF(AE32=\"\",\"0\",Y32)","v":0},{"$f":"AG32+0.006","v":6.0000000000000001E-3},null,{"$f":"IF(AD32=\"\",AC32,\"0\")","v":"0"},null,null,180,null,null,0,0,0,0]
[]
[null,null,null,null,null,null,null,null,null,null,null,null,null,null,null,null,null,null,null,null,null,null,null,null,null,null,null,"Fehler",{"$f":"IF(C28=\"Nichtstarter\",\"NS\",IF(SUM(T30+T31+T32+AJ30+AJ31+AJ32)>998,\"Disqual.\",(SUM(T30+T31+T32+AJ30+AJ31+AJ32))))","v":"NS"},null,null,null,null,null,null,null,null,null,null,null,null,null,null,"Fehler",{"$f":"AS30+AS31+AS32","v":0}]
[null,null,null,null,null,null,null,null,null,null,null,null,null,null,null,null,null,null,null,null,null,null,null,null,null,null,null,"Zeit",{"$f":"IF(C28=\"Nichtstarter\",\"NS\",IF(SUM(T30+T31+T32+AJ30+AJ31+AJ32)>998,\"Disqual.\",(SUM(P30+P31+P32+AF30+AF31+AF32))))","v":"NS"},null,null,null,null,null,null,null,null,null,null,null,null,null,null,"Zeit",{"$f":"AO30+AO31+AO32","v":0}]
[]
[4,"Equipe:","Nichtstarter",null,null,null,null,"Umgang 1",null,null,null,null,null,null,null,null,null,null,null,null,null,null,null,"Umgang 2",null,null,null,null,null,null,null,null,null,null,null,null,null,null,null,"Stechen",null,null,null,null,null,"um Rang"]
[null,null,"Fahrer","Pferd 1","Pferd 2","1.- oder 2. Spänner","Erlaubte Zeit","Hindernisfehler","Zeit","Überzeit","gerundete Überzeit","Zeitfehler","Total Fehler",null,null,"Zeit",null,null,null,"Fehler",null,null,"Erlaubte Zeit","Hindernisfehler","Zeit","Überzeit","gerundete Überzeit","Zeitfehler","Total Fehler",null,null,"Zeit",null,null,null,"Fehler",null,null,"Erlaubte Zeit","Hindernisfehler","Zeit","Überzeit","gerundete Überzeit","Zeitfehler","Total Fehler"]
[null,104,"Nichtstarter",null,null,{"$f":"IF(E39=\"\",1,2)","v":1},{"$f":"IF(F39=1,L$6,L$7)","v":188},null,null,{"$f":"IF(I39>G39,(I39-G39),0)","v":0},{"$f":"ROUNDUP(J39,0)","v":0},{"$f":"K39*L$8","v":0},{"$f":"H39+L39","v":0},{"$f":"IF(R39=S39,\"x\",\"\")","v":""},{"$f":"IF(M39=U39,\"x\",\"\")","v":"x"},{"$f":"IF(N39=\"\",I39,\"0\")","v":0},{"$f":"IF(O39=\"\",\"0\",I39)","v":0},{"$f":"Q39+0.001","v":1E-3},{"$f":"AI39","v":6.0000000000000001E-3},{"$f":"IF(N39=\"\",M39,\"0\")","v":0},{"$f":"AK39","v":0},null,{"$f":"IF($F39=1,AB$6,AB$7)","v":180},null,null,{"$f":"IF(Y39>W39,(Y39-W39),0)","v":0},{"$f":"ROUNDUP(Z39,0)","v":0},{"$f":"AA39*AB$8","v":0},{"$f":"X39+AB39","v":0},{"$f":"IF(AH39=AI39,\"x\",\"\")","v":""},{"$f":"IF(AC39=AK39,\"x\",\"\")","v":"x"},{"$f":"IF(AD39=\"\",Y39,\"0\")","v":0},{"$f":"IF(AE39=\"\",\"0\",Y39)","v":0},{"$f":"AG39+0.004","v":4.0000000000000001E-3},{"$f":"LARGE((AH39:AH41,R39:R41),1)","v":6.0000000000000001E-3},{"$f":"IF(AD39=\"\",AC39,\"0\")","v":0},{"$f":"LARGE((AC39:AC41,M39:M41),1)","v":0},null,{"$f":"IF($F39=1,AR$6,AR$7)","v":180},null,null,{"$f":"IF(AO39>AM39,(AO39-AM39),0)","v":0},{"$f":"ROUNDUP(AP39,0)","v":0},{"$f":"AQ39*AR$8","v":0},{"$f":"AN39+AR39","v":0}]
[null,204,"Nichtstarter",null,null,{"$f":"IF(E40=\"\",1,2)","v":1},{"$f":"IF(F40=1,L$6,L$7)","v":188},null,null,{"$f":"IF(I40>G40,(I40-G40),0)","v":0},{"$f":"ROUNDUP(J40,0)","v":0},{"$f":"K40*L$8","v":0},{"$f":"H40+L40","v":0},{"$f":"IF(R40=S39,\"x\",\"\")","v":""},{"$f":"IF(M40=U39,\"x\",\"\")","v":"x"},{"$f":"IF(N40=\"\",I40,\"0\")","v":0},{"$f":"IF(O40=\"\",\"0\",I40)","v":0},{"$f":"Q40+0.002","v":2E-3},null,{"$f":"IF(N40=\"\",M40,\"0\")","v":0},null,null,{"$f":"IF($F40=1,AB$6,AB$7)","v":180},null,null,{"$f":"IF(Y40>W40,(Y40-W40),0)","v":0},{"$f":"ROUNDUP(Z40,0)","v":0},{"$f":"AA40*AB$8","v":0},{"$f":"X40+AB40","v":0},{"$f":"IF(AH40=AI39,\"x\",\"\")","v":""},{"$f":"IF(AC40=AK39,\"x\",\"\")","v":"x"},{"$f":"IF(AD40=\"\",Y40,\"0\")","v":0},{"$f":"IF(AE40=\"\",\"0\",Y40)","v":0},{"$f":"AG40+0.005","v":5.0000000000000001E-3},null,{"$f":"IF(AD40=\"\",AC40,\"0\")","v":0},null,null,{"$f":"IF($F40=1,AR$6,AR$7)","v":180},null,null,{"$f":"IF(AO40>AM40,(AO40-AM40),0)","v":0},{"$f":"ROUNDUP(AP40,0)","v":0},{"$f":"AQ40*AR$8","v":0},{"$f":"AN40+AR40","v":0}]
[null,304,"Nichtstarter",null,null,1,188,null,null,0,0,0,0,{"$f":"IF(R41=S39,\"x\",\"\")","v":""},{"$f":"IF(M41=U39,\"x\",\"\")","v":"x"},{"$f":"IF(N41=\"\",I41,\"0\")","v":0},{"$f":"IF(O41=\"\",\"0\",I41)","v":0},{"$f":"Q41+0.003","v":3.0000000000000001E-3},null,{"$f":"IF(N41=\"\",M41,\"0\")","v":0},null,null,180,null,null,0,0,0,0,{"$f":"IF(AH41=AI39,\"x\",\"\")","v":"x"},{"$f":"IF(AC41=AK39,\"x\",\"\")","v":"x"},{"$f":"IF(AD41=\"\",Y41,\"0\")","v":"0"},{"$f":"IF(AE41=\"\",\"0\",Y41)","v":0},{"$f":"AG41+0.006","v":6.0000000000000001E-3},null,{"$f":"IF(AD41=\"\",AC41,\"0\")","v":"0"},null,null,180,null,null,0,0,0,0]
[]
[null,null,null,null,null,null,null,null,null,null,null,null,null,null,null,null,null,null,null,null,null,null,null,null,null,null,null,"Fehler",{"$f":"IF(C37=\"Nichtstarter\",\"NS\",IF(SUM(T39+T40+T41+AJ39+AJ40+AJ41)>998,\"Disqual.\",(SUM(T39+T40+T41+AJ39+AJ40+AJ41))))","v":"NS"},null,null,null,null,null,null,null,null,null,null,null,null,null,null,"Fehler",{"$f":"AS39+AS40+AS41","v":0}]
[null,null,null,null,null,null,null,null,null,null,null,null,null,null,null,null,null,null,null,null,null,null,null,null,null,null,null,"Zeit",{"$f":"IF(C37=\"Nichtstarter\",\"NS\",IF(SUM(T39+T40+T41+AJ39+AJ40+AJ41)>998,\"Disqual.\",(SUM(P39+P40+P41+AF39+AF40+AF41))))","v":"NS"},null,null,null,null,null,null,null,null,null,null,null,null,null,null,"Zeit",{"$f":"AO39+AO40+AO41","v":0}]
[]
[5,"Equipe:","Nichtstarter",null,null,null,null,"Umgang 1",null,null,null,null,null,null,null,null,null,null,null,null,null,null,null,"Umgang 2",null,null,null,null,null,null,null,null,null,null,null,null,null,null,null,"Stechen",null,null,null,null,null,"um Rang"]
[null,null,"Fahrer","Pferd 1","Pferd 2","1.- oder 2. Spänner","Erlaubte Zeit","Hindernisfehler","Zeit","Überzeit","gerundete Überzeit","Zeitfehler","Total Fehler",null,null,"Zeit",null,null,null,"Fehler",null,null,"Erlaubte Zeit","Hindernisfehler","Zeit","Überzeit","gerundete Überzeit","Zeitfehler","Total Fehler",null,null,"Zeit",null,null,null,"Fehler",null,null,"Erlaubte Zeit","Hindernisfehler","Zeit","Überzeit","gerundete Überzeit","Zeitfehler","Total Fehler"]
[null,105,"Nichtstarter",null,null,{"$f":"IF(E48=\"\",1,2)","v":1},{"$f":"IF(F48=1,L$6,L$7)","v":188},null,null,{"$f":"IF(I48>G48,(I48-G48),0)","v":0},{"$f":"ROUNDUP(J48,0)","v":0},{"$f":"K48*L$8","v":0},{"$f":"H48+L48","v":0},{"$f":"IF(R48=S48,\"x\",\"\")","v":""},{"$f":"IF(M48=U48,\"x\",\"\")","v":"x"},{"$f":"IF(N48=\"\",I48,\"0\")","v":0},{"$f":"IF(O48=\"\",\"0\",I48)","v":0},{"$f":"Q48+0.001","v":1E-3},{"$f":"AI48","v":6.0000000000000001E-3},{"$f":"IF(N48=\"\",M48,\"0\")","v":0},{"$f":"AK48","v":0},null,{"$f":"IF($F48=1,AB$6,AB$7)","v":180},null,null,{"$f":"IF(Y48>W48,(Y48-W48),0)","v":0},{"$f":"ROUNDUP(Z48,0)","v":0},{"$f":"AA48*AB$8","v":0},{"$f":"X48+AB48","v":0},{"$f":"IF(AH48=AI48,\"x\",\"\")","v":""},{"$f":"IF(AC48=AK48,\"x\",\"\")","v":"x"},{"$f":"IF(AD48=\"\",Y48,\"0\")","v":0},{"$f":"IF(AE48=\"\",\"0\",Y48)","v":0},{"$f":"AG48+0.004","v":4.0000000000000001E-3},{"$f":"LARGE((AH48:AH50,R48:R50),1)","v":6.0000000000000001E-3},{"$f":"IF(AD48=\"\",AC48,\"0\")","v":0},{"$f":"LARGE((AC48:AC50,M48:M50),1)","v":0},null,{"$f":"IF($F48=1,AR$6,AR$7)","v":180},null,null,{"$f":"IF(AO48>AM48,(AO48-AM48),0)","v":0},{"$f":"ROUNDUP(AP48,0)","v":0},{"$f":"AQ48*AR$8","v":0},{"$f":"AN48+AR48","v":0}]
[null,205,"Nichtstarter",null,null,{"$f":"IF(E49=\"\",1,2)","v":1},{"$f":"IF(F49=1,L$6,L$7)","v":188},null,null,{"$f":"IF(I49>G49,(I49-G49),0)","v":0},{"$f":"ROUNDUP(J49,0)","v":0},{"$f":"K49*L$8","v":0},{"$f":"H49+L49","v":0},{"$f":"IF(R49=S48,\"x\",\"\")","v":""},{"$f":"IF(M49=U48,\"x\",\"\")","v":"x"},{"$f":"IF(N49=\"\",I49,\"0\")","v":0},{"$f":"IF(O49=\"\",\"0\",I49)","v":0},{"$f":"Q49+0.002","v":2E-3},null,{"$f":"IF(N49=\"\",M49,\"0\")","v":0},null,null,{"$f":"IF($F49=1,AB$6,AB$7)","v":180},null,null,{"$f":"IF(Y49>W49,(Y49-W49),0)","v":0},{"$f":"ROUNDUP(Z49,0)","v":0},{"$f":"AA49*AB$8","v":0},{"$f":"X49+AB49","v":0},{"$f":"IF(AH49=AI48,\"x\",\"\")","v":""},{"$f":"IF(AC49=AK48,\"x\",\"\")","v":"x"},{"$f":"IF(AD49=\"\",Y49,\"0\")","v":0},{"$f":"IF(AE49=\"\",\"0\",Y49)","v":0},{"$f":"AG49+0.005","v":5.0000000000000001E-3},null,{"$f":"IF(AD49=\"\",AC49,\"0\")","v":0},null,null,{"$f":"IF($F49=1,AR$6,AR$7)","v":180},null,null,{"$f":"IF(AO49>AM49,(AO49-AM49),0)","v":0},{"$f":"ROUNDUP(AP49,0)","v":0},{"$f":"AQ49*AR$8","v":0},{"$f":"AN49+AR49","v":0}]
[null,305,"Nichtstarter",null,null,1,188,null,null,0,0,0,0,{"$f":"IF(R50=S48,\"x\",\"\")","v":""},{"$f":"IF(M50=U48,\"x\",\"\")","v":"x"},{"$f":"IF(N50=\"\",I50,\"0\")","v":0},{"$f":"IF(O50=\"\",\"0\",I50)","v":0},{"$f":"Q50+0.003","v":3.0000000000000001E-3},null,{"$f":"IF(N50=\"\",M50,\"0\")","v":0},null,null,180,null,null,0,0,0,0,{"$f":"IF(AH50=AI48,\"x\",\"\")","v":"x"},{"$f":"IF(AC50=AK48,\"x\",\"\")","v":"x"},{"$f":"IF(AD50=\"\",Y50,\"0\")","v":"0"},{"$f":"IF(AE50=\"\",\"0\",Y50)","v":0},{"$f":"AG50+0.006","v":6.0000000000000001E-3},null,{"$f":"IF(AD50=\"\",AC50,\"0\")","v":"0"},null,null,180,null,null,0,0,0,0]
[]
[null,null,null,null,null,null,null,null,null,null,null,null,null,null,null,null,null,null,null,null,null,null,null,null,null,null,null,"Fehler",{"$f":"IF(C46=\"Nichtstarter\",\"NS\",IF(SUM(T48+T49+T50+AJ48+AJ49+AJ50)>998,\"Disqual.\",(SUM(T48+T49+T50+AJ48+AJ49+AJ50))))","v":"NS"},null,null,null,null,null,null,null,null,null,null,null,null,null,null,"Fehler",{"$f":"AS48+AS49+AS50","v":0}]
[null,null,null,null,null,null,null,null,null,null,null,null,null,null,null,null,null,null,null,null,null,null,null,null,null,null,null,"Zeit",{"$f":"IF(C46=\"Nichtstarter\",\"NS\",IF(SUM(T48+T49+T50+AJ48+AJ49+AJ50)>998,\"Disqual.\",(SUM(P48+P49+P50+AF48+AF49+AF50))))","v":"NS"},null,null,null,null,null,null,null,null,null,null,null,null,null,null,"Zeit",{"$f":"AO48+AO49+AO50","v":0}]
[]
[6,"Equipe:","Nichtstarter",null,null,null,null,"Umgang 1",null,null,null,null,null,null,null,null,null,null,null,null,null,null,null,"Umgang 2",null,null,null,null,null,null,null,null,null,null,null,null,null,null,null,"Stechen",null,null,null,null,null,"um Rang"]
[null,null,"Fahrer","Pferd 1","Pferd 2","1.- oder 2. Spänner","Erlaubte Zeit","Hindernisfehler","Zeit","Überzeit","gerundete Überzeit","Zeitfehler","Total Fehler",null,null,"Zeit",null,null,null,"Fehler",null,null,"Erlaubte Zeit","Hindernisfehler","Zeit","Überzeit","gerundete Überzeit","Zeitfehler","Total Fehler",null,null,"Zeit",null,null,null,"Fehler",null,null,"Erlaubte Zeit","Hindernisfehler","Zeit","Überzeit","gerundete Überzeit","Zeitfehler","Total Fehler"]
[null,106,"Nichtstarter",null,null,{"$f":"IF(E57=\"\",1,2)","v":1},{"$f":"IF(F57=1,L$6,L$7)","v":188},null,null,{"$f":"IF(I57>G57,(I57-G57),0)","v":0},{"$f":"ROUNDUP(J57,0)","v":0},{"$f":"K57*L$8","v":0},{"$f":"H57+L57","v":0},{"$f":"IF(R57=S57,\"x\",\"\")","v":""},{"$f":"IF(M57=U57,\"x\",\"\")","v":"x"},{"$f":"IF(N57=\"\",I57,\"0\")","v":0},{"$f":"IF(O57=\"\",\"0\",I57)","v":0},{"$f":"Q57+0.001","v":1E-3},{"$f":"AI57","v":6.0000000000000001E-3},{"$f":"IF(N57=\"\",M57,\"0\")","v":0},{"$f":"AK57","v":0},null,{"$f":"IF($F57=1,AB$6,AB$7)","v":180},null,null,{"$f":"IF(Y57>W57,(Y57-W57),0)","v":0},{"$f":"ROUNDUP(Z57,0)","v":0},{"$f":"AA57*AB$8","v":0},{"$f":"X57+AB57","v":0},{"$f":"IF(AH57=AI57,\"x\",\"\")","v":""},{"$f":"IF(AC57=AK57,\"x\",\"\")","v":"x"},{"$f":"IF(AD57=\"\",Y57,\"0\")","v":0},{"$f":"IF(AE57=\"\",\"0\",Y57)","v":0},{"$f":"AG57+0.004","v":4.0000000000000001E-3},{"$f":"LARGE((AH57:AH59,R57:R59),1)","v":6.0000000000000001E-3},{"$f":"IF(AD57=\"\",AC57,\"0\")","v":0},{"$f":"LARGE((AC57:AC59,M57:M59),1)","v":0},null,{"$f":"IF($F57=1,AR$6,AR$7)","v":180},null,null,{"$f":"IF(AO57>AM57,(AO57-AM57),0)","v":0},{"$f":"ROUNDUP(AP57,0)","v":0},{"$f":"AQ57*AR$8","v":0},{"$f":"AN57+AR57","v":0}]
[null,206,"Nichtstarter",null,null,{"$f":"IF(E58=\"\",1,2)","v":1},{"$f":"IF(F58=1,L$6,L$7)","v":188},null,null,{"$f":"IF(I58>G58,(I58-G58),0)","v":0},{"$f":"ROUNDUP(J58,0)","v":0},{"$f":"K58*L$8","v":0},{"$f":"H58+L58","v":0},{"$f":"IF(R58=S57,\"x\",\"\")","v":""},{"$f":"IF(M58=U57,\"x\",\"\")","v":"x"},{"$f":"IF(N58=\"\",I58,\"0\")","v":0},{"$f":"IF(O58=\"\",\"0\",I58)","v":0},{"$f":"Q58+0.002","v":2E-3},null,{"$f":"IF(N58=\"\",M58,\"0\")","v":0},null,null,{"$f":"IF($F58=1,AB$6,AB$7)","v":180},null,null,{"$f":"IF(Y58>W58,(Y58-W58),0)","v":0},{"$f":"ROUNDUP(Z58,0)","v":0},{"$f":"AA58*AB$8","v":0},{"$f":"X58+AB58","v":0},{"$f":"IF(AH58=AI57,\"x\",\"\")","v":""},{"$f":"IF(AC58=AK57,\"x\",\"\")","v":"x"},{"$f":"IF(AD58=\"\",Y58,\"0\")","v":0},{"$f":"IF(AE58=\"\",\"0\",Y58)","v":0},{"$f":"AG58+0.005","v":5.0000000000000001E-3},null,{"$f":"IF(AD58=\"\",AC58,\"0\")","v":0},null,null,{"$f":"IF($F58=1,AR$6,AR$7)","v":180},null,null,{"$f":"IF(AO58>AM58,(AO58-AM58),0)","v":0},{"$f":"ROUNDUP(AP58,0)","v":0},{"$f":"AQ58*AR$8","v":0},{"$f":"AN58+AR58","v":0}]
[null,306,"Nichtstarter",null,null,1,188,null,null,0,0,0,0,{"$f":"IF(R59=S57,\"x\",\"\")","v":""},{"$f":"IF(M59=U57,\"x\",\"\")","v":"x"},{"$f":"IF(N59=\"\",I59,\"0\")","v":0},{"$f":"IF(O59=\"\",\"0\",I59)","v":0},{"$f":"Q59+0.003","v":3.0000000000000001E-3},null,{"$f":"IF(N59=\"\",M59,\"0\")","v":0},null,null,180,null,null,0,0,0,0,{"$f":"IF(AH59=AI57,\"x\",\"\")","v":"x"},{"$f":"IF(AC59=AK57,\"x\",\"\")","v":"x"},{"$f":"IF(AD59=\"\",Y59,\"0\")","v":"0"},{"$f":"IF(AE59=\"\",\"0\",Y59)","v":0},{"$f":"AG59+0.006","v":6.0000000000000001E-3},null,{"$f":"IF(AD59=\"\",AC59,\"0\")","v":"0"},null,null,180,null,null,0,0,0,0]
[]
[null,null,null,null,null,null,null,null,null,null,null,null,null,null,null,null,null,null,null,null,null,null,null,null,null,null,null,"Fehler",{"$f":"IF(C55=\"Nichtstarter\",\"NS\",IF(SUM(T57+T58+T59+AJ57+AJ58+AJ59)>998,\"Disqual.\",(SUM(T57+T58+T59+AJ57+AJ58+AJ59))))","v":"NS"},null,null,null,null,null,null,null,null,null,null,null,null,null,null,"Fehler",{"$f":"AS57+AS58+AS59","v":0}]
[null,null,null,null,null,null,null,null,null,null,null,null,null,null,null,null,null,null,null,null,null,null,null,null,null,null,null,"Zeit",{"$f":"IF(C55=\"Nichtstarter\",\"NS\",IF(SUM(T57+T58+T59+AJ57+AJ58+AJ59)>998,\"Disqual.\",(SUM(P57+P58+P59+AF57+AF58+AF59))))","v":"NS"},null,null,null,null,null,null,null,null,null,null,null,null,null,null,"Zeit",{"$f":"AO57+AO58+AO59","v":0}]
[]
[7,"Equipe:","Nichtstarter",null,null,null,null,"Umgang 1",null,null,null,null,null,null,null,null,null,null,null,null,null,null,null,"Umgang 2",null,null,null,null,null,null,null,null,null,null,null,null,null,null,null,"Stechen",null,null,null,null,null,"um Rang"]
[null,null,"Fahrer","Pferd 1","Pferd 2","1.- oder 2. Spänner","Erlaubte Zeit","Hindernisfehler","Zeit","Überzeit","gerundete Überzeit","Zeitfehler","Total Fehler",null,null,"Zeit",null,null,null,"Fehler",null,null,"Erlaubte Zeit","Hindernisfehler","Zeit","Überzeit","gerundete Überzeit","Zeitfehler","Total Fehler",null,null,"Zeit",null,null,null,"Fehler",null,null,"Erlaubte Zeit","Hindernisfehler","Zeit","Überzeit","gerundete Überzeit","Zeitfehler","Total Fehler"]
[null,107,"Nichtstarter",null,null,{"$f":"IF(E66=\"\",1,2)","v":1},{"$f":"IF(F66=1,L$6,L$7)","v":188},null,null,{"$f":"IF(I66>G66,(I66-G66),0)","v":0},{"$f":"ROUNDUP(J66,0)","v":0},{"$f":"K66*L$8","v":0},{"$f":"H66+L66","v":0},{"$f":"IF(R66=S66,\"x\",\"\")","v":""},{"$f":"IF(M66=U66,\"x\",\"\")","v":"x"},{"$f":"IF(N66=\"\",I66,\"0\")","v":0},{"$f":"IF(O66=\"\",\"0\",I66)","v":0},{"$f":"Q66+0.001","v":1E-3},{"$f":"AI66","v":6.0000000000000001E-3},{"$f":"IF(N66=\"\",M66,\"0\")","v":0},{"$f":"AK66","v":0},null,{"$f":"IF($F66=1,AB$6,AB$7)","v":180},null,null,{"$f":"IF(Y66>W66,(Y66-W66),0)","v":0},{"$f":"ROUNDUP(Z66,0)","v":0},{"$f":"AA66*AB$8","v":0},{"$f":"X66+AB66","v":0},{"$f":"IF(AH66=AI66,\"x\",\"\")","v":""},{"$f":"IF(AC66=AK66,\"x\",\"\")","v":"x"},{"$f":"IF(AD66=\"\",Y66,\"0\")","v":0},{"$f":"IF(AE66=\"\",\"0\",Y66)","v":0},{"$f":"AG66+0.004","v":4.0000000000000001E-3},{"$f":"LARGE((AH66:AH68,R66:R68),1)","v":6.0000000000000001E-3},{"$f":"IF(AD66=\"\",AC66,\"0\")","v":0},{"$f":"LARGE((AC66:AC68,M66:M68),1)","v":0},null,{"$f":"IF($F66=1,AR$6,AR$7)","v":180},null,null,{"$f":"IF(AO66>AM66,(AO66-AM66),0)","v":0},{"$f":"ROUNDUP(AP66,0)","v":0},{"$f":"AQ66*AR$8","v":0},{"$f":"AN66+AR66","v":0}]
[null,207,"Nichtstarter",null,null,{"$f":"IF(E67=\"\",1,2)","v":1},{"$f":"IF(F67=1,L$6,L$7)","v":188},null,null,{"$f":"IF(I67>G67,(I67-G67),0)","v":0},{"$f":"ROUNDUP(J67,0)","v":0},{"$f":"K67*L$8","v":0},{"$f":"H67+L67","v":0},{"$f":"IF(R67=S66,\"x\",\"\")","v":""},{"$f":"IF(M67=U66,\"x\",\"\")","v":"x"},{"$f":"IF(N67=\"\",I67,\"0\")","v":0},{"$f":"IF(O67=\"\",\"0\",I67)","v":0},{"$f":"Q67+0.002","v":2E-3},null,{"$f":"IF(N67=\"\",M67,\"0\")","v":0},null,null,{"$f":"IF($F67=1,AB$6,AB$7)","v":180},null,null,{"$f":"IF(Y67>W67,(Y67-W67),0)","v":0},{"$f":"ROUNDUP(Z67,0)","v":0},{"$f":"AA67*AB$8","v":0},{"$f":"X67+AB67","v":0},{"$f":"IF(AH67=AI66,\"x\",\"\")","v":""},{"$f":"IF(AC67=AK66,\"x\",\"\")","v":"x"},{"$f":"IF(AD67=\"\",Y67,\"0\")","v":0},{"$f":"IF(AE67=\"\",\"0\",Y67)","v":0},{"$f":"AG67+0.005","v":5.0000000000000001E-3},null,{"$f":"IF(AD67=\"\",AC67,\"0\")","v":0},null,null,{"$f":"IF($F67=1,AR$6,AR$7)","v":180},null,null,{"$f":"IF(AO67>AM67,(AO67-AM67),0)","v":0},{"$f":"ROUNDUP(AP67,0)","v":0},{"$f":"AQ67*AR$8","v":0},{"$f":"AN67+AR67","v":0}]
[null,307,"Nichtstarter",null,null,1,188,null,null,0,0,0,0,{"$f":"IF(R68=S66,\"x\",\"\")","v":""},{"$f":"IF(M68=U66,\"x\",\"\")","v":"x"},{"$f":"IF(N68=\"\",I68,\"0\")","v":0},{"$f":"IF(O68=\"\",\"0\",I68)","v":0},{"$f":"Q68+0.003","v":3.0000000000000001E-3},null,{"$f":"IF(N68=\"\",M68,\"0\")","v":0},null,null,180,null,null,0,0,0,0,{"$f":"IF(AH68=AI66,\"x\",\"\")","v":"x"},{"$f":"IF(AC68=AK66,\"x\",\"\")","v":"x"},{"$f":"IF(AD68=\"\",Y68,\"0\")","v":"0"},{"$f":"IF(AE68=\"\",\"0\",Y68)","v":0},{"$f":"AG68+0.006","v":6.0000000000000001E-3},null,{"$f":"IF(AD68=\"\",AC68,\"0\")","v":"0"},null,null,180,null,null,0,0,0,0]
[]
[null,null,null,null,null,null,null,null,null,null,null,null,null,null,null,null,null,null,null,null,null,null,null,null,null,null,null,"Fehler",{"$f":"IF(C64=\"Nichtstarter\",\"NS\",IF(SUM(T66+T67+T68+AJ66+AJ67+AJ68)>998,\"Disqual.\",(SUM(T66+T67+T68+AJ66+AJ67+AJ68))))","v":"NS"},null,null,null,null,null,null,null,null,null,null,null,null,null,null,"Fehler",{"$f":"AS66+AS67+AS68","v":0}]
[null,null,null,null,null,null,null,null,null,null,null,null,null,null,null,null,null,null,null,null,null,null,null,null,null,null,null,"Zeit",{"$f":"IF(C64=\"Nichtstarter\",\"NS\",IF(SUM(T66+T67+T68+AJ66+AJ67+AJ68)>998,\"Disqual.\",(SUM(P66+P67+P68+AF66+AF67+AF68))))","v":"NS"},null,null,null,null,null,null,null,null,null,null,null,null,null,null,"Zeit",{"$f":"AO66+AO67+AO68","v":0}]
[]
[8,"Equipe:","Nichtstarter",null,null,null,null,"Umgang 1",null,null,null,null,null,null,null,null,null,null,null,null,null,null,null,"Umgang 2",null,null,null,null,null,null,null,null,null,null,null,null,null,null,null,"Stechen",null,null,null,null,null,"um Rang"]
[null,null,"Fahrer","Pferd 1","Pferd 2","1.- oder 2. Spänner","Erlaubte Zeit","Hindernisfehler","Zeit","Überzeit","gerundete Überzeit","Zeitfehler","Total Fehler",null,null,"Zeit",null,null,null,"Fehler",null,null,"Erlaubte Zeit","Hindernisfehler","Zeit","Überzeit","gerundete Überzeit","Zeitfehler","Total Fehler",null,null,"Zeit",null,null,null,"Fehler",null,null,"Erlaubte Zeit","Hindernisfehler","Zeit","Überzeit","gerundete Überzeit","Zeitfehler","Total Fehler"]
[null,108,"Nichtstarter",null,null,{"$f":"IF(E75=\"\",1,2)","v":1},{"$f":"IF(F75=1,L$6,L$7)","v":188},null,null,{"$f":"IF(I75>G75,(I75-G75),0)","v":0},{"$f":"ROUNDUP(J75,0)","v":0},{"$f":"K75*L$8","v":0},{"$f":"H75+L75","v":0},{"$f":"IF(R75=S75,\"x\",\"\")","v":""},{"$f":"IF(M75=U75,\"x\",\"\")","v":"x"},{"$f":"IF(N75=\"\",I75,\"0\")","v":0},{"$f":"IF(O75=\"\",\"0\",I75)","v":0},{"$f":"Q75+0.001","v":1E-3},{"$f":"AI75","v":6.0000000000000001E-3},{"$f":"IF(N75=\"\",M75,\"0\")","v":0},{"$f":"AK75","v":0},null,{"$f":"IF($F75=1,AB$6,AB$7)","v":180},null,null,{"$f":"IF(Y75>W75,(Y75-W75),0)","v":0},{"$f":"ROUNDUP(Z75,0)","v":0},{"$f":"AA75*AB$8","v":0},{"$f":"X75+AB75","v":0},{"$f":"IF(AH75=AI75,\"x\",\"\")","v":""},{"$f":"IF(AC75=AK75,\"x\",\"\")","v":"x"},{"$f":"IF(AD75=\"\",Y75,\"0\")","v":0},{"$f":"IF(AE75=\"\",\"0\",Y75)","v":0},{"$f":"AG75+0.004","v":4.0000000000000001E-3},{"$f":"LARGE((AH75:AH77,R75:R77),1)","v":6.0000000000000001E-3},{"$f":"IF(AD75=\"\",AC75,\"0\")","v":0},{"$f":"LARGE((AC75:AC77,M75:M77),1)","v":0},null,{"$f":"IF($F75=1,AR$6,AR$7)","v":180},null,null,{"$f":"IF(AO75>AM75,(AO75-AM75),0)","v":0},{"$f":"ROUNDUP(AP75,0)","v":0},{"$f":"AQ75*AR$8","v":0},{"$f":"AN75+AR75","v":0}]
[null,208,"Nichtstarter",null,null,{"$f":"IF(E76=\"\",1,2)","v":1},{"$f":"IF(F76=1,L$6,L$7)","v":188},null,null,{"$f":"IF(I76>G76,(I76-G76),0)","v":0},{"$f":"ROUNDUP(J76,0)","v":0},{"$f":"K76*L$8","v":0},{"$f":"H76+L76","v":0},{"$f":"IF(R76=S75,\"x\",\"\")","v":""},{"$f":"IF(M76=U75,\"x\",\"\")","v":"x"},{"$f":"IF(N76=\"\",I76,\"0\")","v":0},{"$f":"IF(O76=\"\",\"0\",I76)","v":0},{"$f":"Q76+0.002","v":2E-3},null,{"$f":"IF(N76=\"\",M76,\"0\")","v":0},null,null,{"$f":"IF($F76=1,AB$6,AB$7)","v":180},null,null,{"$f":"IF(Y76>W76,(Y76-W76),0)","v":0},{"$f":"ROUNDUP(Z76,0)","v":0},{"$f":"AA76*AB$8","v":0},{"$f":"X76+AB76","v":0},{"$f":"IF(AH76=AI75,\"x\",\"\")","v":""},{"$f":"IF(AC76=AK75,\"x\",\"\")","v":"x"},{"$f":"IF(AD76=\"\",Y76,\"0\")","v":0},{"$f":"IF(AE76=\"\",\"0\",Y76)","v":0},{"$f":"AG76+0.005","v":5.0000000000000001E-3},null,{"$f":"IF(AD76=\"\",AC76,\"0\")","v":0},null,null,{"$f":"IF($F76=1,AR$6,AR$7)","v":180},null,null,{"$f":"IF(AO76>AM76,(AO76-AM76),0)","v":0},{"$f":"ROUNDUP(AP76,0)","v":0},{"$f":"AQ76*AR$8","v":0},{"$f":"AN76+AR76","v":0}]
[null,308,"Nichtstarter",null,null,1,188,null,null,0,0,0,0,{"$f":"IF(R77=S75,\"x\",\"\")","v":""},{"$f":"IF(M77=U75,\"x\",\"\")","v":"x"},{"$f":"IF(N77=\"\",I77,\"0\")","v":0},{"$f":"IF(O77=\"\",\"0\",I77)","v":0},{"$f":"Q77+0.003","v":3.0000000000000001E-3},null,{"$f":"IF(N77=\"\",M77,\"0\")","v":0},null,null,180,null,null,0,0,0,0,{"$f":"IF(AH77=AI75,\"x\",\"\")","v":"x"},{"$f":"IF(AC77=AK75,\"x\",\"\")","v":"x"},{"$f":"IF(AD77=\"\",Y77,\"0\")","v":"0"},{"$f":"IF(AE77=\"\",\"0\",Y77)","v":0},{"$f":"AG77+0.006","v":6.0000000000000001E-3},null,{"$f":"IF(AD77=\"\",AC77,\"0\")","v":"0"},null,null,180,null,null,0,0,0,0]
[]
[null,null,null,null,null,null,null,null,null,null,null,null,null,null,null,null,null,null,null,null,null,null,null,null,null,null,null,"Fehler",{"$f":"IF(C73=\"Nichtstarter\",\"NS\",IF(SUM(T75+T76+T77+AJ75+AJ76+AJ77)>998,\"Disqual.\",(SUM(T75+T76+T77+AJ75+AJ76+AJ77))))","v":"NS"},null,null,null,null,null,null,null,null,null,null,null,null,null,null,"Fehler",{"$f":"AS75+AS76+AS77","v":0}]
[null,null,null,null,null,null,null,null,null,null,null,null,null,null,null,null,null,null,null,null,null,null,null,null,null,null,null,"Zeit",{"$f":"IF(C73=\"Nichtstarter\",\"NS\",IF(SUM(T75+T76+T77+AJ75+AJ76+AJ77)>998,\"Disqual.\",(SUM(P75+P76+P77+AF75+AF76+AF77))))","v":"NS"},null,null,null,null,null,null,null,null,null,null,null,null,null,null,"Zeit",{"$f":"AO75+AO76+AO77","v":0}]
[]
[9,"Equipe:","Nichtstarter",null,null,null,null,"Umgang 1",null,null,null,null,null,null,null,null,null,null,null,null,null,null,null,"Umgang 2",null,null,null,null,null,null,null,null,null,null,null,null,null,null,null,"Stechen",null,null,null,null,null,"um Rang"]
[null,null,"Fahrer","Pferd 1","Pferd 2","1.- oder 2. Spänner","Erlaubte Zeit","Hindernisfehler","Zeit","Überzeit","gerundete Überzeit","Zeitfehler","Total Fehler",null,null,"Zeit",null,null,null,"Fehler",null,null,"Erlaubte Zeit","Hindernisfehler","Zeit","Überzeit","gerundete Überzeit","Zeitfehler","Total Fehler",null,null,"Zeit",null,null,null,"Fehler",null,null,"Erlaubte Zeit","Hindernisfehler","Zeit","Überzeit","gerundete Überzeit","Zeitfehler","Total Fehler"]
[null,109,"Nichtstarter",null,null,{"$f":"IF(E84=\"\",1,2)","v":1},{"$f":"IF(F84=1,L$6,L$7)","v":188},null,null,{"$f":"IF(I84>G84,(I84-G84),0)","v":0},{"$f":"ROUNDUP(J84,0)","v":0},{"$f":"K84*L$8","v":0},{"$f":"H84+L84","v":0},{"$f":"IF(R84=S84,\"x\",\"\")","v":""},{"$f":"IF(M84=U84,\"x\",\"\")","v":"x"},{"$f":"IF(N84=\"\",I84,\"0\")","v":0},{"$f":"IF(O84=\"\",\"0\",I84)","v":0},{"$f":"Q84+0.001","v":1E-3},{"$f":"AI84","v":6.0000000000000001E-3},{"$f":"IF(N84=\"\",M84,\"0\")","v":0},{"$f":"AK84","v":0},null,{"$f":"IF($F84=1,AB$6,AB$7)","v":180},null,null,{"$f":"IF(Y84>W84,(Y84-W84),0)","v":0},{"$f":"ROUNDUP(Z84,0)","v":0},{"$f":"AA84*AB$8","v":0},{"$f":"X84+AB84","v":0},{"$f":"IF(AH84=AI84,\"x\",\"\")","v":""},{"$f":"IF(AC84=AK84,\"x\",\"\")","v":"x"},{"$f":"IF(AD84=\"\",Y84,\"0\")","v":0},{"$f":"IF(AE84=\"\",\"0\",Y84)","v":0},{"$f":"AG84+0.004","v":4.0000000000000001E-3},{"$f":"LARGE((AH84:AH86,R84:R86),1)","v":6.0000000000000001E-3},{"$f":"IF(AD84=\"\",AC84,\"0\")","v":0},{"$f":"LARGE((AC84:AC86,M84:M86),1)","v":0},null,{"$f":"IF($F84=1,AR$6,AR$7)","v":180},null,null,{"$f":"IF(AO84>AM84,(AO84-AM84),0)","v":0},{"$f":"ROUNDUP(AP84,0)","v":0},{"$f":"AQ84*AR$8","v":0},{"$f":"AN84+AR84","v":0}]
[null,209,"Nichtstarter",null,null,{"$f":"IF(E85=\"\",1,2)","v":1},{"$f":"IF(F85=1,L$6,L$7)","v":188},null,null,{"$f":"IF(I85>G85,(I85-G85),0)","v":0},{"$f":"ROUNDUP(J85,0)","v":0},{"$f":"K85*L$8","v":0},{"$f":"H85+L85","v":0},{"$f":"IF(R85=S84,\"x\",\"\")","v":""},{"$f":"IF(M85=U84,\"x\",\"\")","v":"x"},{"$f":"IF(N85=\"\",I85,\"0\")","v":0},{"$f":"IF(O85=\"\",\"0\",I85)","v":0},{"$f":"Q85+0.002","v":2E-3},null,{"$f":"IF(N85=\"\",M85,\"0\")","v":0},null,null,{"$f":"IF($F85=1,AB$6,AB$7)","v":180},null,null,{"$f":"IF(Y85>W85,(Y85-W85),0)","v":0},{"$f":"ROUNDUP(Z85,0)","v":0},{"$f":"AA85*AB$8","v":0},{"$f":"X85+AB85","v":0},{"$f":"IF(AH85=AI84,\"x\",\"\")","v":""},{"$f":"IF(AC85=AK84,\"x\",\"\")","v":"x"},{"$f":"IF(AD85=\"\",Y85,\"0\")","v":0},{"$f":"IF(AE85=\"\",\"0\",Y85)","v":0},{"$f":"AG85+0.005","v":5.0000000000000001E-3},null,{"$f":"IF(AD85=\"\",AC85,\"0\")","v":0},null,null,{"$f":"IF($F85=1,AR$6,AR$7)","v":180},null,null,{"$f":"IF(AO85>AM85,(AO85-AM85),0)","v":0},{"$f":"ROUNDUP(AP85,0)","v":0},{"$f":"AQ85*AR$8","v":0},{"$f":"AN85+AR85","v":0}]
[null,309,"Nichtstarter",null,null,1,188,null,null,0,0,0,0,{"$f":"IF(R86=S84,\"x\",\"\")","v":""},{"$f":"IF(M86=U84,\"x\",\"\")","v":"x"},{"$f":"IF(N86=\"\",I86,\"0\")","v":0},{"$f":"IF(O86=\"\",\"0\",I86)","v":0},{"$f":"Q86+0.003","v":3.0000000000000001E-3},null,{"$f":"IF(N86=\"\",M86,\"0\")","v":0},null,null,180,null,null,0,0,0,0,{"$f":"IF(AH86=AI84,\"x\",\"\")","v":"x"},{"$f":"IF(AC86=AK84,\"x\",\"\")","v":"x"},{"$f":"IF(AD86=\"\",Y86,\"0\")","v":"0"},{"$f":"IF(AE86=\"\",\"0\",Y86)","v":0},{"$f":"AG86+0.006","v":6.0000000000000001E-3},null,{"$f":"IF(AD86=\"\",AC86,\"0\")","v":"0"},null,null,180,null,null,0,0,0,0]
[]
[null,null,null,null,null,null,null,null,null,null,null,null,null,null,null,null,null,null,null,null,null,null,null,null,null,null,null,"Fehler",{"$f":"IF(C82=\"Nichtstarter\",\"NS\",IF(SUM(T84+T85+T86+AJ84+AJ85+AJ86)>998,\"Disqual.\",(SUM(T84+T85+T86+AJ84+AJ85+AJ86))))","v":"NS"},null,null,null,null,null,null,null,null,null,null,null,null,null,null,"Fehler",{"$f":"AS84+AS85+AS86","v":0}]
[null,null,null,null,null,null,null,null,null,null,null,null,null,null,null,null,null,null,null,null,null,null,null,null,null,null,null,"Zeit",{"$f":"IF(C82=\"Nichtstarter\",\"NS\",IF(SUM(T84+T85+T86+AJ84+AJ85+AJ86)>998,\"Disqual.\",(SUM(P84+P85+P86+AF84+AF85+AF86))))","v":"NS"},null,null,null,null,null,null,null,null,null,null,null,null,null,null,"Zeit",{"$f":"AO84+AO85+AO86","v":0}]
[]
[10,"Equipe:","Nichtstarter",null,null,null,null,"Umgang 1",null,null,null,null,null,null,null,null,null,null,null,null,null,null,null,"Umgang 2",null,null,null,null,null,null,null,null,null,null,null,null,null,null,null,"Stechen",null,null,null,null,null,"um Rang"]
[null,null,"Fahrer","Pferd 1","Pferd 2","1.- oder 2. Spänner","Erlaubte Zeit","Hindernisfehler","Zeit","Überzeit","gerundete Überzeit","Zeitfehler","Total Fehler",null,null,"Zeit",null,null,null,"Fehler",null,null,"Erlaubte Zeit","Hindernisfehler","Zeit","Überzeit","gerundete Überzeit","Zeitfehler","Total Fehler",null,null,"Zeit",null,null,null,"Fehler",null,null,"Erlaubte Zeit","Hindernisfehler","Zeit","Überzeit","gerundete Überzeit","Zeitfehler","Total Fehler"]
[null,110,"Nichtstarter",null,null,{"$f":"IF(E93=\"\",1,2)","v":1},{"$f":"IF(F93=1,L$6,L$7)","v":188},null,null,{"$f":"IF(I93>G93,(I93-G93),0)","v":0},{"$f":"ROUNDUP(J93,0)","v":0},{"$f":"K93*L$8","v":0},{"$f":"H93+L93","v":0},{"$f":"IF(R93=S93,\"x\",\"\")","v":""},{"$f":"IF(M93=U93,\"x\",\"\")","v":"x"},{"$f":"IF(N93=\"\",I93,\"0\")","v":0},{"$f":"IF(O93=\"\",\"0\",I93)","v":0},{"$f":"Q93+0.001","v":1E-3},{"$f":"AI93","v":6.0000000000000001E-3},{"$f":"IF(N93=\"\",M93,\"0\")","v":0},{"$f":"AK93","v":0},null,{"$f":"IF($F93=1,AB$6,AB$7)","v":180},null,null,{"$f":"IF(Y93>W93,(Y93-W93),0)","v":0},{"$f":"ROUNDUP(Z93,0)","v":0},{"$f":"AA93*AB$8","v":0},{"$f":"X93+AB93","v":0},{"$f":"IF(AH93=AI93,\"x\",\"\")","v":""},{"$f":"IF(AC93=AK93,\"x\",\"\")","v":"x"},{"$f":"IF(AD93=\"\",Y93,\"0\")","v":0},{"$f":"IF(AE93=\"\",\"0\",Y93)","v":0},{"$f":"AG93+0.004","v":4.0000000000000001E-3},{"$f":"LARGE((AH93:AH95,R93:R95),1)","v":6.0000000000000001E-3},{"$f":"IF(AD93=\"\",AC93,\"0\")","v":0},{"$f":"LARGE((AC93:AC95,M93:M95),1)","v":0},null,{"$f":"IF($F93=1,AR$6,AR$7)","v":180},null,null,{"$f":"IF(AO93>AM93,(AO93-AM93),0)","v":0},{"$f":"ROUNDUP(AP93,0)","v":0},{"$f":"AQ93*AR$8","v":0},{"$f":"AN93+AR93","v":0}]
[null,210,"Nichtstarter",null,null,{"$f":"IF(E94=\"\",1,2)","v":1},{"$f":"IF(F94=1,L$6,L$7)","v":188},null,null,{"$f":"IF(I94>G94,(I94-G94),0)","v":0},{"$f":"ROUNDUP(J94,0)","v":0},{"$f":"K94*L$8","v":0},{"$f":"H94+L94","v":0},{"$f":"IF(R94=S93,\"x\",\"\")","v":""},{"$f":"IF(M94=U93,\"x\",\"\")","v":"x"},{"$f":"IF(N94=\"\",I94,\"0\")","v":0},{"$f":"IF(O94=\"\",\"0\",I94)","v":0},{"$f":"Q94+0.002","v":2E-3},null,{"$f":"IF(N94=\"\",M94,\"0\")","v":0},null,null,{"$f":"IF($F94=1,AB$6,AB$7)","v":180},null,null,{"$f":"IF(Y94>W94,(Y94-W94),0)","v":0},{"$f":"ROUNDUP(Z94,0)","v":0},{"$f":"AA94*AB$8","v":0},{"$f":"X94+AB94","v":0},{"$f":"IF(AH94=AI93,\"x\",\"\")","v":""},{"$f":"IF(AC94=AK93,\"x\",\"\")","v":"x"},{"$f":"IF(AD94=\"\",Y94,\"0\")","v":0},{"$f":"IF(AE94=\"\",\"0\",Y94)","v":0},{"$f":"AG94+0.005","v":5.0000000000000001E-3},null,{"$f":"IF(AD94=\"\",AC94,\"0\")","v":0},null,null,{"$f":"IF($F94=1,AR$6,AR$7)","v":180},null,null,{"$f":"IF(AO94>AM94,(AO94-AM94),0)","v":0},{"$f":"ROUNDUP(AP94,0)","v":0},{"$f":"AQ94*AR$8","v":0},{"$f":"AN94+AR94","v":0}]
[null,310,"Nichtstarter",null,null,1,188,null,null,0,0,0,0,{"$f":"IF(R95=S93,\"x\",\"\")","v":""},{"$f":"IF(M95=U93,\"x\",\"\")","v":"x"},{"$f":"IF(N95=\"\",I95,\"0\")","v":0},{"$f":"IF(O95=\"\",\"0\",I95)","v":0},{"$f":"Q95+0.003","v":3.0000000000000001E-3},null,{"$f":"IF(N95=\"\",M95,\"0\")","v":0},null,null,180,null,null,0,0,0,0,{"$f":"IF(AH95=AI93,\"x\",\"\")","v":"x"},{"$f":"IF(AC95=AK93,\"x\",\"\")","v":"x"},{"$f":"IF(AD95=\"\",Y95,\"0\")","v":"0"},{"$f":"IF(AE95=\"\",\"0\",Y95)","v":0},{"$f":"AG95+0.006","v":6.0000000000000001E-3},null,{"$f":"IF(AD95=\"\",AC95,\"0\")","v":"0"},null,null,180,null,null,0,0,0,0]
[]
[null,null,null,null,null,null,null,null,null,null,null,null,null,null,null,null,null,null,null,null,null,null,null,null,null,null,null,"Fehler",{"$f":"IF(C91=\"Nichtstarter\",\"NS\",IF(SUM(T93+T94+T95+AJ93+AJ94+AJ95)>998,\"Disqual.\",(SUM(T93+T94+T95+AJ93+AJ94+AJ95))))","v":"NS"},null,null,null,null,null,null,null,null,null,null,null,null,null,null,"Fehler",{"$f":"AS93+AS94+AS95","v":0}]
[null,null,null,null,null,null,null,null,null,null,null,null,null,null,null,null,null,null,null,null,null,null,null,null,null,null,null,"Zeit",{"$f":"IF(C91=\"Nichtstarter\",\"NS\",IF(SUM(T93+T94+T95+AJ93+AJ94+AJ95)>998,\"Disqual.\",(SUM(P93+P94+P95+AF93+AF94+AF95))))","v":"NS"},null,null,null,null,null,null,null,null,null,null,null,null,null,null,"Zeit",{"$f":"AO93+AO94+AO95","v":0}]

{"sheet":"Rangliste","index":1,"n_rows":19,"n_cols":10,"rows_kept":19,"cut":false,"hidden":false,"merged":[[7,3,7,5],[7,7,7,9],[1,3,1,8],[2,3,2,8]]}
["Rangliste Fahrprüfung"]
[{"$f":"Prüfung!A2","v":"Turnier:"},null,null,{"$f":"IF(Prüfung!C2=\"\",\"\",Prüfung!C2)","v":"_____________________________"}]
[{"$f":"Prüfung!A3","v":"Wettbewerb:"},null,null,{"$f":"IF(Prüfung!C3=\"\",\"\",Prüfung!C3)","v":"_____________________________"}]
[]
[{"$f":"Prüfung!A5","v":"Excel-Tool-Version:"},null,null,{"$f":"Prüfung!D5","v":1.3}]
[{"$f":"Prüfung!A6","v":"Neuste Versionen unter:"},null,null,{"$f":"Prüfung!D6","v":"www.david-stadelmann.ch"}]
[]
[null,null,null,"Normalumgänge",null,null,null,"Stechen"]
["Rang","Start-Nr.","Equipe","Fehler","Fehler Streichresultat","Zeit",null,"Fehler","Zeit","Stechen um Rang"]
[1,1,{"$f":"Prüfung!C10","v":"Nichtstarter"},{"$f":"Prüfung!AC16","v":"NS"},{"$f":"IF(Prüfung!AC16=\"Disqual.\",\"Disqual.\",IF(Prüfung!N12=\"X\",Prüfung!M12,IF(Prüfung!N13=\"X\",Prüfung!M13,IF(Prüfung!N14=\"X\",Prüfung!M14,IF(Prüfung!AD12=\"X\",Prüfung!AC12,IF(Prüfung!AD13=\"X\",Prüfung!AC13,IF(Prüfung!AD14=\"X\",Prüfung!AC14,0)))))))","v":0},{"$f":"Prüfung!AC17","v":"NS"},null,{"$f":"Prüfung!AS16","v":0},{"$f":"Prüfung!AS17","v":0},{"$f":"IF(Prüfung!AT$11=\"\",\"0\",Prüfung!AT$11)","v":"0"}]
[2,2,{"$f":"Prüfung!C19","v":"Nichtstarter"},{"$f":"Prüfung!AC25","v":"NS"},{"$f":"IF(Prüfung!AC25=\"Disqual.\",\"Disqual.\",IF(Prüfung!N21=\"X\",Prüfung!M21,IF(Prüfung!N22=\"X\",Prüfung!M22,IF(Prüfung!N23=\"X\",Prüfung!M23,IF(Prüfung!AD21=\"X\",Prüfung!AC21,IF(Prüfung!AD22=\"X\",Prüfung!AC22,IF(Prüfung!AD23=\"X\",Prüfung!AC23,0)))))))","v":0},{"$f":"Prüfung!AC26","v":"NS"},null,{"$f":"Prüfung!AS25","v":0},{"$f":"Prüfung!AS26","v":0},{"$f":"IF(Prüfung!AT$20=\"\",\"0\",Prüfung!AT$20)","v":"0"}]
[3,3,{"$f":"Prüfung!C28","v":"Nichtstarter"},{"$f":"Prüfung!AC34","v":"NS"},{"$f":"IF(Prüfung!AC34=\"Disqual.\",\"Disqual.\",IF(Prüfung!N30=\"X\",Prüfung!M30,IF(Prüfung!N31=\"X\",Prüfung!M31,IF(Prüfung!N32=\"X\",Prüfung!M32,IF(Prüfung!AD30=\"X\",Prüfung!AC30,IF(Prüfung!AD31=\"X\",Prüfung!AC31,IF(Prüfung!AD32=\"X\",Prüfung!AC32,0)))))))","v":0},{"$f":"Prüfung!AC35","v":"NS"},null,{"$f":"Prüfung!AS34","v":0},{"$f":"Prüfung!AS35","v":0},{"$f":"IF(Prüfung!AT$29=\"\",\"0\",Prüfung!AT$29)","v":"0"}]
[4,4,{"$f":"Prüfung!C37","v":"Nichtstarter"},{"$f":"Prüfung!AC43","v":"NS"},{"$f":"IF(Prüfung!AC43=\"Disqual.\",\"Disqual.\",IF(Prüfung!N39=\"X\",Prüfung!M39,IF(Prüfung!N40=\"X\",Prüfung!M40,IF(Prüfung!N41=\"X\",Prüfung!M41,IF(Prüfung!AD39=\"X\",Prüfung!AC39,IF(Prüfung!AD40=\"X\",Prüfung!AC40,IF(Prüfung!AD41=\"X\",Prüfung!AC41,0)))))))","v":0},{"$f":"Prüfung!AC44","v":"NS"},null,{"$f":"Prüfung!AS43","v":0},{"$f":"Prüfung!AS44","v":0},{"$f":"IF(Prüfung!AT$38=\"\",\"0\",Prüfung!AT$38)","v":"0"}]
[5,5,{"$f":"Prüfung!C46","v":"Nichtstarter"},{"$f":"Prüfung!AC52","v":"NS"},{"$f":"IF(Prüfung!AC52=\"Disqual.\",\"Disqual.\",IF(Prüfung!N48=\"X\",Prüfung!M48,IF(Prüfung!N49=\"X\",Prüfung!M49,IF(Prüfung!N50=\"X\",Prüfung!M50,IF(Prüfung!AD48=\"X\",Prüfung!AC48,IF(Prüfung!AD49=\"X\",Prüfung!AC49,IF(Prüfung!AD50=\"X\",Prüfung!AC50,0)))))))","v":0},{"$f":"Prüfung!AC53","v":"NS"},null,{"$f":"Prüfung!AS52","v":0},{"$f":"Prüfung!AS53","v":0},{"$f":"IF(Prüfung!AT$47=\"\",\"0\",Prüfung!AT$47)","v":"0"}]
[6,6,{"$f":"Prüfung!C55","v":"Nichtstarter"},{"$f":"Prüfung!AC61","v":"NS"},{"$f":"IF(Prüfung!AC61=\"Disqual.\",\"Disqual.\",IF(Prüfung!N57=\"X\",Prüfung!M57,IF(Prüfung!N58=\"X\",Prüfung!M58,IF(Prüfung!N59=\"X\",Prüfung!M59,IF(Prüfung!AD57=\"X\",Prüfung!AC57,IF(Prüfung!AD58=\"X\",Prüfung!AC58,IF(Prüfung!AD59=\"X\",Prüfung!AC59,0)))))))","v":0},{"$f":"Prüfung!AC62","v":"NS"},null,{"$f":"Prüfung!AS61","v":0},{"$f":"Prüfung!AS62","v":0},{"$f":"IF(Prüfung!AT$56=\"\",\"0\",Prüfung!AT$56)","v":"0"}]
[7,7,{"$f":"Prüfung!C64","v":"Nichtstarter"},{"$f":"Prüfung!AC70","v":"NS"},{"$f":"IF(Prüfung!AC70=\"Disqual.\",\"Disqual.\",IF(Prüfung!N66=\"X\",Prüfung!M66,IF(Prüfung!N67=\"X\",Prüfung!M67,IF(Prüfung!N68=\"X\",Prüfung!M68,IF(Prüfung!AD66=\"X\",Prüfung!AC66,IF(Prüfung!AD67=\"X\",Prüfung!AC67,IF(Prüfung!AD68=\"X\",Prüfung!AC68,0)))))))","v":0},{"$f":"Prüfung!AC71","v":"NS"},null,{"$f":"Prüfung!AS70","v":0},{"$f":"Prüfung!AS71","v":0},{"$f":"IF(Prüfung!AT$65=\"\",\"0\",Prüfung!AT$65)","v":"0"}]
[8,8,{"$f":"Prüfung!C73","v":"Nichtstarter"},{"$f":"Prüfung!AC79","v":"NS"},{"$f":"IF(Prüfung!AC79=\"Disqual.\",\"Disqual.\",IF(Prüfung!N75=\"X\",Prüfung!M75,IF(Prüfung!N76=\"X\",Prüfung!M76,IF(Prüfung!N77=\"X\",Prüfung!M77,IF(Prüfung!AD75=\"X\",Prüfung!AC75,IF(Prüfung!AD76=\"X\",Prüfung!AC76,IF(Prüfung!AD77=\"X\",Prüfung!AC77,0)))))))","v":0},{"$f":"Prüfung!AC80","v":"NS"},null,{"$f":"Prüfung!AS79","v":0},{"$f":"Prüfung!AS80","v":0},{"$f":"IF(Prüfung!AT$74=\"\",\"0\",Prüfung!AT$74)","v":"0"}]
[9,9,{"$f":"Prüfung!C82","v":"Nichtstarter"},{"$f":"Prüfung!AC88","v":"NS"},{"$f":"IF(Prüfung!AC88=\"Disqual.\",\"Disqual.\",IF(Prüfung!N84=\"X\",Prüfung!M84,IF(Prüfung!N85=\"X\",Prüfung!M85,IF(Prüfung!N86=\"X\",Prüfung!M86,IF(Prüfung!AD84=\"X\",Prüfung!AC84,IF(Prüfung!AD85=\"X\",Prüfung!AC85,IF(Prüfung!AD86=\"X\",Prüfung!AC86,0)))))))","v":0},{"$f":"Prüfung!AC89","v":"NS"},null,{"$f":"Prüfung!AS88","v":0},{"$f":"Prüfung!AS89","v":0},{"$f":"IF(Prüfung!AT$83=\"\",\"0\",Prüfung!AT$83)","v":"0"}]
[10,10,{"$f":"Prüfung!C91","v":"Nichtstarter"},{"$f":"Prüfung!AC97","v":"NS"},{"$f":"IF(Prüfung!AC97=\"Disqual.\",\"Disqual.\",IF(Prüfung!N93=\"X\",Prüfung!M93,IF(Prüfung!N94=\"X\",Prüfung!M94,IF(Prüfung!N95=\"X\",Prüfung!M95,IF(Prüfung!AD93=\"X\",Prüfung!AC93,IF(Prüfung!AD94=\"X\",Prüfung!AC94,IF(Prüfung!AD95=\"X\",Prüfung!AC95,0)))))))","v":0},{"$f":"Prüfung!AC98","v":"NS"},null,{"$f":"Prüfung!AS97","v":0},{"$f":"Prüfung!AS98","v":0},{"$f":"IF(Prüfung!AT$92=\"\",\"0\",Prüfung!AT$92)","v":"0"}]