{"text_format":"1","workbook":"xlsx","n_sheets":35,"sheets":["Stammdaten","Mannschaften","Rangliste","1","2","3","4","5","6","7","8","9","10","11","12","13","14","15","16","17","18","19","20","21","22","23","24","25","26","27","28","29","30","31","32"],"not_rendered":{"charts":0,"images":0,"macros":1,"external_links":0,"defined_names":1,"comments":0,"pivot_tables":0},"unopened":[],"bounds":{"document_bytes":16777216,"sheet_cells":100000,"rows_first":2000,"rows_last":500,"rows_between":2000,"halvings":0,"cell_chars":16384,"cell_head_chars":4096},"cells_cut":0,"cells_raw":0,"read":"whole","date_system":"1900"}

{"sheet":"Stammdaten","index":0,"n_rows":27,"n_cols":4,"rows_kept":27,"cut":false,"hidden":false,"merged":[[3,1,3,3],[6,1,6,3]]}
["Stammdaten"]
[]
[]
[null,"Dressurtage XY"]
[null,"Veranstaltungstitel 1"]
[]
[null,"OKV Mannschaftsdressur dd.mm.YYYY"]
[null,"Veranstaltungstitel 1"]
[]
[]
[]
["Richterdaten"]
[]
[null,"Richter H / Reiter 1",null,"Vor-, Nachname Richter/in 1"]
[null,"Titel 1",null,"Name 1"]
[]
[null,"Richter C / Reiter 2",null,"Vor-, Nachname Richter/in 2"]
[null,"Titel 2",null,"Name 2"]
[]
[null,"Richter M / Reiter 3",null,"Vor-, Nachname Richter/in 3"]
[null,"Titel 3",null,"Name 3"]
[]
[null,"Richter E / Gesamteindr.",null,"Vor-, Nachname Richter/in 4"]
[null,"Titel 4",null,"Name 4"]
[]
[null,"Richter B / Gesamteindr.",null,"Vor-, Nachname Richter/in 5"]
[null,"Titel 5",null,"Name 5"]

{"sheet":"Mannschaften","index":1,"n_rows":36,"n_cols":4,"rows_kept":36,"cut":false,"hidden":false,"merged":[]}
[null,"Mannschaften"]
[]
[null,"Start-Nr.",null,"Mannschaft"]
[]
[null,1]
[null,2]
[null,3]
[null,4]
[null,5]
[null,6]
[null,7]
[null,8]
[null,9]
[null,10]
[null,11]
[null,12]
[null,13]
[null,14]
[null,15]
[null,16]
[null,{"$f":"B20+1","v":17}]
[null,{"$f":"B21+1","v":18}]
[null,19]
[null,20]
[null,{"$f":"B24+1","v":21}]
[null,22]
[null,23]
[null,24]
[null,25]
[null,26]
[null,27]
[null,28]
[null,29]
[null,30]
[null,31]
[null,32]

{"sheet":"Rangliste","index":2,"n_rows":42,"n_cols":22,"rows_kept":42,"cut":false,"hidden":false,"merged":[[3,15,3,16],[2,19,2,20],[3,19,3,20],[2,21,4,21],[2,9,2,10],[3,9,3,10],[2,15,2,16],[2,3,2,4],[3,3,3,4],[2,6,2,7],[3,6,3,7],[2,12,2,13],[3,12,3,13]]}
["Rangliste"]
[]
[{"$f":"Stammdaten!B4","v":"Dressurtage XY"},null,null,{"$f":"Stammdaten!B14","v":"Richter H / Reiter 1"},null,null,{"$f":"Stammdaten!B17","v":"Richter C / Reiter 2"},null,null,{"$f":"Stammdaten!B20","v":"Richter M / Reiter 3"},null,null,{"$f":"Stammdaten!B23","v":"Richter E / Gesamteindr."},null,null,{"$f":"Stammdaten!B26","v":"Richter B / Gesamteindr."},null,null,null,"Total / Rang",null,"Punkte Seiten- richter"]
[{"$f":"Stammdaten!B7","v":"OKV Mannschaftsdressur dd.mm.YYYY"},null,null,{"$f":"Stammdaten!D14","v":"Vor-, Nachname Richter/in 1"},null,null,{"$f":"Stammdaten!D17","v":"Vor-, Nachname Richter/in 2"},null,null,{"$f":"Stammdaten!D20","v":"Vor-, Nachname Richter/in 3"},null,null,{"$f":"Stammdaten!D23","v":"Vor-, Nachname Richter/in 4"},null,null,{"$f":"Stammdaten!D26","v":"Vor-, Nachname Richter/in 5"}]
[null,null,null,"Punkte","Prozent",null,"Punkte","Prozent",null,"Punkte","Prozent",null,"Punkte","Prozent",null,"Punkte","Prozent",null,"Note","Prozent","Rang"]
["Vereine"]
[1,{"$f":"VLOOKUP(A7,Mannschaften!B:D,3,FALSE)","v":0},1,{"$f":"'1'!$F$44","v":0},{"$f":"D7/320","v":0},null,{"$f":"'1'!$J$44","v":0},{"$f":"G7/320","v":0},null,{"$f":"'1'!$N$44","v":0},{"$f":"J7/320","v":0},null,{"$f":"'1'!$R$44","v":0},{"$f":"M7/320","v":0},null,{"$f":"'1'!$V$44","v":0},{"$f":"P7/320","v":0},null,{"$f":"D7+G7+J7+M7+P7","v":0},{"$f":"((((E7+H7+K7)/3)+((N7+Q7)/2))/2)","v":0},{"$f":"RANK(T7,$T$7:T38)","v":1},{"$f":"M7+P7","v":0}]
[2,{"$f":"VLOOKUP(A8,Mannschaften!B:D,3,FALSE)","v":0},2,{"$f":"'2'!$F$44","v":0},{"$f":"D8/320","v":0},null,{"$f":"'2'!$J$44","v":0},{"$f":"G8/320","v":0},null,{"$f":"'2'!$N$44","v":0},{"$f":"J8/320","v":0},null,{"$f":"'2'!$R$44","v":0},{"$f":"M8/320","v":0},null,{"$f":"'2'!$V$44","v":0},{"$f":"P8/320","v":0},null,{"$f":"D8+G8+J8+M8+P8","v":0},{"$f":"((((E8+H8+K8)/3)+((N8+Q8)/2))/2)","v":0},{"$f":"RANK(T8,$T$7:T39)","v":1},{"$f":"M8+P8","v":0}]
[3,{"$f":"VLOOKUP(A9,Mannschaften!B:D,3,FALSE)","v":0},3,{"$f":"'3'!$F$44","v":0},{"$f":"D9/320","v":0},null,{"$f":"'3'!$J$44","v":0},{"$f":"G9/320","v":0},null,{"$f":"'3'!$N$44","v":0},{"$f":"J9/320","v":0},null,{"$f":"'3'!$R$44","v":0},{"$f":"M9/320","v":0},null,{"$f":"'3'!$V$44","v":0},{"$f":"P9/320","v":0},null,{"$f":"D9+G9+J9+M9+P9","v":0},{"$f":"((((E9+H9+K9)/3)+((N9+Q9)/2))/2)","v":0},{"$f":"RANK(T9,$T$7:T40)","v":1},{"$f":"M9+P9","v":0}]
[4,{"$f":"VLOOKUP(A10,Mannschaften!B:D,3,FALSE)","v":0},4,{"$f":"'4'!$F$44","v":0},{"$f":"D10/320","v":0},null,{"$f":"'4'!$J$44","v":0},{"$f":"G10/320","v":0},null,{"$f":"'4'!$N$44","v":0},{"$f":"J10/320","v":0},null,{"$f":"'4'!$R$44","v":0},{"$f":"M10/320","v":0},null,{"$f":"'4'!$V$44","v":0},{"$f":"P10/320","v":0},null,{"$f":"D10+G10+J10+M10+P10","v":0},{"$f":"((((E10+H10+K10)/3)+((N10+Q10)/2))/2)","v":0},{"$f":"RANK(T10,$T$7:T41)","v":1},{"$f":"M10+P10","v":0}]
[5,{"$f":"VLOOKUP(A11,Mannschaften!B:D,3,FALSE)","v":0},5,{"$f":"'5'!$F$44","v":0},{"$f":"D11/320","v":0},null,{"$f":"'5'!$J$44","v":0},{"$f":"G11/320","v":0},null,{"$f":"'5'!$N$44","v":0},{"$f":"J11/320","v":0},null,{"$f":"'5'!$R$44","v":0},{"$f":"M11/320","v":0},null,{"$f":"'5'!$V$44","v":0},{"$f":"P11/320","v":0},null,{"$f":"D11+G11+J11+M11+P11","v":0},{"$f":"((((E11+H11+K11)/3)+((N11+Q11)/2))/2)","v":0},{"$f":"RANK(T11,$T$7:T42)","v":1},{"$f":"M11+P11","v":0}]
[6,{"$f":"VLOOKUP(A12,Mannschaften!B:D,3,FALSE)","v":0},6,{"$f":"'6'!$F$44","v":0},{"$f":"D12/320","v":0},null,{"$f":"'6'!$J$44","v":0},{"$f":"G12/320","v":0},null,{"$f":"'6'!$N$44","v":0},{"$f":"J12/320","v":0},null,{"$f":"'6'!$R$44","v":0},{"$f":"M12/320","v":0},null,{"$f":"'6'!$V$44","v":0},{"$f":"P12/320","v":0},null,{"$f":"D12+G12+J12+M12+P12","v":0},{"$f":"((((E12+H12+K12)/3)+((N12+Q12)/2))/2)","v":0},{"$f":"RANK(T12,$T$7:T43)","v":1},{"$f":"M12+P12","v":0}]
[7,{"$f":"VLOOKUP(A13,Mannschaften!B:D,3,FALSE)","v":0},7,{"$f":"'7'!$F$44","v":0},{"$f":"D13/320","v":0},null,{"$f":"'7'!$J$44","v":0},{"$f":"G13/320","v":0},null,{"$f":"'7'!$N$44","v":0},{"$f":"J13/320","v":0},null,{"$f":"'7'!$R$44","v":0},{"$f":"M13/320","v":0},null,{"$f":"'7'!$V$44","v":0},{"$f":"P13/320","v":0},null,{"$f":"D13+G13+J13+M13+P13","v":0},{"$f":"((((E13+H13+K13)/3)+((N13+Q13)/2))/2)","v":0},{"$f":"RANK(T13,$T$7:T44)","v":1},{"$f":"M13+P13","v":0}]
[8,{"$f":"VLOOKUP(A14,Mannschaften!B:D,3,FALSE)","v":0},8,{"$f":"'8'!$F$44","v":0},{"$f":"D14/320","v":0},null,{"$f":"'8'!$J$44","v":0},{"$f":"G14/320","v":0},null,{"$f":"'8'!$N$44","v":0},{"$f":"J14/320","v":0},null,{"$f":"'8'!$R$44","v":0},{"$f":"M14/320","v":0},null,{"$f":"'8'!$V$44","v":0},{"$f":"P14/320","v":0},null,{"$f":"D14+G14+J14+M14+P14","v":0},{"$f":"((((E14+H14+K14)/3)+((N14+Q14)/2))/2)","v":0},{"$f":"RANK(T14,$T$7:T45)","v":1},{"$f":"M14+P14","v":0}]
[9,{"$f":"VLOOKUP(A15,Mannschaften!B:D,3,FALSE)","v":0},9,{"$f":"'9'!$F$44","v":0},{"$f":"D15/320","v":0},null,{"$f":"'9'!$J$44","v":0},{"$f":"G15/320","v":0},null,{"$f":"'9'!$N$44","v":0},{"$f":"J15/320","v":0},null,{"$f":"'9'!$R$44","v":0},{"$f":"M15/320","v":0},null,{"$f":"'9'!$V$44","v":0},{"$f":"P15/320","v":0},null,{"$f":"D15+G15+J15+M15+P15","v":0},{"$f":"((((E15+H15+K15)/3)+((N15+Q15)/2))/2)","v":0},{"$f":"RANK(T15,$T$7:T46)","v":1},{"$f":"M15+P15","v":0}]
[10,{"$f":"VLOOKUP(A16,Mannschaften!B:D,3,FALSE)","v":0},10,{"$f":"'10'!$F$44","v":0},{"$f":"D16/320","v":0},null,{"$f":"'10'!$J$44","v":0},{"$f":"G16/320","v":0},null,{"$f":"'10'!$N$44","v":0},{"$f":"J16/320","v":0},null,{"$f":"'10'!$R$44","v":0},{"$f":"M16/320","v":0},null,{"$f":"'10'!$V$44","v":0},{"$f":"P16/320","v":0},null,{"$f":"D16+G16+J16+M16+P16","v":0},{"$f":"((((E16+H16+K16)/3)+((N16+Q16)/2))/2)","v":0},{"$f":"RANK(T16,$T$7:T47)","v":1},{"$f":"M16+P16","v":0}]
[11,{"$f":"VLOOKUP(A17,Mannschaften!B:D,3,FALSE)","v":0},11,{"$f":"'11'!$F$44","v":0},{"$f":"D17/320","v":0},null,{"$f":"'11'!$J$44","v":0},{"$f":"G17/320","v":0},null,{"$f":"'11'!$N$44","v":0},{"$f":"J17/320","v":0},null,{"$f":"'11'!$R$44","v":0},{"$f":"M17/320","v":0},null,{"$f":"'11'!$V$44","v":0},{"$f":"P17/320","v":0},null,{"$f":"D17+G17+J17+M17+P17","v":0},{"$f":"((((E17+H17+K17)/3)+((N17+Q17)/2))/2)","v":0},{"$f":"RANK(T17,$T$7:T48)","v":1},{"$f":"M17+P17","v":0}]
[12,{"$f":"VLOOKUP(A18,Mannschaften!B:D,3,FALSE)","v":0},12,{"$f":"'12'!$F$44","v":0},{"$f":"D18/320","v":0},null,{"$f":"'12'!$J$44","v":0},{"$f":"G18/320","v":0},null,{"$f":"'12'!$N$44","v":0},{"$f":"J18/320","v":0},null,{"$f":"'12'!$R$44","v":0},{"$f":"M18/320","v":0},null,{"$f":"'12'!$V$44","v":0},{"$f":"P18/320","v":0},null,{"$f":"D18+G18+J18+M18+P18","v":0},{"$f":"((((E18+H18+K18)/3)+((N18+Q18)/2))/2)","v":0},{"$f":"RANK(T18,$T$7:T49)","v":1},{"$f":"M18+P18","v":0}]
[13,{"$f":"VLOOKUP(A19,Mannschaften!B:D,3,FALSE)","v":0},13,{"$f":"'13'!$F$44","v":0},{"$f":"D19/320","v":0},null,{"$f":"'13'!$J$44","v":0},{"$f":"G19/320","v":0},null,{"$f":"'13'!$N$44","v":0},{"$f":"J19/320","v":0},null,{"$f":"'13'!$R$44","v":0},{"$f":"M19/320","v":0},null,{"$f":"'13'!$V$44","v":0},{"$f":"P19/320","v":0},null,{"$f":"D19+G19+J19+M19+P19","v":0},{"$f":"((((E19+H19+K19)/3)+((N19+Q19)/2))/2)","v":0},{"$f":"RANK(T19,$T$7:T50)","v":1},{"$f":"M19+P19","v":0}]
[14,{"$f":"VLOOKUP(A20,Mannschaften!B:D,3,FALSE)","v":0},14,{"$f":"'14'!$F$44","v":0},{"$f":"D20/320","v":0},null,{"$f":"'14'!$J$44","v":0},{"$f":"G20/320","v":0},null,{"$f":"'14'!$N$44","v":0},{"$f":"J20/320","v":0},null,{"$f":"'14'!$R$44","v":0},{"$f":"M20/320","v":0},null,{"$f":"'14'!$V$44","v":0},{"$f":"P20/320","v":0},null,{"$f":"D20+G20+J20+M20+P20","v":0},{"$f":"((((E20+H20+K20)/3)+((N20+Q20)/2))/2)","v":0},{"$f":"RANK(T20,$T$7:T51)","v":1},{"$f":"M20+P20","v":0}]
[15,{"$f":"VLOOKUP(A21,Mannschaften!B:D,3,FALSE)","v":0},15,{"$f":"'15'!$F$44","v":0},{"$f":"D21/320","v":0},null,{"$f":"'15'!$J$44","v":0},{"$f":"G21/320","v":0},null,{"$f":"'15'!$N$44","v":0},{"$f":"J21/320","v":0},null,{"$f":"'15'!$R$44","v":0},{"$f":"M21/320","v":0},null,{"$f":"'15'!$V$44","v":0},{"$f":"P21/320","v":0},null,{"$f":"D21+G21+J21+M21+P21","v":0},{"$f":"((((E21+H21+K21)/3)+((N21+Q21)/2))/2)","v":0},{"$f":"RANK(T21,$T$7:T52)","v":1},{"$f":"M21+P21","v":0}]
[16,{"$f":"VLOOKUP(A22,Mannschaften!B:D,3,FALSE)","v":0},16,{"$f":"'16'!$F$44","v":0},{"$f":"D22/320","v":0},null,{"$f":"'16'!$J$44","v":0},{"$f":"G22/320","v":0},null,{"$f":"'16'!$N$44","v":0},{"$f":"J22/320","v":0},null,{"$f":"'16'!$R$44","v":0},{"$f":"M22/320","v":0},null,{"$f":"'16'!$V$44","v":0},{"$f":"P22/320","v":0},null,{"$f":"D22+G22+J22+M22+P22","v":0},{"$f":"((((E22+H22+K22)/3)+((N22+Q22)/2))/2)","v":0},{"$f":"RANK(T22,$T$7:T53)","v":1},{"$f":"M22+P22","v":0}]
[17,{"$f":"VLOOKUP(A23,Mannschaften!B:D,3,FALSE)","v":0},17,{"$f":"'17'!$F$44","v":0},{"$f":"D23/320","v":0},null,{"$f":"'17'!$J$44","v":0},{"$f":"G23/320","v":0},null,{"$f":"'17'!$N$44","v":0},{"$f":"J23/320","v":0},null,{"$f":"'17'!$R$44","v":0},{"$f":"M23/320","v":0},null,{"$f":"'17'!$V$44","v":0},{"$f":"P23/320","v":0},null,{"$f":"D23+G23+J23+M23+P23","v":0},{"$f":"((((E23+H23+K23)/3)+((N23+Q23)/2))/2)","v":0},{"$f":"RANK(T23,$T$7:T54)","v":1},{"$f":"M23+P23","v":0}]
[18,{"$f":"VLOOKUP(A24,Mannschaften!B:D,3,FALSE)","v":0},18,{"$f":"'18'!$F$44","v":0},{"$f":"D24/320","v":0},null,{"$f":"'18'!$J$44","v":0},{"$f":"G24/320","v":0},null,{"$f":"'18'!$N$44","v":0},{"$f":"J24/320","v":0},null,{"$f":"'18'!$R$44","v":0},{"$f":"M24/320","v":0},null,{"$f":"'18'!$V$44","v":0},{"$f":"P24/320","v":0},null,{"$f":"D24+G24+J24+M24+P24","v":0},{"$f":"((((E24+H24+K24)/3)+((N24+Q24)/2))/2)","v":0},{"$f":"RANK(T24,$T$7:T55)","v":1},{"$f":"M24+P24","v":0}]
[19,{"$f":"VLOOKUP(A25,Mannschaften!B:D,3,FALSE)","v":0},19,{"$f":"'19'!$F$44","v":0},{"$f":"D25/320","v":0},null,{"$f":"'19'!$J$44","v":0},{"$f":"G25/320","v":0},null,{"$f":"'19'!$N$44","v":0},{"$f":"J25/320","v":0},null,{"$f":"'19'!$R$44","v":0},{"$f":"M25/320","v":0},null,{"$f":"'19'!$V$44","v":0},{"$f":"P25/320","v":0},null,{"$f":"D25+G25+J25+M25+P25","v":0},{"$f":"((((E25+H25+K25)/3)+((N25+Q25)/2))/2)","v":0},{"$f":"RANK(T25,$T$7:T56)","v":1},{"$f":"M25+P25","v":0}]
[20,{"$f":"VLOOKUP(A26,Mannschaften!B:D,3,FALSE)","v":0},20,{"$f":"'20'!$F$44","v":0},{"$f":"D26/320","v":0},null,{"$f":"'20'!$J$44","v":0},{"$f":"G26/320","v":0},null,{"$f":"'20'!$N$44","v":0},{"$f":"J26/320","v":0},null,{"$f":"'20'!$R$44","v":0},{"$f":"M26/320","v":0},null,{"$f":"'20'!$V$44","v":0},{"$f":"P26/320","v":0},null,{"$f":"D26+G26+J26+M26+P26","v":0},{"$f":"((((E26+H26+K26)/3)+((N26+Q26)/2))/2)","v":0},{"$f":"RANK(T26,$T$7:T57)","v":1},{"$f":"M26+P26","v":0}]
[21,{"$f":"VLOOKUP(A27,Mannschaften!B:D,3,FALSE)","v":0},21,{"$f":"'21'!$F$44","v":0},{"$f":"D27/320","v":0},null,{"$f":"'21'!$J$44","v":0},{"$f":"G27/320","v":0},null,{"$f":"'21'!$N$44","v":0},{"$f":"J27/320","v":0},null,{"$f":"'21'!$R$44","v":0},{"$f":"M27/320","v":0},null,{"$f":"'21'!$V$44","v":0},{"$f":"P27/320","v":0},null,{"$f":"D27+G27+J27+M27+P27","v":0},{"$f":"((((E27+H27+K27)/3)+((N27+Q27)/2))/2)","v":0},{"$f":"RANK(T27,$T$7:T58)","v":1},{"$f":"M27+P27","v":0}]
[22,{"$f":"VLOOKUP(A28,Mannschaften!B:D,3,FALSE)","v":0},22,{"$f":"'22'!$F$44","v":0},{"$f":"D28/320","v":0},null,{"$f":"'22'!$J$44","v":0},{"$f":"G28/320","v":0},null,{"$f":"'22'!$N$44","v":0},{"$f":"J28/320","v":0},null,{"$f":"'22'!$R$44","v":0},{"$f":"M28/320","v":0},null,{"$f":"'22'!$V$44","v":0},{"$f":"P28/320","v":0},null,{"$f":"D28+G28+J28+M28+P28","v":0},{"$f":"((((E28+H28+K28)/3)+((N28+Q28)/2))/2)","v":0},{"$f":"RANK(T28,$T$7:T59)","v":1},{"$f":"M28+P28","v":0}]
[23,{"$f":"VLOOKUP(A29,Mannschaften!B:D,3,FALSE)","v":0},23,{"$f":"'23'!$F$44","v":0},{"$f":"D29/320","v":0},null,{"$f":"'23'!$J$44","v":0},{"$f":"G29/320","v":0},null,{"$f":"'23'!$N$44","v":0},{"$f":"J29/320","v":0},null,{"$f":"'23'!$R$44","v":0},{"$f":"M29/320","v":0},null,{"$f":"'23'!$V$44","v":0},{"$f":"P29/320","v":0},null,{"$f":"D29+G29+J29+M29+P29","v":0},{"$f":"((((E29+H29+K29)/3)+((N29+Q29)/2))/2)","v":0},{"$f":"RANK(T29,$T$7:T60)","v":1},{"$f":"M29+P29","v":0}]
[24,{"$f":"VLOOKUP(A30,Mannschaften!B:D,3,FALSE)","v":0},24,{"$f":"'24'!$F$44","v":0},{"$f":"D30/320","v":0},null,{"$f":"'24'!$J$44","v":0},{"$f":"G30/320","v":0},null,{"$f":"'24'!$N$44","v":0},{"$f":"J30/320","v":0},null,{"$f":"'24'!$R$44","v":0},{"$f":"M30/320","v":0},null,{"$f":"'24'!$V$44","v":0},{"$f":"P30/320","v":0},null,{"$f":"D30+G30+J30+M30+P30","v":0},{"$f":"((((E30+H30+K30)/3)+((N30+Q30)/2))/2)","v":0},{"$f":"RANK(T30,$T$7:T61)","v":1},{"$f":"M30+P30","v":0}]
[25,{"$f":"VLOOKUP(A31,Mannschaften!B:D,3,FALSE)","v":0},25,{"$f":"'25'!$F$44","v":0},{"$f":"D31/320","v":0},null,{"$f":"'25'!$J$44","v":0},{"$f":"G31/320","v":0},null,{"$f":"'25'!$N$44","v":0},{"$f":"J31/320","v":0},null,{"$f":"'25'!$R$44","v":0},{"$f":"M31/320","v":0},null,{"$f":"'25'!$V$44","v":0},{"$f":"P31/320","v":0},null,{"$f":"D31+G31+J31+M31+P31","v":0},{"$f":"((((E31+H31+K31)/3)+((N31+Q31)/2))/2)","v":0},{"$f":"RANK(T31,$T$7:T62)","v":1},{"$f":"M31+P31","v":0}]
[26,{"$f":"VLOOKUP(A32,Mannschaften!B:D,3,FALSE)","v":0},26,{"$f":"'26'!$F$44","v":0},{"$f":"D32/320","v":0},null,{"$f":"'26'!$J$44","v":0},{"$f":"G32/320","v":0},null,{"$f":"'26'!$N$44","v":0},{"$f":"J32/320","v":0},null,{"$f":"'26'!$R$44","v":0},{"$f":"M32/320","v":0},null,{"$f":"'26'!$V$44","v":0},{"$f":"P32/320","v":0},null,{"$f":"D32+G32+J32+M32+P32","v":0},{"$f":"((((E32+H32+K32)/3)+((N32+Q32)/2))/2)","v":0},{"$f":"RANK(T32,$T$7:T63)","v":1},{"$f":"M32+P32","v":0}]
[27,{"$f":"VLOOKUP(A33,Mannschaften!B:D,3,FALSE)","v":0},27,{"$f":"'27'!$F$44","v":0},{"$f":"D33/320","v":0},null,{"$f":"'27'!$J$44","v":0},{"$f":"G33/320","v":0},null,{"$f":"'27'!$N$44","v":0},{"$f":"J33/320","v":0},null,{"$f":"'27'!$R$44","v":0},{"$f":"M33/320","v":0},null,{"$f":"'27'!$V$44","v":0},{"$f":"P33/320","v":0},null,{"$f":"D33+G33+J33+M33+P33","v":0},{"$f":"((((E33+H33+K33)/3)+((N33+Q33)/2))/2)","v":0},{"$f":"RANK(T33,$T$7:T64)","v":1},{"$f":"M33+P33","v":0}]
[28,{"$f":"VLOOKUP(A34,Mannschaften!B:D,3,FALSE)","v":0},28,{"$f":"'28'!$F$44","v":0},{"$f":"D34/320","v":0},null,{"$f":"'28'!$J$44","v":0},{"$f":"G34/320","v":0},null,{"$f":"'28'!$N$44","v":0},{"$f":"J34/320","v":0},null,{"$f":"'28'!$R$44","v":0},{"$f":"M34/320","v":0},null,{"$f":"'28'!$V$44","v":0},{"$f":"P34/320","v":0},null,{"$f":"D34+G34+J34+M34+P34","v":0},{"$f":"((((E34+H34+K34)/3)+((N34+Q34)/2))/2)","v":0},{"$f":"RANK(T34,$T$7:T65)","v":1},{"$f":"M34+P34","v":0}]
[29,{"$f":"VLOOKUP(A35,Mannschaften!B:D,3,FALSE)","v":0},29,{"$f":"'29'!$F$44","v":0},{"$f":"D35/320","v":0},null,{"$f":"'29'!$J$44","v":0},{"$f":"G35/320","v":0},null,{"$f":"'29'!$N$44","v":0},{"$f":"J35/320","v":0},null,{"$f":"'29'!$R$44","v":0},{"$f":"M35/320","v":0},null,{"$f":"'29'!$V$44","v":0},{"$f":"P35/320","v":0},null,{"$f":"D35+G35+J35+M35+P35","v":0},{"$f":"((((E35+H35+K35)/3)+((N35+Q35)/2))/2)","v":0},{"$f":"RANK(T35,$T$7:T66)","v":1},{"$f":"M35+P35","v":0}]
[30,{"$f":"VLOOKUP(A36,Mannschaften!B:D,3,FALSE)","v":0},30,{"$f":"'30'!$F$44","v":0},{"$f":"D36/320","v":0},null,{"$f":"'30'!$J$44","v":0},{"$f":"G36/320","v":0},null,{"$f":"'30'!$N$44","v":0},{"$f":"J36/320","v":0},null,{"$f":"'30'!$R$44","v":0},{"$f":"M36/320","v":0},null,{"$f":"'30'!$V$44","v":0},{"$f":"P36/320","v":0},null,{"$f":"D36+G36+J36+M36+P36","v":0},{"$f":"((((E36+H36+K36)/3)+((N36+Q36)/2))/2)","v":0},{"$f":"RANK(T36,$T$7:T67)","v":1},{"$f":"M36+P36","v":0}]
[31,{"$f":"VLOOKUP(A37,Mannschaften!B:D,3,FALSE)","v":0},31,{"$f":"'31'!$F$44","v":0},{"$f":"D37/320","v":0},null,{"$f":"'31'!$J$44","v":0},{"$f":"G37/320","v":0},null,{"$f":"'31'!$N$44","v":0},{"$f":"J37/320","v":0},null,{"$f":"'31'!$R$44","v":0},{"$f":"M37/320","v":0},null,{"$f":"'31'!$V$44","v":0},{"$f":"P37/320","v":0},null,{"$f":"D37+G37+J37+M37+P37","v":0},{"$f":"((((E37+H37+K37)/3)+((N37+Q37)/2))/2)","v":0},{"$f":"RANK(T37,$T$7:T68)","v":1},{"$f":"M37+P37","v":0}]
[32,{"$f":"VLOOKUP(A38,Mannschaften!B:D,3,FALSE)","v":0},32,{"$f":"'32'!$F$44","v":0},{"$f":"D38/320","v":0},null,{"$f":"'32'!$J$44","v":0},{"$f":"G38/320","v":0},null,{"$f":"'32'!$N$44","v":0},{"$f":"J38/320","v":0},null,{"$f":"'32'!$R$44","v":0},{"$f":"M38/320","v":0},null,{"$f":"'32'!$V$44","v":0},{"$f":"P38/320","v":0},null,{"$f":"D38+G38+J38+M38+P38","v":0},{"$f":"((((E38+H38+K38)/3)+((N38+Q38)/2))/2)","v":0},{"$f":"RANK(T38,$T$7:T69)","v":1},{"$f":"M38+P38","v":0}]
[]
["Bei gleicher Total-Punktezahl entscheidet die höhere Wertung der Seitenrichter über die Klassierung."]
[]
["Gewichtung: Der Durchschnitt der Prozente der Richter (C, H, M) zählen 50 Prozent und der Durchschnitt der Prozente der Seitenrichter (E, B) zählen 50 Prozent"]

{"sheet":"1","index":3,"n_rows":48,"n_cols":22,"rows_kept":48,"cut":false,"hidden":false,"merged":[[3,19,3,21],[0,20,0,21],[2,11,2,13],[3,11,3,13],[2,3,2,5],[3,3,3,5],[2,7,2,9],[3,7,3,9],[2,15,2,17],[3,15,3,17],[2,19,2,21]]}
[{"$f":"Mannschaften!D5","v":0},null,null,null,null,null,null,null,null,null,null,null,"Startnummer:",1,null,null,null,"Prozente:",null,null,{"$f":"((((F46+J46+N46)/3)+((R46+V46)/2))/2)","v":0}]
[]
[{"$f":"Stammdaten!B4","v":"Dressurtage XY"},null,null,{"$f":"Stammdaten!B14","v":"Richter H / Reiter 1"},null,null,null,{"$f":"Stammdaten!B17","v":"Richter C / Reiter 2"},null,null,null,{"$f":"Stammdaten!B20","v":"Richter M / Reiter 3"},null,null,null,{"$f":"Stammdaten!B23","v":"Richter E / Gesamteindr."},null,null,null,{"$f":"Stammdaten!B26","v":"Richter B / Gesamteindr."}]
[{"$f":"Stammdaten!B7","v":"OKV Mannschaftsdressur dd.mm.YYYY"},null,null,{"$f":"Stammdaten!D14","v":"Vor-, Nachname Richter/in 1"},null,null,null,{"$f":"Stammdaten!D17","v":"Vor-, Nachname Richter/in 2"},null,null,null,{"$f":"Stammdaten!D20","v":"Vor-, Nachname Richter/in 3"},null,null,null,{"$f":"Stammdaten!D23","v":"Vor-, Nachname Richter/in 4"},null,null,null,{"$f":"Stammdaten!D26","v":"Vor-, Nachname Richter/in 5"}]
[null,null,null,"Note","Koef.","Punkte",null,"Note","Koef.","Punkte",null,"Note","Koef.","Punkte",null,"Note","Koef.","Punkte",null,"Note","Koef.","Punkte"]
["Lektionen"]
[1,"Einreiten im Arbeitstrab",null,null,1,{"$f":"E7*D7","v":0},null,null,1,{"$f":"I7*H7","v":0},null,null,1,{"$f":"M7*L7","v":0},null,null,1,{"$f":"Q7*P7","v":0},null,null,1,{"$f":"U7*T7","v":0}]
[{"$f":"A7+1","v":2},"Anlegen Schlangenlinie",null,null,1,{"$f":"E8*D8","v":0},null,null,1,{"$f":"I8*H8","v":0},null,null,1,{"$f":"M8*L8","v":0},null,null,1,{"$f":"Q8*P8","v":0},null,null,1,{"$f":"U8*T8","v":0}]
[{"$f":"A8+1","v":3},"Arbeitsgalopp links",null,null,1,{"$f":"E9*D9","v":0},null,null,1,{"$f":"I9*H9","v":0},null,null,1,{"$f":"M9*L9","v":0},null,null,1,{"$f":"Q9*P9","v":0},null,null,1,{"$f":"U9*T9","v":0}]
[4,"Anlegen grosser Volte",null,null,1,{"$f":"E10*D10","v":0},null,null,1,{"$f":"I10*H10","v":0},null,null,1,{"$f":"M10*L10","v":0},null,null,1,{"$f":"Q10*P10","v":0},null,null,1,{"$f":"U10*T10","v":0}]
[5,"Arbeitsgalopp",null,null,1,{"$f":"E11*D11","v":0},null,null,1,{"$f":"I11*H11","v":0},null,null,1,{"$f":"M11*L11","v":0},null,null,1,{"$f":"Q11*P11","v":0},null,null,1,{"$f":"U11*T11","v":0}]
[6,"Volte, Galoppsprünge verlängern",null,null,1,0,null,null,1,0,null,null,1,0,null,null,1,{"$f":"Q12*P12","v":0},null,null,1,{"$f":"U12*T12","v":0}]
[7,"Aufnehmen über M nach C",null,null,1,0,null,null,1,0,null,null,1,0,null,null,1,0,null,null,1,0]
[8,"Arbeitstrab nach H",null,null,1,0,null,null,1,0,null,null,1,0,null,null,1,0,null,null,1,0]
[9,"Durch die ganze Bahn wechseln",null,null,1,0,null,null,1,0,null,null,1,0,null,null,1,0,null,null,1,0]
[10,"Arbeitsgalopp rechts",null,null,1,0,null,null,1,0,null,null,1,0,null,null,1,0,null,null,1,0]
[11,"Anlegen grosser Volte",null,null,1,0,null,null,1,0,null,null,1,0,null,null,1,0,null,null,1,0]
[12,"Arbeitsgalopp",null,null,1,0,null,null,1,0,null,null,1,0,null,null,1,0,null,null,1,0]
[13,"Volte, Galoppsprünge verlängern",null,null,1,0,null,null,1,0,null,null,1,0,null,null,1,0,null,null,1,0]
[14,"Aufnehmen und weiter nach H",null,null,1,0,null,null,1,0,null,null,1,0,null,null,1,0,null,null,1,0]
[15,"Volte, Zügel aus der Hand kauen",null,null,2,0,null,null,2,0,null,null,2,0,null,null,2,0,null,null,2,0]
[16,"Zügel aufnehmen, weiter nach R",null,null,1,0,null,null,1,0,null,null,1,0,null,null,1,0,null,null,1,0]
[17,"Starker Schritt",null,null,2,0,null,null,2,0,null,null,2,0,null,null,2,0,null,null,2,0]
[18,"Mittelschritt",null,null,1,{"$f":"E24*D24","v":0},null,null,1,{"$f":"I24*H24","v":0},null,null,1,{"$f":"M24*L24","v":0},null,null,1,0,null,null,1,0]
[19,"Mittellinie D antraben",null,null,1,0,null,null,1,0,null,null,1,0,null,null,1,0,null,null,1,0]
[20,"Halt und Gruss",null,null,1,{"$f":"E26*D26","v":0},null,null,1,{"$f":"I26*H26","v":0},null,null,1,{"$f":"M26*L26","v":0},null,null,1,0,null,null,1,0]
["Total der Lektionen",null,null,null,null,{"$f":"SUM(F7:F26)","v":0},null,null,null,{"$f":"SUM(J7:J26)","v":0},null,null,null,{"$f":"SUM(N7:N26)","v":0},null,null,null,{"$f":"SUM(R7:R26)","v":0},null,null,null,{"$f":"SUM(V7:V26)","v":0}]
[]
["Gesamteindruck"]
[{"$f":"A26+1","v":21},"Reinheit der Gänge /Abstände",null,null,2,{"$f":"E30*D30","v":0},null,null,2,0,null,null,2,0,null,null,2,{"$f":"P30*Q30","v":0},null,null,2,{"$f":"T30*U30","v":0}]
[{"$f":"A30+1","v":22},"Schwung / Exaktheit",null,null,2,{"$f":"E31*D31","v":0},null,null,2,0,null,null,2,0,null,null,2,{"$f":"P31*Q31","v":0},null,null,2,{"$f":"T31*U31","v":0}]
[{"$f":"A31+1","v":23},"Gehorsam / Ausführung",null,null,2,{"$f":"E32*D32","v":0},null,null,2,0,null,null,2,0,null,null,2,0,null,null,2,0]
[{"$f":"A32+1","v":24},"Exaktheit / Harmonie",null,null,2,{"$f":"E33*D33","v":0},null,null,2,0,null,null,2,0,null,null,2,0,null,null,2,0]
[{"$f":"A33+1","v":25},"Sitz und Einwirkung / Harmonie",null,null,2,{"$f":"E34*D34","v":0},null,null,2,0,null,null,2,0,null,null,2,0,null,null,2,0]
["Lektionen + Gesamteindruck",null,null,null,null,{"$f":"SUM(F30:F34,F27)","v":0},null,null,null,{"$f":"SUM(J30:J34,J27)","v":0},null,null,null,{"$f":"SUM(N30:N34,N27)","v":0},null,null,null,{"$f":"SUM(R30:R34,R27)","v":0},null,null,null,{"$f":"SUM(V30:V34,V27)","v":0}]
[]
["Abzüge"]
[null,"Erster Programmfehler",null,null,-2,{"$f":"E38*D38","v":0},null,null,-2,{"$f":"I38*H38","v":0},null,null,-2,{"$f":"M38*L38","v":0},null,null,-2,{"$f":"P38*Q38","v":0},null,null,-2,{"$f":"T38*U38","v":0}]
[null,"Zweiter Programmfehler",null,null,-5,{"$f":"E39*D39","v":0},null,null,-5,{"$f":"I39*H39","v":0},null,null,-5,{"$f":"M39*L39","v":0},null,null,-5,{"$f":"P39*Q39","v":0},null,null,-5,{"$f":"T39*U39","v":0}]
[null,"Dritter Programmfehler",null,null,-10,{"$f":"E40*D40","v":0},null,null,-10,{"$f":"I40*H40","v":0},null,null,-10,{"$f":"M40*L40","v":0},null,null,-10,0,null,null,-10,0]
["Total Abzüge",null,null,null,null,{"$f":"SUM(F38:F40)","v":0},null,null,null,{"$f":"SUM(J38:J40)","v":0},null,null,null,{"$f":"SUM(N38:N40)","v":0},null,null,null,{"$f":"SUM(R38:R40)","v":0},null,null,null,{"$f":"SUM(V38:V40)","v":0}]
[]
[]
["Endresultat",null,null,null,null,{"$f":"F35+F41","v":0},null,null,null,{"$f":"J35+J41","v":0},null,null,null,{"$f":"N35+N41","v":0},null,null,null,{"$f":"R35+R41","v":0},null,null,null,{"$f":"V35+V41","v":0}]
[]
["in Prozenten",null,null,null,null,{"$f":"F44/320","v":0},null,null,null,{"$f":"J44/320","v":0},null,null,null,{"$f":"N44/320","v":0},null,null,null,{"$f":"R44/320","v":0},null,null,null,{"$f":"V44/320","v":0}]
[]
["ACHTUNG: Noten NUR in den farbigen Feldern eingeben & nach jeder Mannschaft die Datei speichern!"]

{"sheet":"2","index":4,"n_rows":49,"n_cols":22,"rows_kept":49,"cut":false,"hidden":false,"merged":[[3,19,3,21],[0,20,0,21],[0,0,0,5],[2,11,2,13],[3,11,3,13],[2,3,2,5],[3,3,3,5],[2,7,2,9],[3,7,3,9],[2,15,2,17],[3,15,3,17],[2,19,2,21]]}
[{"$f":"Mannschaften!D6","v":0},null,null,null,null,null,null,null,null,null,null,null,"Startnummer:",2,null,null,null,"Prozente:",null,null,{"$f":"((((F47+J47+N47)/3)+((R47+V47)/2))/2)","v":0}]
[]
[{"$f":"Stammdaten!B4","v":"Dressurtage XY"},null,null,{"$f":"Stammdaten!B14","v":"Richter H / Reiter 1"},null,null,null,{"$f":"Stammdaten!B17","v":"Richter C / Reiter 2"},null,null,null,{"$f":"Stammdaten!B20","v":"Richter M / Reiter 3"},null,null,null,{"$f":"Stammdaten!B23","v":"Richter E / Gesamteindr."},null,null,null,{"$f":"Stammdaten!B26","v":"Richter B / Gesamteindr."}]
[{"$f":"Stammdaten!B7","v":"OKV Mannschaftsdressur dd.mm.YYYY"},null,null,{"$f":"Stammdaten!D14","v":"Vor-, Nachname Richter/in 1"},null,null,null,{"$f":"Stammdaten!D17","v":"Vor-, Nachname Richter/in 2"},null,null,null,{"$f":"Stammdaten!D20","v":"Vor-, Nachname Richter/in 3"},null,null,null,{"$f":"Stammdaten!D23","v":"Vor-, Nachname Richter/in 4"},null,null,null,{"$f":"Stammdaten!D26","v":"Vor-, Nachname Richter/in 5"}]
[null,null,null,"Note","Koef.","Punkte",null,"Note","Koef.","Punkte",null,"Note","Koef.","Punkte",null,"Note","Koef.","Punkte",null,"Note","Koef.","Punkte"]
["Lektionen"]
[1,"Einreiten im Arbeitstrab",null,null,1,{"$f":"E7*D7","v":0},null,null,1,{"$f":"I7*H7","v":0},null,null,1,{"$f":"M7*L7","v":0},null,null,1,{"$f":"Q7*P7","v":0},null,null,1,{"$f":"U7*T7","v":0}]
[{"$f":"A7+1","v":2},"Anlegen Schlangenlinie",null,null,1,{"$f":"E8*D8","v":0},null,null,1,{"$f":"I8*H8","v":0},null,null,1,{"$f":"M8*L8","v":0},null,null,1,{"$f":"Q8*P8","v":0},null,null,1,{"$f":"U8*T8","v":0}]
[{"$f":"A8+1","v":3},"Arbeitsgalopp links",null,null,1,{"$f":"E9*D9","v":0},null,null,1,{"$f":"I9*H9","v":0},null,null,1,{"$f":"M9*L9","v":0},null,null,1,{"$f":"Q9*P9","v":0},null,null,1,{"$f":"U9*T9","v":0}]
[4,"Anlegen grosser Volte",null,null,1,{"$f":"E10*D10","v":0},null,null,1,{"$f":"I10*H10","v":0},null,null,1,{"$f":"M10*L10","v":0},null,null,1,{"$f":"Q10*P10","v":0},null,null,1,{"$f":"U10*T10","v":0}]
[5,"Arbeitsgalopp",null,null,1,{"$f":"E11*D11","v":0},null,null,1,{"$f":"I11*H11","v":0},null,null,1,{"$f":"M11*L11","v":0},null,null,1,{"$f":"Q11*P11","v":0},null,null,1,{"$f":"U11*T11","v":0}]
[6,"Volte, Galoppsprünge verlängern",null,null,1,0,null,null,1,0,null,null,1,0,null,null,1,{"$f":"Q12*P12","v":0},null,null,1,{"$f":"U12*T12","v":0}]
[7,"Aufnehmen über M nach C",null,null,1,0,null,null,1,0,null,null,1,0,null,null,1,0,null,null,1,0]
[8,"Arbeitstrab nach H",null,null,1,0,null,null,1,0,null,null,1,0,null,null,1,0,null,null,1,0]
[9,"Durch die ganze Bahn wechseln",null,null,1,0,null,null,1,0,null,null,1,0,null,null,1,0,null,null,1,0]
[10,"Arbeitsgalopp rechts",null,null,1,0,null,null,1,0,null,null,1,0,null,null,1,0,null,null,1,0]
[11,"Anlegen grosser Volte",null,null,1,0,null,null,1,0,null,null,1,0,null,null,1,0,null,null,1,0]
[12,"Arbeitsgalopp",null,null,1,0,null,null,1,0,null,null,1,0,null,null,1,0,null,null,1,0]
[13,"Volte, Galoppsprünge verlängern",null,null,1,0,null,null,1,0,null,null,1,0,null,null,1,0,null,null,1,0]
[14,"Aufnehmen und weiter nach H",null,null,1,0,null,null,1,0,null,null,1,0,null,null,1,0,null,null,1,0]
[15,"Volte, Zügel aus der Hand kauen",null,null,2,0,null,null,2,0,null,null,2,0,null,null,2,0,null,null,2,0]
[16,"Zügel aufnehmen, weiter nach R",null,null,1,0,null,null,1,0,null,null,1,0,null,null,1,0,null,null,1,0]
[17,"Starker Schritt",null,null,2,0,null,null,2,0,null,null,2,0,null,null,2,0,null,null,2,0]
[18,"Mittelschritt",null,null,1,{"$f":"E24*D24","v":0},null,null,1,{"$f":"I24*H24","v":0},null,null,1,{"$f":"M24*L24","v":0},null,null,1,0,null,null,1,0]
[19,"Mittellinie D antraben",null,null,1,0,null,null,1,0,null,null,1,0,null,null,1,0,null,null,1,0]
[20,"Halt und Gruss",null,null,1,{"$f":"E26*D26","v":0},null,null,1,{"$f":"I26*H26","v":0},null,null,1,{"$f":"M26*L26","v":0},null,null,1,0,null,null,1,0]
["Total der Lektionen",null,null,null,null,{"$f":"SUM(F7:F26)","v":0},null,null,null,{"$f":"SUM(J7:J26)","v":0},null,null,null,{"$f":"SUM(N7:N26)","v":0},null,null,null,{"$f":"SUM(R7:R26)","v":0},null,null,null,{"$f":"SUM(V7:V26)","v":0}]
[]
["Gesamteindruck"]
[{"$f":"A26+1","v":21},"Reinheit der Gänge /Abstände",null,null,2,{"$f":"E30*D30","v":0},null,null,2,0,null,null,2,0,null,null,2,{"$f":"P30*Q30","v":0},null,null,2,{"$f":"T30*U30","v":0}]
[{"$f":"A30+1","v":22},"Schwung / Exaktheit",null,null,2,{"$f":"E31*D31","v":0},null,null,2,0,null,null,2,0,null,null,2,{"$f":"P31*Q31","v":0},null,null,2,{"$f":"T31*U31","v":0}]
[{"$f":"A31+1","v":23},"Gehorsam / Ausführung",null,null,2,{"$f":"E32*D32","v":0},null,null,2,0,null,null,2,0,null,null,2,0,null,null,2,0]
[{"$f":"A32+1","v":24},"Exaktheit / Harmonie",null,null,2,{"$f":"E33*D33","v":0},null,null,2,0,null,null,2,0,null,null,2,0,null,null,2,0]
[{"$f":"A33+1","v":25},"Sitz und Einwirkung / Harmonie",null,null,2,{"$f":"E34*D34","v":0},null,null,2,0,null,null,2,0,null,null,2,0,null,null,2,0]
["Lektionen + Gesamteindruck",null,null,null,null,{"$f":"SUM(F30:F34,F27)","v":0},null,null,null,{"$f":"SUM(J30:J34,J27)","v":0},null,null,null,{"$f":"SUM(N30:N34,N27)","v":0},null,null,null,{"$f":"SUM(R30:R34,R27)","v":0},null,null,null,{"$f":"SUM(V30:V34,V27)","v":0}]
[]
["Abzüge"]
[null,"Erster Programmfehler",null,null,-2,{"$f":"E38*D38","v":0},null,null,-2,{"$f":"I38*H38","v":0},null,null,-2,{"$f":"M38*L38","v":0},null,null,-2,{"$f":"P38*Q38","v":0},null,null,-2,{"$f":"T38*U38","v":0}]
[null,"Zweiter Programmfehler",null,null,-5,{"$f":"E39*D39","v":0},null,null,-5,{"$f":"I39*H39","v":0},null,null,-5,{"$f":"M39*L39","v":0},null,null,-5,{"$f":"P39*Q39","v":0},null,null,-5,{"$f":"T39*U39","v":0}]
[null,"Dritter Programmfehler",null,null,-10,{"$f":"E40*D40","v":0},null,null,-10,{"$f":"I40*H40","v":0},null,null,-10,{"$f":"M40*L40","v":0},null,null,-10,0,null,null,-10,0]
["Total Abzüge",null,null,null,null,{"$f":"SUM(F38:F40)","v":0},null,null,null,{"$f":"SUM(J38:J40)","v":0},null,null,null,{"$f":"SUM(N38:N40)","v":0},null,null,null,{"$f":"SUM(R38:R40)","v":0},null,null,null,{"$f":"SUM(V38:V40)","v":0}]
[]
[]
["Endresultat",null,null,null,null,{"$f":"F35+F41","v":0},null,null,null,{"$f":"J35+J41","v":0},null,null,null,{"$f":"N35+N41","v":0},null,null,null,{"$f":"R35+R41","v":0},null,null,null,{"$f":"V35+V41","v":0}]
[]
["in Prozenten",null,null,null,null,{"$f":"F44/320","v":0},null,null,null,{"$f":"J44/320","v":0},null,null,null,{"$f":"N44/320","v":0},null,null,null,{"$f":"R44/320","v":0},null,null,null,{"$f":"V44/320","v":0}]
[]
[]
["ACHTUNG: Noten NUR in den farbigen Feldern eingeben & nach jeder Mannschaft die Datei speichern!"]

{"sheet":"3","index":5,"n_rows":49,"n_cols":22,"rows_kept":49,"cut":false,"hidden":false,"merged":[[3,19,3,21],[0,20,0,21],[2,11,2,13],[3,11,3,13],[2,3,2,5],[3,3,3,5],[2,7,2,9],[3,7,3,9],[2,15,2,17],[2,19,2,21],[3,15,3,17]]}
[{"$f":"Mannschaften!D7","v":0},null,null,null,null,null,null,null,null,null,null,null,"Startnummer:",3,null,null,null,"Prozente:",null,null,{"$f":"((((F47+J47+N47)/3)+((R47+V47)/2))/2)","v":0}]
[]
[{"$f":"Stammdaten!B4","v":"Dressurtage XY"},null,null,{"$f":"Stammdaten!B14","v":"Richter H / Reiter 1"},null,null,null,{"$f":"Stammdaten!B17","v":"Richter C / Reiter 2"},null,null,null,{"$f":"Stammdaten!B20","v":"Richter M / Reiter 3"},null,null,null,{"$f":"Stammdaten!B23","v":"Richter E / Gesamteindr."},null,null,null,{"$f":"Stammdaten!B26","v":"Richter B / Gesamteindr."}]
[{"$f":"Stammdaten!B7","v":"OKV Mannschaftsdressur dd.mm.YYYY"},null,null,{"$f":"Stammdaten!D14","v":"Vor-, Nachname Richter/in 1"},null,null,null,{"$f":"Stammdaten!D17","v":"Vor-, Nachname Richter/in 2"},null,null,null,{"$f":"Stammdaten!D20","v":"Vor-, Nachname Richter/in 3"},null,null,null,{"$f":"Stammdaten!D23","v":"Vor-, Nachname Richter/in 4"},null,null,null,{"$f":"Stammdaten!D26","v":"Vor-, Nachname Richter/in 5"}]
[null,null,null,"Note","Koef.","Punkte",null,"Note","Koef.","Punkte",null,"Note","Koef.","Punkte",null,"Note","Koef.","Punkte",null,"Note","Koef.","Punkte"]
["Lektionen"]
[1,"Einreiten im Arbeitstrab",null,null,1,{"$f":"E7*D7","v":0},null,null,1,{"$f":"I7*H7","v":0},null,null,1,{"$f":"M7*L7","v":0},null,null,1,{"$f":"Q7*P7","v":0},null,null,1,{"$f":"U7*T7","v":0}]
[{"$f":"A7+1","v":2},"Anlegen Schlangenlinie",null,null,1,{"$f":"E8*D8","v":0},null,null,1,{"$f":"I8*H8","v":0},null,null,1,{"$f":"M8*L8","v":0},null,null,1,{"$f":"Q8*P8","v":0},null,null,1,{"$f":"U8*T8","v":0}]
[{"$f":"A8+1","v":3},"Arbeitsgalopp links",null,null,1,{"$f":"E9*D9","v":0},null,null,1,{"$f":"I9*H9","v":0},null,null,1,{"$f":"M9*L9","v":0},null,null,1,{"$f":"Q9*P9","v":0},null,null,1,{"$f":"U9*T9","v":0}]
[4,"Anlegen grosser Volte",null,null,1,{"$f":"E10*D10","v":0},null,null,1,{"$f":"I10*H10","v":0},null,null,1,{"$f":"M10*L10","v":0},null,null,1,{"$f":"Q10*P10","v":0},null,null,1,{"$f":"U10*T10","v":0}]
[5,"Arbeitsgalopp",null,null,1,{"$f":"E11*D11","v":0},null,null,1,{"$f":"I11*H11","v":0},null,null,1,{"$f":"M11*L11","v":0},null,null,1,{"$f":"Q11*P11","v":0},null,null,1,{"$f":"U11*T11","v":0}]
[6,"Volte, Galoppsprünge verlängern",null,null,1,0,null,null,1,0,null,null,1,0,null,null,1,{"$f":"Q12*P12","v":0},null,null,1,{"$f":"U12*T12","v":0}]
[7,"Aufnehmen über M nach C",null,null,1,0,null,null,1,0,null,null,1,0,null,null,1,0,null,null,1,0]
[8,"Arbeitstrab nach H",null,null,1,0,null,null,1,0,null,null,1,0,null,null,1,0,null,null,1,0]
[9,"Durch die ganze Bahn wechseln",null,null,1,0,null,null,1,0,null,null,1,0,null,null,1,0,null,null,1,0]
[10,"Arbeitsgalopp rechts",null,null,1,0,null,null,1,0,null,null,1,0,null,null,1,0,null,null,1,0]
[11,"Anlegen grosser Volte",null,null,1,0,null,null,1,0,null,null,1,0,null,null,1,0,null,null,1,0]
[12,"Arbeitsgalopp",null,null,1,0,null,null,1,0,null,null,1,0,null,null,1,0,null,null,1,0]
[13,"Volte, Galoppsprünge verlängern",null,null,1,0,null,null,1,0,null,null,1,0,null,null,1,0,null,null,1,0]
[14,"Aufnehmen und weiter nach H",null,null,1,0,null,null,1,0,null,null,1,0,null,null,1,0,null,null,1,0]
[15,"Volte, Zügel aus der Hand kauen",null,null,2,0,null,null,2,0,null,null,2,0,null,null,2,0,null,null,2,0]
[16,"Zügel aufnehmen, weiter nach R",null,null,1,0,null,null,1,0,null,null,1,0,null,null,1,0,null,null,1,0]
[17,"Starker Schritt",null,null,2,0,null,null,2,0,null,null,2,0,null,null,2,0,null,null,2,0]
[18,"Mittelschritt",null,null,1,{"$f":"E24*D24","v":0},null,null,1,{"$f":"I24*H24","v":0},null,null,1,{"$f":"M24*L24","v":0},null,null,1,0,null,null,1,0]
[19,"Mittellinie D antraben",null,null,1,0,null,null,1,0,null,null,1,0,null,null,1,0,null,null,1,0]
[20,"Halt und Gruss",null,null,1,{"$f":"E26*D26","v":0},null,null,1,{"$f":"I26*H26","v":0},null,null,1,{"$f":"M26*L26","v":0},null,null,1,0,null,null,1,0]
["Total der Lektionen",null,null,null,null,{"$f":"SUM(F7:F26)","v":0},null,null,null,{"$f":"SUM(J7:J26)","v":0},null,null,null,{"$f":"SUM(N7:N26)","v":0},null,null,null,{"$f":"SUM(R7:R26)","v":0},null,null,null,{"$f":"SUM(V7:V26)","v":0}]
[]
["Gesamteindruck"]
[{"$f":"A26+1","v":21},"Reinheit der Gänge /Abstände",null,null,2,{"$f":"E30*D30","v":0},null,null,2,0,null,null,2,0,null,null,2,{"$f":"P30*Q30","v":0},null,null,2,{"$f":"T30*U30","v":0}]
[{"$f":"A30+1","v":22},"Schwung / Exaktheit",null,null,2,{"$f":"E31*D31","v":0},null,null,2,0,null,null,2,0,null,null,2,{"$f":"P31*Q31","v":0},null,null,2,{"$f":"T31*U31","v":0}]
[{"$f":"A31+1","v":23},"Gehorsam / Ausführung",null,null,2,{"$f":"E32*D32","v":0},null,null,2,0,null,null,2,0,null,null,2,0,null,null,2,0]
[{"$f":"A32+1","v":24},"Exaktheit / Harmonie",null,null,2,{"$f":"E33*D33","v":0},null,null,2,0,null,null,2,0,null,null,2,0,null,null,2,0]
[{"$f":"A33+1","v":25},"Sitz und Einwirkung / Harmonie",null,null,2,{"$f":"E34*D34","v":0},null,null,2,0,null,null,2,0,null,null,2,0,null,null,2,0]
["Lektionen + Gesamteindruck",null,null,null,null,{"$f":"SUM(F30:F34,F27)","v":0},null,null,null,{"$f":"SUM(J30:J34,J27)","v":0},null,null,null,{"$f":"SUM(N30:N34,N27)","v":0},null,null,null,{"$f":"SUM(R30:R34,R27)","v":0},null,null,null,{"$f":"SUM(V30:V34,V27)","v":0}]
[]
["Abzüge"]
[null,"Erster Programmfehler",null,null,-2,{"$f":"E38*D38","v":0},null,null,-2,{"$f":"I38*H38","v":0},null,null,-2,{"$f":"M38*L38","v":0},null,null,-2,{"$f":"P38*Q38","v":0},null,null,-2,{"$f":"T38*U38","v":0}]
[null,"Zweiter Programmfehler",null,null,-5,{"$f":"E39*D39","v":0},null,null,-5,{"$f":"I39*H39","v":0},null,null,-5,{"$f":"M39*L39","v":0},null,null,-5,{"$f":"P39*Q39","v":0},null,null,-5,{"$f":"T39*U39","v":0}]
[null,"Dritter Programmfehler",null,null,-10,{"$f":"E40*D40","v":0},null,null,-10,{"$f":"I40*H40","v":0},null,null,-10,{"$f":"M40*L40","v":0},null,null,-10,0,null,null,-10,0]
["Total Abzüge",null,null,null,null,{"$f":"SUM(F38:F40)","v":0},null,null,null,{"$f":"SUM(J38:J40)","v":0},null,null,null,{"$f":"SUM(N38:N40)","v":0},null,null,null,{"$f":"SUM(R38:R40)","v":0},null,null,null,{"$f":"SUM(V38:V40)","v":0}]
[]
[]
["Endresultat",null,null,null,null,{"$f":"F35+F41","v":0},null,null,null,{"$f":"J35+J41","v":0},null,null,null,{"$f":"N35+N41","v":0},null,null,null,{"$f":"R35+R41","v":0},null,null,null,{"$f":"V35+V41","v":0}]
[]
["in Prozenten",null,null,null,null,{"$f":"F44/320","v":0},null,null,null,{"$f":"J44/320","v":0},null,null,null,{"$f":"N44/320","v":0},null,null,null,{"$f":"R44/320","v":0},null,null,null,{"$f":"V44/320","v":0}]
[]
[]
["ACHTUNG: Noten NUR in den farbigen Feldern eingeben & nach jeder Mannschaft die Datei speichern!"]

{"sheet":"4","index":6,"n_rows":49,"n_cols":22,"rows_kept":49,"cut":false,"hidden":false,"merged":[[3,19,3,21],[0,20,0,21],[0,0,0,5],[2,11,2,13],[3,11,3,13],[2,3,2,5],[3,3,3,5],[2,7,2,9],[3,7,3,9],[2,15,2,17],[3,15,3,17],[2,19,2,21]]}
[{"$f":"Mannschaften!D8","v":0},null,null,null,null,null,null,null,null,null,null,null,"Startnummer:",4,null,null,null,"Prozente:",null,null,{"$f":"((((F47+J47+N47)/3)+((R47+V47)/2))/2)","v":0}]
[]
[{"$f":"Stammdaten!B4","v":"Dressurtage XY"},null,null,{"$f":"Stammdaten!B14","v":"Richter H / Reiter 1"},null,null,null,{"$f":"Stammdaten!B17","v":"Richter C / Reiter 2"},null,null,null,{"$f":"Stammdaten!B20","v":"Richter M / Reiter 3"},null,null,null,{"$f":"Stammdaten!B23","v":"Richter E / Gesamteindr."},null,null,null,{"$f":"Stammdaten!B26","v":"Richter B / Gesamteindr."}]
[{"$f":"Stammdaten!B7","v":"OKV Mannschaftsdressur dd.mm.YYYY"},null,null,{"$f":"Stammdaten!D14","v":"Vor-, Nachname Richter/in 1"},null,null,null,{"$f":"Stammdaten!D17","v":"Vor-, Nachname Richter/in 2"},null,null,null,{"$f":"Stammdaten!D20","v":"Vor-, Nachname Richter/in 3"},null,null,null,{"$f":"Stammdaten!D23","v":"Vor-, Nachname Richter/in 4"},null,null,null,{"$f":"Stammdaten!D26","v":"Vor-, Nachname Richter/in 5"}]
[null,null,null,"Note","Koef.","Punkte",null,"Note","Koef.","Punkte",null,"Note","Koef.","Punkte",null,"Note","Koef.","Punkte",null,"Note","Koef.","Punkte"]
["Lektionen"]
[1,"Einreiten im Arbeitstrab",null,null,1,{"$f":"E7*D7","v":0},null,null,1,{"$f":"I7*H7","v":0},null,null,1,{"$f":"M7*L7","v":0},null,null,1,{"$f":"Q7*P7","v":0},null,null,1,{"$f":"U7*T7","v":0}]
[{"$f":"A7+1","v":2},"Anlegen Schlangenlinie",null,null,1,{"$f":"E8*D8","v":0},null,null,1,{"$f":"I8*H8","v":0},null,null,1,{"$f":"M8*L8","v":0},null,null,1,{"$f":"Q8*P8","v":0},null,null,1,{"$f":"U8*T8","v":0}]
[{"$f":"A8+1","v":3},"Arbeitsgalopp links",null,null,1,{"$f":"E9*D9","v":0},null,null,1,{"$f":"I9*H9","v":0},null,null,1,{"$f":"M9*L9","v":0},null,null,1,{"$f":"Q9*P9","v":0},null,null,1,{"$f":"U9*T9","v":0}]
[4,"Anlegen grosser Volte",null,null,1,{"$f":"E10*D10","v":0},null,null,1,{"$f":"I10*H10","v":0},null,null,1,{"$f":"M10*L10","v":0},null,null,1,{"$f":"Q10*P10","v":0},null,null,1,{"$f":"U10*T10","v":0}]
[5,"Arbeitsgalopp",null,null,1,{"$f":"E11*D11","v":0},null,null,1,{"$f":"I11*H11","v":0},null,null,1,{"$f":"M11*L11","v":0},null,null,1,{"$f":"Q11*P11","v":0},null,null,1,{"$f":"U11*T11","v":0}]
[6,"Volte, Galoppsprünge verlängern",null,null,1,0,null,null,1,0,null,null,1,0,null,null,1,{"$f":"Q12*P12","v":0},null,null,1,{"$f":"U12*T12","v":0}]
[7,"Aufnehmen über M nach C",null,null,1,0,null,null,1,0,null,null,1,0,null,null,1,0,null,null,1,0]
[8,"Arbeitstrab nach H",null,null,1,0,null,null,1,0,null,null,1,0,null,null,1,0,null,null,1,0]
[9,"Durch die ganze Bahn wechseln",null,null,1,0,null,null,1,0,null,null,1,0,null,null,1,0,null,null,1,0]
[10,"Arbeitsgalopp rechts",null,null,1,0,null,null,1,0,null,null,1,0,null,null,1,0,null,null,1,0]
[11,"Anlegen grosser Volte",null,null,1,0,null,null,1,0,null,null,1,0,null,null,1,0,null,null,1,0]
[12,"Arbeitsgalopp",null,null,1,0,null,null,1,0,null,null,1,0,null,null,1,0,null,null,1,0]
[13,"Volte, Galoppsprünge verlängern",null,null,1,0,null,null,1,0,null,null,1,0,null,null,1,0,null,null,1,0]
[14,"Aufnehmen und weiter nach H",null,null,1,0,null,null,1,0,null,null,1,0,null,null,1,0,null,null,1,0]
[15,"Volte, Zügel aus der Hand kauen",null,null,2,0,null,null,2,0,null,null,2,0,null,null,2,0,null,null,2,0]
[16,"Zügel aufnehmen, weiter nach R",null,null,1,0,null,null,1,0,null,null,1,0,null,null,1,0,null,null,1,0]
[17,"Starker Schritt",null,null,2,0,null,null,2,0,null,null,2,0,null,null,2,0,null,null,2,0]
[18,"Mittelschritt",null,null,1,{"$f":"E24*D24","v":0},null,null,1,{"$f":"I24*H24","v":0},null,null,1,{"$f":"M24*L24","v":0},null,null,1,0,null,null,1,0]
[19,"Mittellinie D antraben",null,null,1,0,null,null,1,0,null,null,1,0,null,null,1,0,null,null,1,0]
[20,"Halt und Gruss",null,null,1,{"$f":"E26*D26","v":0},null,null,1,{"$f":"I26*H26","v":0},null,null,1,{"$f":"M26*L26","v":0},null,null,1,0,null,null,1,0]
["Total der Lektionen",null,null,null,null,{"$f":"SUM(F7:F26)","v":0},null,null,null,{"$f":"SUM(J7:J26)","v":0},null,null,null,{"$f":"SUM(N7:N26)","v":0},null,null,null,{"$f":"SUM(R7:R26)","v":0},null,null,null,{"$f":"SUM(V7:V26)","v":0}]
[]
["Gesamteindruck"]
[{"$f":"A26+1","v":21},"Reinheit der Gänge /Abstände",null,null,2,{"$f":"E30*D30","v":0},null,null,2,0,null,null,2,0,null,null,2,{"$f":"P30*Q30","v":0},null,null,2,{"$f":"T30*U30","v":0}]
[{"$f":"A30+1","v":22},"Schwung / Exaktheit",null,null,2,{"$f":"E31*D31","v":0},null,null,2,0,null,null,2,0,null,null,2,{"$f":"P31*Q31","v":0},null,null,2,{"$f":"T31*U31","v":0}]
[{"$f":"A31+1","v":23},"Gehorsam / Ausführung",null,null,2,{"$f":"E32*D32","v":0},null,null,2,0,null,null,2,0,null,null,2,0,null,null,2,0]
[{"$f":"A32+1","v":24},"Exaktheit / Harmonie",null,null,2,{"$f":"E33*D33","v":0},null,null,2,0,null,null,2,0,null,null,2,0,null,null,2,0]
[{"$f":"A33+1","v":25},"Sitz und Einwirkung / Harmonie",null,null,2,{"$f":"E34*D34","v":0},null,null,2,0,null,null,2,0,null,null,2,0,null,null,2,0]
["Lektionen + Gesamteindruck",null,null,null,null,{"$f":"SUM(F30:F34,F27)","v":0},null,null,null,{"$f":"SUM(J30:J34,J27)","v":0},null,null,null,{"$f":"SUM(N30:N34,N27)","v":0},null,null,null,{"$f":"SUM(R30:R34,R27)","v":0},null,null,null,{"$f":"SUM(V30:V34,V27)","v":0}]
[]
["Abzüge"]
[null,"Erster Programmfehler",null,null,-2,{"$f":"E38*D38","v":0},null,null,-2,{"$f":"I38*H38","v":0},null,null,-2,{"$f":"M38*L38","v":0},null,null,-2,{"$f":"P38*Q38","v":0},null,null,-2,{"$f":"T38*U38","v":0}]
[null,"Zweiter Programmfehler",null,null,-5,{"$f":"E39*D39","v":0},null,null,-5,{"$f":"I39*H39","v":0},null,null,-5,{"$f":"M39*L39","v":0},null,null,-5,{"$f":"P39*Q39","v":0},null,null,-5,{"$f":"T39*U39","v":0}]
[null,"Dritter Programmfehler",null,null,-10,{"$f":"E40*D40","v":0},null,null,-10,{"$f":"I40*H40","v":0},null,null,-10,{"$f":"M40*L40","v":0},null,null,-10,0,null,null,-10,0]
["Total Abzüge",null,null,null,null,{"$f":"SUM(F38:F40)","v":0},null,null,null,{"$f":"SUM(J38:J40)","v":0},null,null,null,{"$f":"SUM(N38:N40)","v":0},null,null,null,{"$f":"SUM(R38:R40)","v":0},null,null,null,{"$f":"SUM(V38:V40)","v":0}]
[]
[]
["Endresultat",null,null,null,null,{"$f":"F35+F41","v":0},null,null,null,{"$f":"J35+J41","v":0},null,null,null,{"$f":"N35+N41","v":0},null,null,null,{"$f":"R35+R41","v":0},null,null,null,{"$f":"V35+V41","v":0}]
[]
["in Prozenten",null,null,null,null,{"$f":"F44/320","v":0},null,null,null,{"$f":"J44/320","v":0},null,null,null,{"$f":"N44/320","v":0},null,null,null,{"$f":"R44/320","v":0},null,null,null,{"$f":"V44/320","v":0}]
[]
[]
["ACHTUNG: Noten NUR in den farbigen Feldern eingeben & nach jeder Mannschaft die Datei speichern!"]

{"sheet":"5","index":7,"n_rows":49,"n_cols":22,"rows_kept":49,"cut":false,"hidden":false,"merged":[[3,19,3,21],[0,20,0,21],[0,0,0,5],[2,11,2,13],[3,11,3,13],[2,3,2,5],[3,3,3,5],[2,7,2,9],[3,7,3,9],[2,15,2,17],[3,15,3,17],[2,19,2,21]]}
[{"$f":"Mannschaften!D9","v":0},null,null,null,null,null,null,null,null,null,null,null,"Startnummer:",5,null,null,null,"Prozente:",null,null,{"$f":"((((F47+J47+N47)/3)+((R47+V47)/2))/2)","v":0}]
[]
[{"$f":"Stammdaten!B4","v":"Dressurtage XY"},null,null,{"$f":"Stammdaten!B14","v":"Richter H / Reiter 1"},null,null,null,{"$f":"Stammdaten!B17","v":"Richter C / Reiter 2"},null,null,null,{"$f":"Stammdaten!B20","v":"Richter M / Reiter 3"},null,null,null,{"$f":"Stammdaten!B23","v":"Richter E / Gesamteindr."},null,null,null,{"$f":"Stammdaten!B26","v":"Richter B / Gesamteindr."}]
[{"$f":"Stammdaten!B7","v":"OKV Mannschaftsdressur dd.mm.YYYY"},null,null,{"$f":"Stammdaten!D14","v":"Vor-, Nachname Richter/in 1"},null,null,null,{"$f":"Stammdaten!D17","v":"Vor-, Nachname Richter/in 2"},null,null,null,{"$f":"Stammdaten!D20","v":"Vor-, Nachname Richter/in 3"},null,null,null,{"$f":"Stammdaten!D23","v":"Vor-, Nachname Richter/in 4"},null,null,null,{"$f":"Stammdaten!D26","v":"Vor-, Nachname Richter/in 5"}]
[null,null,null,"Note","Koef.","Punkte",null,"Note","Koef.","Punkte",null,"Note","Koef.","Punkte",null,"Note","Koef.","Punkte",null,"Note","Koef.","Punkte"]
["Lektionen"]
[1,"Einreiten im Arbeitstrab",null,null,1,{"$f":"E7*D7","v":0},null,null,1,{"$f":"I7*H7","v":0},null,null,1,{"$f":"M7*L7","v":0},null,null,1,{"$f":"Q7*P7","v":0},null,null,1,{"$f":"U7*T7","v":0}]
[{"$f":"A7+1","v":2},"Anlegen Schlangenlinie",null,null,1,{"$f":"E8*D8","v":0},null,null,1,{"$f":"I8*H8","v":0},null,null,1,{"$f":"M8*L8","v":0},null,null,1,{"$f":"Q8*P8","v":0},null,null,1,{"$f":"U8*T8","v":0}]
[{"$f":"A8+1","v":3},"Arbeitsgalopp links",null,null,1,{"$f":"E9*D9","v":0},null,null,1,{"$f":"I9*H9","v":0},null,null,1,{"$f":"M9*L9","v":0},null,null,1,{"$f":"Q9*P9","v":0},null,null,1,{"$f":"U9*T9","v":0}]
[4,"Anlegen grosser Volte",null,null,1,{"$f":"E10*D10","v":0},null,null,1,{"$f":"I10*H10","v":0},null,null,1,{"$f":"M10*L10","v":0},null,null,1,{"$f":"Q10*P10","v":0},null,null,1,{"$f":"U10*T10","v":0}]
[5,"Arbeitsgalopp",null,null,1,{"$f":"E11*D11","v":0},null,null,1,{"$f":"I11*H11","v":0},null,null,1,{"$f":"M11*L11","v":0},null,null,1,{"$f":"Q11*P11","v":0},null,null,1,{"$f":"U11*T11","v":0}]
[6,"Volte, Galoppsprünge verlängern",null,null,1,0,null,null,1,0,null,null,1,0,null,null,1,{"$f":"Q12*P12","v":0},null,null,1,{"$f":"U12*T12","v":0}]
[7,"Aufnehmen über M nach C",null,null,1,0,null,null,1,0,null,null,1,0,null,null,1,0,null,null,1,0]
[8,"Arbeitstrab nach H",null,null,1,0,null,null,1,0,null,null,1,0,null,null,1,0,null,null,1,0]
[9,"Durch die ganze Bahn wechseln",null,null,1,0,null,null,1,0,null,null,1,0,null,null,1,0,null,null,1,0]
[10,"Arbeitsgalopp rechts",null,null,1,0,null,null,1,0,null,null,1,0,null,null,1,0,null,null,1,0]
[11,"Anlegen grosser Volte",null,null,1,0,null,null,1,0,null,null,1,0,null,null,1,0,null,null,1,0]
[12,"Arbeitsgalopp",null,null,1,0,null,null,1,0,null,null,1,0,null,null,1,0,null,null,1,0]
[13,"Volte, Galoppsprünge verlängern",null,null,1,0,null,null,1,0,null,null,1,0,null,null,1,0,null,null,1,0]
[14,"Aufnehmen und weiter nach H",null,null,1,0,null,null,1,0,null,null,1,0,null,null,1,0,null,null,1,0]
[15,"Volte, Zügel aus der Hand kauen",null,null,2,0,null,null,2,0,null,null,2,0,null,null,2,0,null,null,2,0]
[16,"Zügel aufnehmen, weiter nach R",null,null,1,0,null,null,1,0,null,null,1,0,null,null,1,0,null,null,1,0]
[17,"Starker Schritt",null,null,2,0,null,null,2,0,null,null,2,0,null,null,2,0,null,null,2,0]
[18,"Mittelschritt",null,null,1,{"$f":"E24*D24","v":0},null,null,1,{"$f":"I24*H24","v":0},null,null,1,{"$f":"M24*L24","v":0},null,null,1,0,null,null,1,0]
[19,"Mittellinie D antraben",null,null,1,0,null,null,1,0,null,null,1,0,null,null,1,0,null,null,1,0]
[20,"Halt und Gruss",null,null,1,{"$f":"E26*D26","v":0},null,null,1,{"$f":"I26*H26","v":0},null,null,1,{"$f":"M26*L26","v":0},null,null,1,0,null,null,1,0]
["Total der Lektionen",null,null,null,null,{"$f":"SUM(F7:F26)","v":0},null,null,null,{"$f":"SUM(J7:J26)","v":0},null,null,null,{"$f":"SUM(N7:N26)","v":0},null,null,null,{"$f":"SUM(R7:R26)","v":0},null,null,null,{"$f":"SUM(V7:V26)","v":0}]
[]
["Gesamteindruck"]
[{"$f":"A26+1","v":21},"Reinheit der Gänge /Abstände",null,null,2,{"$f":"E30*D30","v":0},null,null,2,0,null,null,2,0,null,null,2,{"$f":"P30*Q30","v":0},null,null,2,{"$f":"T30*U30","v":0}]
[{"$f":"A30+1","v":22},"Schwung / Exaktheit",null,null,2,{"$f":"E31*D31","v":0},null,null,2,0,null,null,2,0,null,null,2,{"$f":"P31*Q31","v":0},null,null,2,{"$f":"T31*U31","v":0}]
[{"$f":"A31+1","v":23},"Gehorsam / Ausführung",null,null,2,{"$f":"E32*D32","v":0},null,null,2,0,null,null,2,0,null,null,2,0,null,null,2,0]
[{"$f":"A32+1","v":24},"Exaktheit / Harmonie",null,null,2,{"$f":"E33*D33","v":0},null,null,2,0,null,null,2,0,null,null,2,0,null,null,2,0]
[{"$f":"A33+1","v":25},"Sitz und Einwirkung / Harmonie",null,null,2,{"$f":"E34*D34","v":0},null,null,2,0,null,null,2,0,null,null,2,0,null,null,2,0]
["Lektionen + Gesamteindruck",null,null,null,null,{"$f":"SUM(F30:F34,F27)","v":0},null,null,null,{"$f":"SUM(J30:J34,J27)","v":0},null,null,null,{"$f":"SUM(N30:N34,N27)","v":0},null,null,null,{"$f":"SUM(R30:R34,R27)","v":0},null,null,null,{"$f":"SUM(V30:V34,V27)","v":0}]
[]
["Abzüge"]
[null,"Erster Programmfehler",null,null,-2,{"$f":"E38*D38","v":0},null,null,-2,{"$f":"I38*H38","v":0},null,null,-2,{"$f":"M38*L38","v":0},null,null,-2,{"$f":"P38*Q38","v":0},null,null,-2,{"$f":"T38*U38","v":0}]
[null,"Zweiter Programmfehler",null,null,-5,{"$f":"E39*D39","v":0},null,null,-5,{"$f":"I39*H39","v":0},null,null,-5,{"$f":"M39*L39","v":0},null,null,-5,{"$f":"P39*Q39","v":0},null,null,-5,{"$f":"T39*U39","v":0}]
[null,"Dritter Programmfehler",null,null,-10,{"$f":"E40*D40","v":0},null,null,-10,{"$f":"I40*H40","v":0},null,null,-10,{"$f":"M40*L40","v":0},null,null,-10,0,null,null,-10,0]
["Total Abzüge",null,null,null,null,{"$f":"SUM(F38:F40)","v":0},null,null,null,{"$f":"SUM(J38:J40)","v":0},null,null,null,{"$f":"SUM(N38:N40)","v":0},null,null,null,{"$f":"SUM(R38:R40)","v":0},null,null,null,{"$f":"SUM(V38:V40)","v":0}]
[]
[]
["Endresultat",null,null,null,null,{"$f":"F35+F41","v":0},null,null,null,{"$f":"J35+J41","v":0},null,null,null,{"$f":"N35+N41","v":0},null,null,null,{"$f":"R35+R41","v":0},null,null,null,{"$f":"V35+V41","v":0}]
[]
["in Prozenten",null,null,null,null,{"$f":"F44/320","v":0},null,null,null,{"$f":"J44/320","v":0},null,null,null,{"$f":"N44/320","v":0},null,null,null,{"$f":"R44/320","v":0},null,null,null,{"$f":"V44/320","v":0}]
[]
[]
["ACHTUNG: Noten NUR in den farbigen Feldern eingeben & nach jeder Mannschaft die Datei speichern!"]

{"sheet":"6","index":8,"n_rows":49,"n_cols":22,"rows_kept":49,"cut":false,"hidden":false,"merged":[[3,19,3,21],[0,20,0,21],[0,0,0,5],[2,11,2,13],[3,11,3,13],[2,3,2,5],[3,3,3,5],[2,7,2,9],[3,7,3,9],[2,15,2,17],[3,15,3,17],[2,19,2,21]]}
[{"$f":"Mannschaften!D10","v":0},null,null,null,null,null,null,null,null,null,null,null,"Startnummer:",6,null,null,null,"Prozente:",null,null,{"$f":"((((F47+J47+N47)/3)+((R47+V47)/2))/2)","v":0}]
[]
[{"$f":"Stammdaten!B4","v":"Dressurtage XY"},null,null,{"$f":"Stammdaten!B14","v":"Richter H / Reiter 1"},null,null,null,{"$f":"Stammdaten!B17","v":"Richter C / Reiter 2"},null,null,null,{"$f":"Stammdaten!B20","v":"Richter M / Reiter 3"},null,null,null,{"$f":"Stammdaten!B23","v":"Richter E / Gesamteindr."},null,null,null,{"$f":"Stammdaten!B26","v":"Richter B / Gesamteindr."}]
[{"$f":"Stammdaten!B7","v":"OKV Mannschaftsdressur dd.mm.YYYY"},null,null,{"$f":"Stammdaten!D14","v":"Vor-, Nachname Richter/in 1"},null,null,null,{"$f":"Stammdaten!D17","v":"Vor-, Nachname Richter/in 2"},null,null,null,{"$f":"Stammdaten!D20","v":"Vor-, Nachname Richter/in 3"},null,null,null,{"$f":"Stammdaten!D23","v":"Vor-, Nachname Richter/in 4"},null,null,null,{"$f":"Stammdaten!D26","v":"Vor-, Nachname Richter/in 5"}]
[null,null,null,"Note","Koef.","Punkte",null,"Note","Koef.","Punkte",null,"Note","Koef.","Punkte",null,"Note","Koef.","Punkte",null,"Note","Koef.","Punkte"]
["Lektionen"]
[1,"Einreiten im Arbeitstrab",null,null,1,{"$f":"E7*D7","v":0},null,null,1,{"$f":"I7*H7","v":0},null,null,1,{"$f":"M7*L7","v":0},null,null,1,{"$f":"Q7*P7","v":0},null,null,1,{"$f":"U7*T7","v":0}]
[{"$f":"A7+1","v":2},"Anlegen Schlangenlinie",null,null,1,{"$f":"E8*D8","v":0},null,null,1,{"$f":"I8*H8","v":0},null,null,1,{"$f":"M8*L8","v":0},null,null,1,{"$f":"Q8*P8","v":0},null,null,1,{"$f":"U8*T8","v":0}]
[{"$f":"A8+1","v":3},"Arbeitsgalopp links",null,null,1,{"$f":"E9*D9","v":0},null,null,1,{"$f":"I9*H9","v":0},null,null,1,{"$f":"M9*L9","v":0},null,null,1,{"$f":"Q9*P9","v":0},null,null,1,{"$f":"U9*T9","v":0}]
[4,"Anlegen grosser Volte",null,null,1,{"$f":"E10*D10","v":0},null,null,1,{"$f":"I10*H10","v":0},null,null,1,{"$f":"M10*L10","v":0},null,null,1,{"$f":"Q10*P10","v":0},null,null,1,{"$f":"U10*T10","v":0}]
[5,"Arbeitsgalopp",null,null,1,{"$f":"E11*D11","v":0},null,null,1,{"$f":"I11*H11","v":0},null,null,1,{"$f":"M11*L11","v":0},null,null,1,{"$f":"Q11*P11","v":0},null,null,1,{"$f":"U11*T11","v":0}]
[6,"Volte, Galoppsprünge verlängern",null,null,1,0,null,null,1,0,null,null,1,0,null,null,1,{"$f":"Q12*P12","v":0},null,null,1,{"$f":"U12*T12","v":0}]
[7,"Aufnehmen über M nach C",null,null,1,0,null,null,1,0,null,null,1,0,null,null,1,0,null,null,1,0]
[8,"Arbeitstrab nach H",null,null,1,0,null,null,1,0,null,null,1,0,null,null,1,0,null,null,1,0]
[9,"Durch die ganze Bahn wechseln",null,null,1,0,null,null,1,0,null,null,1,0,null,null,1,0,null,null,1,0]
[10,"Arbeitsgalopp rechts",null,null,1,0,null,null,1,0,null,null,1,0,null,null,1,0,null,null,1,0]
[11,"Anlegen grosser Volte",null,null,1,0,null,null,1,0,null,null,1,0,null,null,1,0,null,null,1,0]
[12,"Arbeitsgalopp",null,null,1,0,null,null,1,0,null,null,1,0,null,null,1,0,null,null,1,0]
[13,"Volte, Galoppsprünge verlängern",null,null,1,0,null,null,1,0,null,null,1,0,null,null,1,0,null,null,1,0]
[14,"Aufnehmen und weiter nach H",null,null,1,0,null,null,1,0,null,null,1,0,null,null,1,0,null,null,1,0]
[15,"Volte, Zügel aus der Hand kauen",null,null,2,0,null,null,2,0,null,null,2,0,null,null,2,0,null,null,2,0]
[16,"Zügel aufnehmen, weiter nach R",null,null,1,0,null,null,1,0,null,null,1,0,null,null,1,0,null,null,1,0]
[17,"Starker Schritt",null,null,2,0,null,null,2,0,null,null,2,0,null,null,2,0,null,null,2,0]
[18,"Mittelschritt",null,null,1,{"$f":"E24*D24","v":0},null,null,1,{"$f":"I24*H24","v":0},null,null,1,{"$f":"M24*L24","v":0},null,null,1,0,null,null,1,0]
[19,"Mittellinie D antraben",null,null,1,0,null,null,1,0,null,null,1,0,null,null,1,0,null,null,1,0]
[20,"Halt und Gruss",null,null,1,{"$f":"E26*D26","v":0},null,null,1,{"$f":"I26*H26","v":0},null,null,1,{"$f":"M26*L26","v":0},null,null,1,0,null,null,1,0]
["Total der Lektionen",null,null,null,null,{"$f":"SUM(F7:F26)","v":0},null,null,null,{"$f":"SUM(J7:J26)","v":0},null,null,null,{"$f":"SUM(N7:N26)","v":0},null,null,null,{"$f":"SUM(R7:R26)","v":0},null,null,null,{"$f":"SUM(V7:V26)","v":0}]
[]
["Gesamteindruck"]
[{"$f":"A26+1","v":21},"Reinheit der Gänge /Abstände",null,null,2,{"$f":"E30*D30","v":0},null,null,2,0,null,null,2,0,null,null,2,{"$f":"P30*Q30","v":0},null,null,2,{"$f":"T30*U30","v":0}]
[{"$f":"A30+1","v":22},"Schwung / Exaktheit",null,null,2,{"$f":"E31*D31","v":0},null,null,2,0,null,null,2,0,null,null,2,{"$f":"P31*Q31","v":0},null,null,2,{"$f":"T31*U31","v":0}]
[{"$f":"A31+1","v":23},"Gehorsam / Ausführung",null,null,2,{"$f":"E32*D32","v":0},null,null,2,0,null,null,2,0,null,null,2,0,null,null,2,0]
[{"$f":"A32+1","v":24},"Exaktheit / Harmonie",null,null,2,{"$f":"E33*D33","v":0},null,null,2,0,null,null,2,0,null,null,2,0,null,null,2,0]
[{"$f":"A33+1","v":25},"Sitz und Einwirkung / Harmonie",null,null,2,{"$f":"E34*D34","v":0},null,null,2,0,null,null,2,0,null,null,2,0,null,null,2,0]
["Lektionen + Gesamteindruck",null,null,null,null,{"$f":"SUM(F30:F34,F27)","v":0},null,null,null,{"$f":"SUM(J30:J34,J27)","v":0},null,null,null,{"$f":"SUM(N30:N34,N27)","v":0},null,null,null,{"$f":"SUM(R30:R34,R27)","v":0},null,null,null,{"$f":"SUM(V30:V34,V27)","v":0}]
[]
["Abzüge"]
[null,"Erster Programmfehler",null,null,-2,{"$f":"E38*D38","v":0},null,null,-2,{"$f":"I38*H38","v":0},null,null,-2,{"$f":"M38*L38","v":0},null,null,-2,{"$f":"P38*Q38","v":0},null,null,-2,{"$f":"T38*U38","v":0}]
[null,"Zweiter Programmfehler",null,null,-5,{"$f":"E39*D39","v":0},null,null,-5,{"$f":"I39*H39","v":0},null,null,-5,{"$f":"M39*L39","v":0},null,null,-5,{"$f":"P39*Q39","v":0},null,null,-5,{"$f":"T39*U39","v":0}]
[null,"Dritter Programmfehler",null,null,-10,{"$f":"E40*D40","v":0},null,null,-10,{"$f":"I40*H40","v":0},null,null,-10,{"$f":"M40*L40","v":0},null,null,-10,0,null,null,-10,0]
["Total Abzüge",null,null,null,null,{"$f":"SUM(F38:F40)","v":0},null,null,null,{"$f":"SUM(J38:J40)","v":0},null,null,null,{"$f":"SUM(N38:N40)","v":0},null,null,null,{"$f":"SUM(R38:R40)","v":0},null,null,null,{"$f":"SUM(V38:V40)","v":0}]
[]
[]
["Endresultat",null,null,null,null,{"$f":"F35+F41","v":0},null,null,null,{"$f":"J35+J41","v":0},null,null,null,{"$f":"N35+N41","v":0},null,null,null,{"$f":"R35+R41","v":0},null,null,null,{"$f":"V35+V41","v":0}]
[]
["in Prozenten",null,null,null,null,{"$f":"F44/320","v":0},null,null,null,{"$f":"J44/320","v":0},null,null,null,{"$f":"N44/320","v":0},null,null,null,{"$f":"R44/320","v":0},null,null,null,{"$f":"V44/320","v":0}]
[]
[]
["ACHTUNG: Noten NUR in den farbigen Feldern eingeben & nach jeder Mannschaft die Datei speichern!"]

{"sheet":"7","index":9,"n_rows":49,"n_cols":22,"rows_kept":49,"cut":false,"hidden":false,"merged":[[3,19,3,21],[0,20,0,21],[0,0,0,5],[2,11,2,13],[3,11,3,13],[2,3,2,5],[3,3,3,5],[2,7,2,9],[3,7,3,9],[2,15,2,17],[3,15,3,17],[2,19,2,21]]}
[{"$f":"Mannschaften!D11","v":0},null,null,null,null,null,null,null,null,null,null,null,"Startnummer:",7,null,null,null,"Prozente:",null,null,{"$f":"((((F47+J47+N47)/3)+((R47+V47)/2))/2)","v":0}]
[]
[{"$f":"Stammdaten!B4","v":"Dressurtage XY"},null,null,{"$f":"Stammdaten!B14","v":"Richter H / Reiter 1"},null,null,null,{"$f":"Stammdaten!B17","v":"Richter C / Reiter 2"},null,null,null,{"$f":"Stammdaten!B20","v":"Richter M / Reiter 3"},null,null,null,{"$f":"Stammdaten!B23","v":"Richter E / Gesamteindr."},null,null,null,{"$f":"Stammdaten!B26","v":"Richter B / Gesamteindr."}]
[{"$f":"Stammdaten!B7","v":"OKV Mannschaftsdressur dd.mm.YYYY"},null,null,{"$f":"Stammdaten!D14","v":"Vor-, Nachname Richter/in 1"},null,null,null,{"$f":"Stammdaten!D17","v":"Vor-, Nachname Richter/in 2"},null,null,null,{"$f":"Stammdaten!D20","v":"Vor-, Nachname Richter/in 3"},null,null,null,{"$f":"Stammdaten!D23","v":"Vor-, Nachname Richter/in 4"},null,null,null,{"$f":"Stammdaten!D26","v":"Vor-, Nachname Richter/in 5"}]
[null,null,null,"Note","Koef.","Punkte",null,"Note","Koef.","Punkte",null,"Note","Koef.","Punkte",null,"Note","Koef.","Punkte",null,"Note","Koef.","Punkte"]
["Lektionen"]
[1,"Einreiten im Arbeitstrab",null,null,1,{"$f":"E7*D7","v":0},null,null,1,{"$f":"I7*H7","v":0},null,null,1,{"$f":"M7*L7","v":0},null,null,1,{"$f":"Q7*P7","v":0},null,null,1,{"$f":"U7*T7","v":0}]
[{"$f":"A7+1","v":2},"Anlegen Schlangenlinie",null,null,1,{"$f":"E8*D8","v":0},null,null,1,{"$f":"I8*H8","v":0},null,null,1,{"$f":"M8*L8","v":0},null,null,1,{"$f":"Q8*P8","v":0},null,null,1,{"$f":"U8*T8","v":0}]
[{"$f":"A8+1","v":3},"Arbeitsgalopp links",null,null,1,{"$f":"E9*D9","v":0},null,null,1,{"$f":"I9*H9","v":0},null,null,1,{"$f":"M9*L9","v":0},null,null,1,{"$f":"Q9*P9","v":0},null,null,1,{"$f":"U9*T9","v":0}]
[4,"Anlegen grosser Volte",null,null,1,{"$f":"E10*D10","v":0},null,null,1,{"$f":"I10*H10","v":0},null,null,1,{"$f":"M10*L10","v":0},null,null,1,{"$f":"Q10*P10","v":0},null,null,1,{"$f":"U10*T10","v":0}]
[5,"Arbeitsgalopp",null,null,1,{"$f":"E11*D11","v":0},null,null,1,{"$f":"I11*H11","v":0},null,null,1,{"$f":"M11*L11","v":0},null,null,1,{"$f":"Q11*P11","v":0},null,null,1,{"$f":"U11*T11","v":0}]
[6,"Volte, Galoppsprünge verlängern",null,null,1,0,null,null,1,0,null,null,1,0,null,null,1,{"$f":"Q12*P12","v":0},null,null,1,{"$f":"U12*T12","v":0}]
[7,"Aufnehmen über M nach C",null,null,1,0,null,null,1,0,null,null,1,0,null,null,1,0,null,null,1,0]
[8,"Arbeitstrab nach H",null,null,1,0,null,null,1,0,null,null,1,0,null,null,1,0,null,null,1,0]
[9,"Durch die ganze Bahn wechseln",null,null,1,0,null,null,1,0,null,null,1,0,null,null,1,0,null,null,1,0]
[10,"Arbeitsgalopp rechts",null,null,1,0,null,null,1,0,null,null,1,0,null,null,1,0,null,null,1,0]
[11,"Anlegen grosser Volte",null,null,1,0,null,null,1,0,null,null,1,0,null,null,1,0,null,null,1,0]
[12,"Arbeitsgalopp",null,null,1,0,null,null,1,0,null,null,1,0,null,null,1,0,null,null,1,0]
[13,"Volte, Galoppsprünge verlängern",null,null,1,0,null,null,1,0,null,null,1,0,null,null,1,0,null,null,1,0]
[14,"Aufnehmen und weiter nach H",null,null,1,0,null,null,1,0,null,null,1,0,null,null,1,0,null,null,1,0]
[15,"Volte, Zügel aus der Hand kauen",null,null,2,0,null,null,2,0,null,null,2,0,null,null,2,0,null,null,2,0]
[16,"Zügel aufnehmen, weiter nach R",null,null,1,0,null,null,1,0,null,null,1,0,null,null,1,0,null,null,1,0]
[17,"Starker Schritt",null,null,2,0,null,null,2,0,null,null,2,0,null,null,2,0,null,null,2,0]
[18,"Mittelschritt",null,null,1,{"$f":"E24*D24","v":0},null,null,1,{"$f":"I24*H24","v":0},null,null,1,{"$f":"M24*L24","v":0},null,null,1,0,null,null,1,0]
[19,"Mittellinie D antraben",null,null,1,0,null,null,1,0,null,null,1,0,null,null,1,0,null,null,1,0]
[20,"Halt und Gruss",null,null,1,{"$f":"E26*D26","v":0},null,null,1,{"$f":"I26*H26","v":0},null,null,1,{"$f":"M26*L26","v":0},null,null,1,0,null,null,1,0]
["Total der Lektionen",null,null,null,null,{"$f":"SUM(F7:F26)","v":0},null,null,null,{"$f":"SUM(J7:J26)","v":0},null,null,null,{"$f":"SUM(N7:N26)","v":0},null,null,null,{"$f":"SUM(R7:R26)","v":0},null,null,null,{"$f":"SUM(V7:V26)","v":0}]
[]
["Gesamteindruck"]
[{"$f":"A26+1","v":21},"Reinheit der Gänge /Abstände",null,null,2,{"$f":"E30*D30","v":0},null,null,2,0,null,null,2,0,null,null,2,{"$f":"P30*Q30","v":0},null,null,2,{"$f":"T30*U30","v":0}]
[{"$f":"A30+1","v":22},"Schwung / Exaktheit",null,null,2,{"$f":"E31*D31","v":0},null,null,2,0,null,null,2,0,null,null,2,{"$f":"P31*Q31","v":0},null,null,2,{"$f":"T31*U31","v":0}]
[{"$f":"A31+1","v":23},"Gehorsam / Ausführung",null,null,2,{"$f":"E32*D32","v":0},null,null,2,0,null,null,2,0,null,null,2,0,null,null,2,0]
[{"$f":"A32+1","v":24},"Exaktheit / Harmonie",null,null,2,{"$f":"E33*D33","v":0},null,null,2,0,null,null,2,0,null,null,2,0,null,null,2,0]
[{"$f":"A33+1","v":25},"Sitz und Einwirkung / Harmonie",null,null,2,{"$f":"E34*D34","v":0},null,null,2,0,null,null,2,0,null,null,2,0,null,null,2,0]
["Lektionen + Gesamteindruck",null,null,null,null,{"$f":"SUM(F30:F34,F27)","v":0},null,null,null,{"$f":"SUM(J30:J34,J27)","v":0},null,null,null,{"$f":"SUM(N30:N34,N27)","v":0},null,null,null,{"$f":"SUM(R30:R34,R27)","v":0},null,null,null,{"$f":"SUM(V30:V34,V27)","v":0}]
[]
["Abzüge"]
[null,"Erster Programmfehler",null,null,-2,{"$f":"E38*D38","v":0},null,null,-2,{"$f":"I38*H38","v":0},null,null,-2,{"$f":"M38*L38","v":0},null,null,-2,{"$f":"P38*Q38","v":0},null,null,-2,{"$f":"T38*U38","v":0}]
[null,"Zweiter Programmfehler",null,null,-5,{"$f":"E39*D39","v":0},null,null,-5,{"$f":"I39*H39","v":0},null,null,-5,{"$f":"M39*L39","v":0},null,null,-5,{"$f":"P39*Q39","v":0},null,null,-5,{"$f":"T39*U39","v":0}]
[null,"Dritter Programmfehler",null,null,-10,{"$f":"E40*D40","v":0},null,null,-10,{"$f":"I40*H40","v":0},null,null,-10,{"$f":"M40*L40","v":0},null,null,-10,0,null,null,-10,0]
["Total Abzüge",null,null,null,null,{"$f":"SUM(F38:F40)","v":0},null,null,null,{"$f":"SUM(J38:J40)","v":0},null,null,null,{"$f":"SUM(N38:N40)","v":0},null,null,null,{"$f":"SUM(R38:R40)","v":0},null,null,null,{"$f":"SUM(V38:V40)","v":0}]
[]
[]
["Endresultat",null,null,null,null,{"$f":"F35+F41","v":0},null,null,null,{"$f":"J35+J41","v":0},null,null,null,{"$f":"N35+N41","v":0},null,null,null,{"$f":"R35+R41","v":0},null,null,null,{"$f":"V35+V41","v":0}]
[]
["in Prozenten",null,null,null,null,{"$f":"F44/320","v":0},null,null,null,{"$f":"J44/320","v":0},null,null,null,{"$f":"N44/320","v":0},null,null,null,{"$f":"R44/320","v":0},null,null,null,{"$f":"V44/320","v":0}]
[]
[]
["ACHTUNG: Noten NUR in den farbigen Feldern eingeben & nach jeder Mannschaft die Datei speichern!"]

{"sheet":"8","index":10,"n_rows":49,"n_cols":22,"rows_kept":49,"cut":false,"hidden":false,"merged":[[3,19,3,21],[0,20,0,21],[0,0,0,5],[2,11,2,13],[3,11,3,13],[2,3,2,5],[3,3,3,5],[2,7,2,9],[3,7,3,9],[2,15,2,17],[3,15,3,17],[2,19,2,21]]}
[{"$f":"Mannschaften!D12","v":0},null,null,null,null,null,null,null,null,null,null,null,"Startnummer:",8,null,null,null,"Prozente:",null,null,{"$f":"((((F47+J47+N47)/3)+((R47+V47)/2))/2)","v":0}]
[]
[{"$f":"Stammdaten!B4","v":"Dressurtage XY"},null,null,{"$f":"Stammdaten!B14","v":"Richter H / Reiter 1"},null,null,null,{"$f":"Stammdaten!B17","v":"Richter C / Reiter 2"},null,null,null,{"$f":"Stammdaten!B20","v":"Richter M / Reiter 3"},null,null,null,{"$f":"Stammdaten!B23","v":"Richter E / Gesamteindr."},null,null,null,{"$f":"Stammdaten!B26","v":"Richter B / Gesamteindr."}]
[{"$f":"Stammdaten!B7","v":"OKV Mannschaftsdressur dd.mm.YYYY"},null,null,{"$f":"Stammdaten!D14","v":"Vor-, Nachname Richter/in 1"},null,null,null,{"$f":"Stammdaten!D17","v":"Vor-, Nachname Richter/in 2"},null,null,null,{"$f":"Stammdaten!D20","v":"Vor-, Nachname Richter/in 3"},null,null,null,{"$f":"Stammdaten!D23","v":"Vor-, Nachname Richter/in 4"},null,null,null,{"$f":"Stammdaten!D26","v":"Vor-, Nachname Richter/in 5"}]
[null,null,null,"Note","Koef.","Punkte",null,"Note","Koef.","Punkte",null,"Note","Koef.","Punkte",null,"Note","Koef.","Punkte",null,"Note","Koef.","Punkte"]
["Lektionen"]
[1,"Einreiten im Arbeitstrab",null,null,1,{"$f":"E7*D7","v":0},null,null,1,{"$f":"I7*H7","v":0},null,null,1,{"$f":"M7*L7","v":0},null,null,1,{"$f":"Q7*P7","v":0},null,null,1,{"$f":"U7*T7","v":0}]
[{"$f":"A7+1","v":2},"Anlegen Schlangenlinie",null,null,1,{"$f":"E8*D8","v":0},null,null,1,{"$f":"I8*H8","v":0},null,null,1,{"$f":"M8*L8","v":0},null,null,1,{"$f":"Q8*P8","v":0},null,null,1,{"$f":"U8*T8","v":0}]
[{"$f":"A8+1","v":3},"Arbeitsgalopp links",null,null,1,{"$f":"E9*D9","v":0},null,null,1,{"$f":"I9*H9","v":0},null,null,1,{"$f":"M9*L9","v":0},null,null,1,{"$f":"Q9*P9","v":0},null,null,1,{"$f":"U9*T9","v":0}]
[4,"Anlegen grosser Volte",null,null,1,{"$f":"E10*D10","v":0},null,null,1,{"$f":"I10*H10","v":0},null,null,1,{"$f":"M10*L10","v":0},null,null,1,{"$f":"Q10*P10","v":0},null,null,1,{"$f":"U10*T10","v":0}]
[5,"Arbeitsgalopp",null,null,1,{"$f":"E11*D11","v":0},null,null,1,{"$f":"I11*H11","v":0},null,null,1,{"$f":"M11*L11","v":0},null,null,1,{"$f":"Q11*P11","v":0},null,null,1,{"$f":"U11*T11","v":0}]
[6,"Volte, Galoppsprünge verlängern",null,null,1,0,null,null,1,0,null,null,1,0,null,null,1,{"$f":"Q12*P12","v":0},null,null,1,{"$f":"U12*T12","v":0}]
[7,"Aufnehmen über M nach C",null,null,1,0,null,null,1,0,null,null,1,0,null,null,1,0,null,null,1,0]
[8,"Arbeitstrab nach H",null,null,1,0,null,null,1,0,null,null,1,0,null,null,1,0,null,null,1,0]
[9,"Durch die ganze Bahn wechseln",null,null,1,0,null,null,1,0,null,null,1,0,null,null,1,0,null,null,1,0]
[10,"Arbeitsgalopp rechts",null,null,1,0,null,null,1,0,null,null,1,0,null,null,1,0,null,null,1,0]
[11,"Anlegen grosser Volte",null,null,1,0,null,null,1,0,null,null,1,0,null,null,1,0,null,null,1,0]
[12,"Arbeitsgalopp",null,null,1,0,null,null,1,0,null,null,1,0,null,null,1,0,null,null,1,0]
[13,"Volte, Galoppsprünge verlängern",null,null,1,0,null,null,1,0,null,null,1,0,null,null,1,0,null,null,1,0]
[14,"Aufnehmen und weiter nach H",null,null,1,0,null,null,1,0,null,null,1,0,null,null,1,0,null,null,1,0]
[15,"Volte, Zügel aus der Hand kauen",null,null,2,0,null,null,2,0,null,null,2,0,null,null,2,0,null,null,2,0]
[16,"Zügel aufnehmen, weiter nach R",null,null,1,0,null,null,1,0,null,null,1,0,null,null,1,0,null,null,1,0]
[17,"Starker Schritt",null,null,2,0,null,null,2,0,null,null,2,0,null,null,2,0,null,null,2,0]
[18,"Mittelschritt",null,null,1,{"$f":"E24*D24","v":0},null,null,1,{"$f":"I24*H24","v":0},null,null,1,{"$f":"M24*L24","v":0},null,null,1,0,null,null,1,0]
[19,"Mittellinie D antraben",null,null,1,0,null,null,1,0,null,null,1,0,null,null,1,0,null,null,1,0]
[20,"Halt und Gruss",null,null,1,{"$f":"E26*D26","v":0},null,null,1,{"$f":"I26*H26","v":0},null,null,1,{"$f":"M26*L26","v":0},null,null,1,0,null,null,1,0]
["Total der Lektionen",null,null,null,null,{"$f":"SUM(F7:F26)","v":0},null,null,null,{"$f":"SUM(J7:J26)","v":0},null,null,null,{"$f":"SUM(N7:N26)","v":0},null,null,null,{"$f":"SUM(R7:R26)","v":0},null,null,null,{"$f":"SUM(V7:V26)","v":0}]
[]
["Gesamteindruck"]
[{"$f":"A26+1","v":21},"Reinheit der Gänge /Abstände",null,null,2,{"$f":"E30*D30","v":0},null,null,2,0,null,null,2,0,null,null,2,{"$f":"P30*Q30","v":0},null,null,2,{"$f":"T30*U30","v":0}]
[{"$f":"A30+1","v":22},"Schwung / Exaktheit",null,null,2,{"$f":"E31*D31","v":0},null,null,2,0,null,null,2,0,null,null,2,{"$f":"P31*Q31","v":0},null,null,2,{"$f":"T31*U31","v":0}]
[{"$f":"A31+1","v":23},"Gehorsam / Ausführung",null,null,2,{"$f":"E32*D32","v":0},null,null,2,0,null,null,2,0,null,null,2,0,null,null,2,0]
[{"$f":"A32+1","v":24},"Exaktheit / Harmonie",null,null,2,{"$f":"E33*D33","v":0},null,null,2,0,null,null,2,0,null,null,2,0,null,null,2,0]
[{"$f":"A33+1","v":25},"Sitz und Einwirkung / Harmonie",null,null,2,{"$f":"E34*D34","v":0},null,null,2,0,null,null,2,0,null,null,2,0,null,null,2,0]
["Lektionen + Gesamteindruck",null,null,null,null,{"$f":"SUM(F30:F34,F27)","v":0},null,null,null,{"$f":"SUM(J30:J34,J27)","v":0},null,null,null,{"$f":"SUM(N30:N34,N27)","v":0},null,null,null,{"$f":"SUM(R30:R34,R27)","v":0},null,null,null,{"$f":"SUM(V30:V34,V27)","v":0}]
[]
["Abzüge"]
[null,"Erster Programmfehler",null,null,-2,{"$f":"E38*D38","v":0},null,null,-2,{"$f":"I38*H38","v":0},null,null,-2,{"$f":"M38*L38","v":0},null,null,-2,{"$f":"P38*Q38","v":0},null,null,-2,{"$f":"T38*U38","v":0}]
[null,"Zweiter Programmfehler",null,null,-5,{"$f":"E39*D39","v":0},null,null,-5,{"$f":"I39*H39","v":0},null,null,-5,{"$f":"M39*L39","v":0},null,null,-5,{"$f":"P39*Q39","v":0},null,null,-5,{"$f":"T39*U39","v":0}]
[null,"Dritter Programmfehler",null,null,-10,{"$f":"E40*D40","v":0},null,null,-10,{"$f":"I40*H40","v":0},null,null,-10,{"$f":"M40*L40","v":0},null,null,-10,0,null,null,-10,0]
["Total Abzüge",null,null,null,null,{"$f":"SUM(F38:F40)","v":0},null,null,null,{"$f":"SUM(J38:J40)","v":0},null,null,null,{"$f":"SUM(N38:N40)","v":0},null,null,null,{"$f":"SUM(R38:R40)","v":0},null,null,null,{"$f":"SUM(V38:V40)","v":0}]
[]
[]
["Endresultat",null,null,null,null,{"$f":"F35+F41","v":0},null,null,null,{"$f":"J35+J41","v":0},null,null,null,{"$f":"N35+N41","v":0},null,null,null,{"$f":"R35+R41","v":0},null,null,null,{"$f":"V35+V41","v":0}]
[]
["in Prozenten",null,null,null,null,{"$f":"F44/320","v":0},null,null,null,{"$f":"J44/320","v":0},null,null,null,{"$f":"N44/320","v":0},null,null,null,{"$f":"R44/320","v":0},null,null,null,{"$f":"V44/320","v":0}]
[]
[]
["ACHTUNG: Noten NUR in den farbigen Feldern eingeben & nach jeder Mannschaft die Datei speichern!"]

{"sheet":"9","index":11,"n_rows":49,"n_cols":22,"rows_kept":49,"cut":false,"hidden":false,"merged":[[3,19,3,21],[0,20,0,21],[0,0,0,5],[2,11,2,13],[3,11,3,13],[2,3,2,5],[3,3,3,5],[2,7,2,9],[3,7,3,9],[2,15,2,17],[3,15,3,17],[2,19,2,21]]}
[{"$f":"Mannschaften!D13","v":0},null,null,null,null,null,null,null,null,null,null,null,"Startnummer:",9,null,null,null,"Prozente:",null,null,{"$f":"((((F47+J47+N47)/3)+((R47+V47)/2))/2)","v":0}]
[]
[{"$f":"Stammdaten!B4","v":"Dressurtage XY"},null,null,{"$f":"Stammdaten!B14","v":"Richter H / Reiter 1"},null,null,null,{"$f":"Stammdaten!B17","v":"Richter C / Reiter 2"},null,null,null,{"$f":"Stammdaten!B20","v":"Richter M / Reiter 3"},null,null,null,{"$f":"Stammdaten!B23","v":"Richter E / Gesamteindr."},null,null,null,{"$f":"Stammdaten!B26","v":"Richter B / Gesamteindr."}]
[{"$f":"Stammdaten!B7","v":"OKV Mannschaftsdressur dd.mm.YYYY"},null,null,{"$f":"Stammdaten!D14","v":"Vor-, Nachname Richter/in 1"},null,null,null,{"$f":"Stammdaten!D17","v":"Vor-, Nachname Richter/in 2"},null,null,null,{"$f":"Stammdaten!D20","v":"Vor-, Nachname Richter/in 3"},null,null,null,{"$f":"Stammdaten!D23","v":"Vor-, Nachname Richter/in 4"},null,null,null,{"$f":"Stammdaten!D26","v":"Vor-, Nachname Richter/in 5"}]
[null,null,null,"Note","Koef.","Punkte",null,"Note","Koef.","Punkte",null,"Note","Koef.","Punkte",null,"Note","Koef.","Punkte",null,"Note","Koef.","Punkte"]
["Lektionen"]
[1,"Einreiten im Arbeitstrab",null,null,1,{"$f":"E7*D7","v":0},null,null,1,{"$f":"I7*H7","v":0},null,null,1,{"$f":"M7*L7","v":0},null,null,1,{"$f":"Q7*P7","v":0},null,null,1,{"$f":"U7*T7","v":0}]
[{"$f":"A7+1","v":2},"Anlegen Schlangenlinie",null,null,1,{"$f":"E8*D8","v":0},null,null,1,{"$f":"I8*H8","v":0},null,null,1,{"$f":"M8*L8","v":0},null,null,1,{"$f":"Q8*P8","v":0},null,null,1,{"$f":"U8*T8","v":0}]
[{"$f":"A8+1","v":3},"Arbeitsgalopp links",null,null,1,{"$f":"E9*D9","v":0},null,null,1,{"$f":"I9*H9","v":0},null,null,1,{"$f":"M9*L9","v":0},null,null,1,{"$f":"Q9*P9","v":0},null,null,1,{"$f":"U9*T9","v":0}]
[4,"Anlegen grosser Volte",null,null,1,{"$f":"E10*D10","v":0},null,null,1,{"$f":"I10*H10","v":0},null,null,1,{"$f":"M10*L10","v":0},null,null,1,{"$f":"Q10*P10","v":0},null,null,1,{"$f":"U10*T10","v":0}]
[5,"Arbeitsgalopp",null,null,1,{"$f":"E11*D11","v":0},null,null,1,{"$f":"I11*H11","v":0},null,null,1,{"$f":"M11*L11","v":0},null,null,1,{"$f":"Q11*P11","v":0},null,null,1,{"$f":"U11*T11","v":0}]
[6,"Volte, Galoppsprünge verlängern",null,null,1,0,null,null,1,0,null,null,1,0,null,null,1,{"$f":"Q12*P12","v":0},null,null,1,{"$f":"U12*T12","v":0}]
[7,"Aufnehmen über M nach C",null,null,1,0,null,null,1,0,null,null,1,0,null,null,1,0,null,null,1,0]
[8,"Arbeitstrab nach H",null,null,1,0,null,null,1,0,null,null,1,0,null,null,1,0,null,null,1,0]
[9,"Durch die ganze Bahn wechseln",null,null,1,0,null,null,1,0,null,null,1,0,null,null,1,0,null,null,1,0]
[10,"Arbeitsgalopp rechts",null,null,1,0,null,null,1,0,null,null,1,0,null,null,1,0,null,null,1,0]
[11,"Anlegen grosser Volte",null,null,1,0,null,null,1,0,null,null,1,0,null,null,1,0,null,null,1,0]
[12,"Arbeitsgalopp",null,null,1,0,null,null,1,0,null,null,1,0,null,null,1,0,null,null,1,0]
[13,"Volte, Galoppsprünge verlängern",null,null,1,0,null,null,1,0,null,null,1,0,null,null,1,0,null,null,1,0]
[14,"Aufnehmen und weiter nach H",null,null,1,0,null,null,1,0,null,null,1,0,null,null,1,0,null,null,1,0]
[15,"Volte, Zügel aus der Hand kauen",null,null,2,0,null,null,2,0,null,null,2,0,null,null,2,0,null,null,2,0]
[16,"Zügel aufnehmen, weiter nach R",null,null,1,0,null,null,1,0,null,null,1,0,null,null,1,0,null,null,1,0]
[17,"Starker Schritt",null,null,2,0,null,null,2,0,null,null,2,0,null,null,2,0,null,null,2,0]
[18,"Mittelschritt",null,null,1,{"$f":"E24*D24","v":0},null,null,1,{"$f":"I24*H24","v":0},null,null,1,{"$f":"M24*L24","v":0},null,null,1,0,null,null,1,0]
[19,"Mittellinie D antraben",null,null,1,0,null,null,1,0,null,null,1,0,null,null,1,0,null,null,1,0]
[20,"Halt und Gruss",null,null,1,{"$f":"E26*D26","v":0},null,null,1,{"$f":"I26*H26","v":0},null,null,1,{"$f":"M26*L26","v":0},null,null,1,0,null,null,1,0]
["Total der Lektionen",null,null,null,null,{"$f":"SUM(F7:F26)","v":0},null,null,null,{"$f":"SUM(J7:J26)","v":0},null,null,null,{"$f":"SUM(N7:N26)","v":0},null,null,null,{"$f":"SUM(R7:R26)","v":0},null,null,null,{"$f":"SUM(V7:V26)","v":0}]
[]
["Gesamteindruck"]
[{"$f":"A26+1","v":21},"Reinheit der Gänge /Abstände",null,null,2,{"$f":"E30*D30","v":0},null,null,2,0,null,null,2,0,null,null,2,{"$f":"P30*Q30","v":0},null,null,2,{"$f":"T30*U30","v":0}]
[{"$f":"A30+1","v":22},"Schwung / Exaktheit",null,null,2,{"$f":"E31*D31","v":0},null,null,2,0,null,null,2,0,null,null,2,{"$f":"P31*Q31","v":0},null,null,2,{"$f":"T31*U31","v":0}]
[{"$f":"A31+1","v":23},"Gehorsam / Ausführung",null,null,2,{"$f":"E32*D32","v":0},null,null,2,0,null,null,2,0,null,null,2,0,null,null,2,0]
[{"$f":"A32+1","v":24},"Exaktheit / Harmonie",null,null,2,{"$f":"E33*D33","v":0},null,null,2,0,null,null,2,0,null,null,2,0,null,null,2,0]
[{"$f":"A33+1","v":25},"Sitz und Einwirkung / Harmonie",null,null,2,{"$f":"E34*D34","v":0},null,null,2,0,null,null,2,0,null,null,2,0,null,null,2,0]
["Lektionen + Gesamteindruck",null,null,null,null,{"$f":"SUM(F30:F34,F27)","v":0},null,null,null,{"$f":"SUM(J30:J34,J27)","v":0},null,null,null,{"$f":"SUM(N30:N34,N27)","v":0},null,null,null,{"$f":"SUM(R30:R34,R27)","v":0},null,null,null,{"$f":"SUM(V30:V34,V27)","v":0}]
[]
["Abzüge"]
[null,"Erster Programmfehler",null,null,-2,{"$f":"E38*D38","v":0},null,null,-2,{"$f":"I38*H38","v":0},null,null,-2,{"$f":"M38*L38","v":0},null,null,-2,{"$f":"P38*Q38","v":0},null,null,-2,{"$f":"T38*U38","v":0}]
[null,"Zweiter Programmfehler",null,null,-5,{"$f":"E39*D39","v":0},null,null,-5,{"$f":"I39*H39","v":0},null,null,-5,{"$f":"M39*L39","v":0},null,null,-5,{"$f":"P39*Q39","v":0},null,null,-5,{"$f":"T39*U39","v":0}]
[null,"Dritter Programmfehler",null,null,-10,{"$f":"E40*D40","v":0},null,null,-10,{"$f":"I40*H40","v":0},null,null,-10,{"$f":"M40*L40","v":0},null,null,-10,0,null,null,-10,0]
["Total Abzüge",null,null,null,null,{"$f":"SUM(F38:F40)","v":0},null,null,null,{"$f":"SUM(J38:J40)","v":0},null,null,null,{"$f":"SUM(N38:N40)","v":0},null,null,null,{"$f":"SUM(R38:R40)","v":0},null,null,null,{"$f":"SUM(V38:V40)","v":0}]
[]
[]
["Endresultat",null,null,null,null,{"$f":"F35+F41","v":0},null,null,null,{"$f":"J35+J41","v":0},null,null,null,{"$f":"N35+N41","v":0},null,null,null,{"$f":"R35+R41","v":0},null,null,null,{"$f":"V35+V41","v":0}]
[]
["in Prozenten",null,null,null,null,{"$f":"F44/320","v":0},null,null,null,{"$f":"J44/320","v":0},null,null,null,{"$f":"N44/320","v":0},null,null,null,{"$f":"R44/320","v":0},null,null,null,{"$f":"V44/320","v":0}]
[]
[]
["ACHTUNG: Noten NUR in den farbigen Feldern eingeben & nach jeder Mannschaft die Datei speichern!"]

{"sheet":"10","index":12,"n_rows":49,"n_cols":22,"rows_kept":49,"cut":false,"hidden":false,"merged":[[3,19,3,21],[0,20,0,21],[0,0,0,5],[2,11,2,13],[3,11,3,13],[2,3,2,5],[3,3,3,5],[2,7,2,9],[3,7,3,9],[2,15,2,17],[3,15,3,17],[2,19,2,21]]}
[{"$f":"Mannschaften!D14","v":0},null,null,null,null,null,null,null,null,null,null,null,"Startnummer:",10,null,null,null,"Prozente:",null,null,{"$f":"((((F47+J47+N47)/3)+((R47+V47)/2))/2)","v":0}]
[]
[{"$f":"Stammdaten!B4","v":"Dressurtage XY"},null,null,{"$f":"Stammdaten!B14","v":"Richter H / Reiter 1"},null,null,null,{"$f":"Stammdaten!B17","v":"Richter C / Reiter 2"},null,null,null,{"$f":"Stammdaten!B20","v":"Richter M / Reiter 3"},null,null,null,{"$f":"Stammdaten!B23","v":"Richter E / Gesamteindr."},null,null,null,{"$f":"Stammdaten!B26","v":"Richter B / Gesamteindr."}]
[{"$f":"Stammdaten!B7","v":"OKV Mannschaftsdressur dd.mm.YYYY"},null,null,{"$f":"Stammdaten!D14","v":"Vor-, Nachname Richter/in 1"},null,null,null,{"$f":"Stammdaten!D17","v":"Vor-, Nachname Richter/in 2"},null,null,null,{"$f":"Stammdaten!D20","v":"Vor-, Nachname Richter/in 3"},null,null,null,{"$f":"Stammdaten!D23","v":"Vor-, Nachname Richter/in 4"},null,null,null,{"$f":"Stammdaten!D26","v":"Vor-, Nachname Richter/in 5"}]
[null,null,null,"Note","Koef.","Punkte",null,"Note","Koef.","Punkte",null,"Note","Koef.","Punkte",null,"Note","Koef.","Punkte",null,"Note","Koef.","Punkte"]
["Lektionen"]
[1,"Einreiten im Arbeitstrab",null,null,1,{"$f":"E7*D7","v":0},null,null,1,{"$f":"I7*H7","v":0},null,null,1,{"$f":"M7*L7","v":0},null,null,1,{"$f":"Q7*P7","v":0},null,null,1,{"$f":"U7*T7","v":0}]
[{"$f":"A7+1","v":2},"Anlegen Schlangenlinie",null,null,1,{"$f":"E8*D8","v":0},null,null,1,{"$f":"I8*H8","v":0},null,null,1,{"$f":"M8*L8","v":0},null,null,1,{"$f":"Q8*P8","v":0},null,null,1,{"$f":"U8*T8","v":0}]
[{"$f":"A8+1","v":3},"Arbeitsgalopp links",null,null,1,{"$f":"E9*D9","v":0},null,null,1,{"$f":"I9*H9","v":0},null,null,1,{"$f":"M9*L9","v":0},null,null,1,{"$f":"Q9*P9","v":0},null,null,1,{"$f":"U9*T9","v":0}]
[4,"Anlegen grosser Volte",null,null,1,{"$f":"E10*D10","v":0},null,null,1,{"$f":"I10*H10","v":0},null,null,1,{"$f":"M10*L10","v":0},null,null,1,{"$f":"Q10*P10","v":0},null,null,1,{"$f":"U10*T10","v":0}]
[5,"Arbeitsgalopp",null,null,1,{"$f":"E11*D11","v":0},null,null,1,{"$f":"I11*H11","v":0},null,null,1,{"$f":"M11*L11","v":0},null,null,1,{"$f":"Q11*P11","v":0},null,null,1,{"$f":"U11*T11","v":0}]
[6,"Volte, Galoppsprünge verlängern",null,null,1,0,null,null,1,0,null,null,1,0,null,null,1,{"$f":"Q12*P12","v":0},null,null,1,{"$f":"U12*T12","v":0}]
[7,"Aufnehmen über M nach C",null,null,1,0,null,null,1,0,null,null,1,0,null,null,1,0,null,null,1,0]
[8,"Arbeitstrab nach H",null,null,1,0,null,null,1,0,null,null,1,0,null,null,1,0,null,null,1,0]
[9,"Durch die ganze Bahn wechseln",null,null,1,0,null,null,1,0,null,null,1,0,null,null,1,0,null,null,1,0]
[10,"Arbeitsgalopp rechts",null,null,1,0,null,null,1,0,null,null,1,0,null,null,1,0,null,null,1,0]
[11,"Anlegen grosser Volte",null,null,1,0,null,null,1,0,null,null,1,0,null,null,1,0,null,null,1,0]
[12,"Arbeitsgalopp",null,null,1,0,null,null,1,0,null,null,1,0,null,null,1,0,null,null,1,0]
[13,"Volte, Galoppsprünge verlängern",null,null,1,0,null,null,1,0,null,null,1,0,null,null,1,0,null,null,1,0]
[14,"Aufnehmen und weiter nach H",null,null,1,0,null,null,1,0,null,null,1,0,null,null,1,0,null,null,1,0]
[15,"Volte, Zügel aus der Hand kauen",null,null,2,0,null,null,2,0,null,null,2,0,null,null,2,0,null,null,2,0]
[16,"Zügel aufnehmen, weiter nach R",null,null,1,0,null,null,1,0,null,null,1,0,null,null,1,0,null,null,1,0]
[17,"Starker Schritt",null,null,2,0,null,null,2,0,null,null,2,0,null,null,2,0,null,null,2,0]
[18,"Mittelschritt",null,null,1,{"$f":"E24*D24","v":0},null,null,1,{"$f":"I24*H24","v":0},null,null,1,{"$f":"M24*L24","v":0},null,null,1,0,null,null,1,0]
[19,"Mittellinie D antraben",null,null,1,0,null,null,1,0,null,null,1,0,null,null,1,0,null,null,1,0]
[20,"Halt und Gruss",null,null,1,{"$f":"E26*D26","v":0},null,null,1,{"$f":"I26*H26","v":0},null,null,1,{"$f":"M26*L26","v":0},null,null,1,0,null,null,1,0]
["Total der Lektionen",null,null,null,null,{"$f":"SUM(F7:F26)","v":0},null,null,null,{"$f":"SUM(J7:J26)","v":0},null,null,null,{"$f":"SUM(N7:N26)","v":0},null,null,null,{"$f":"SUM(R7:R26)","v":0},null,null,null,{"$f":"SUM(V7:V26)","v":0}]
[]
["Gesamteindruck"]
[{"$f":"A26+1","v":21},"Reinheit der Gänge /Abstände",null,null,2,{"$f":"E30*D30","v":0},null,null,2,0,null,null,2,0,null,null,2,{"$f":"P30*Q30","v":0},null,null,2,{"$f":"T30*U30","v":0}]
[{"$f":"A30+1","v":22},"Schwung / Exaktheit",null,null,2,{"$f":"E31*D31","v":0},null,null,2,0,null,null,2,0,null,null,2,{"$f":"P31*Q31","v":0},null,null,2,{"$f":"T31*U31","v":0}]
[{"$f":"A31+1","v":23},"Gehorsam / Ausführung",null,null,2,{"$f":"E32*D32","v":0},null,null,2,0,null,null,2,0,null,null,2,0,null,null,2,0]
[{"$f":"A32+1","v":24},"Exaktheit / Harmonie",null,null,2,{"$f":"E33*D33","v":0},null,null,2,0,null,null,2,0,null,null,2,0,null,null,2,0]
[{"$f":"A33+1","v":25},"Sitz und Einwirkung / Harmonie",null,null,2,{"$f":"E34*D34","v":0},null,null,2,0,null,null,2,0,null,null,2,0,null,null,2,0]
["Lektionen + Gesamteindruck",null,null,null,null,{"$f":"SUM(F30:F34,F27)","v":0},null,null,null,{"$f":"SUM(J30:J34,J27)","v":0},null,null,null,{"$f":"SUM(N30:N34,N27)","v":0},null,null,null,{"$f":"SUM(R30:R34,R27)","v":0},null,null,null,{"$f":"SUM(V30:V34,V27)","v":0}]
[]
["Abzüge"]
[null,"Erster Programmfehler",null,null,-2,{"$f":"E38*D38","v":0},null,null,-2,{"$f":"I38*H38","v":0},null,null,-2,{"$f":"M38*L38","v":0},null,null,-2,{"$f":"P38*Q38","v":0},null,null,-2,{"$f":"T38*U38","v":0}]
[null,"Zweiter Programmfehler",null,null,-5,{"$f":"E39*D39","v":0},null,null,-5,{"$f":"I39*H39","v":0},null,null,-5,{"$f":"M39*L39","v":0},null,null,-5,{"$f":"P39*Q39","v":0},null,null,-5,{"$f":"T39*U39","v":0}]
[null,"Dritter Programmfehler",null,null,-10,{"$f":"E40*D40","v":0},null,null,-10,{"$f":"I40*H40","v":0},null,null,-10,{"$f":"M40*L40","v":0},null,null,-10,0,null,null,-10,0]
["Total Abzüge",null,null,null,null,{"$f":"SUM(F38:F40)","v":0},null,null,null,{"$f":"SUM(J38:J40)","v":0},null,null,null,{"$f":"SUM(N38:N40)","v":0},null,null,null,{"$f":"SUM(R38:R40)","v":0},null,null,null,{"$f":"SUM(V38:V40)","v":0}]
[]
[]
["Endresultat",null,null,null,null,{"$f":"F35+F41","v":0},null,null,null,{"$f":"J35+J41","v":0},null,null,null,{"$f":"N35+N41","v":0},null,null,null,{"$f":"R35+R41","v":0},null,null,null,{"$f":"V35+V41","v":0}]
[]
["in Prozenten",null,null,null,null,{"$f":"F44/320","v":0},null,null,null,{"$f":"J44/320","v":0},null,null,null,{"$f":"N44/320","v":0},null,null,null,{"$f":"R44/320","v":0},null,null,null,{"$f":"V44/320","v":0}]
[]
[]
["ACHTUNG: Noten NUR in den farbigen Feldern eingeben & nach jeder Mannschaft die Datei speichern!"]

{"sheet":"11","index":13,"n_rows":49,"n_cols":22,"rows_kept":49,"cut":false,"hidden":false,"merged":[[0,20,0,21],[2,19,2,21],[3,19,3,21],[0,0,0,5],[2,11,2,13],[3,11,3,13],[2,3,2,5],[3,3,3,5],[2,7,2,9],[3,7,3,9],[2,15,2,17],[3,15,3,17]]}
[{"$f":"Mannschaften!D15","v":0},null,null,null,null,null,null,null,null,null,null,null,"Startnummer:",11,null,null,null,"Prozente:",null,null,{"$f":"((((F47+J47+N47)/3)+((R47+V47)/2))/2)","v":0}]
[]
[{"$f":"Stammdaten!B4","v":"Dressurtage XY"},null,null,{"$f":"Stammdaten!B14","v":"Richter H / Reiter 1"},null,null,null,{"$f":"Stammdaten!B17","v":"Richter C / Reiter 2"},null,null,null,{"$f":"Stammdaten!B20","v":"Richter M / Reiter 3"},null,null,null,{"$f":"Stammdaten!B23","v":"Richter E / Gesamteindr."},null,null,null,{"$f":"Stammdaten!B26","v":"Richter B / Gesamteindr."}]
[{"$f":"Stammdaten!B7","v":"OKV Mannschaftsdressur dd.mm.YYYY"},null,null,{"$f":"Stammdaten!D14","v":"Vor-, Nachname Richter/in 1"},null,null,null,{"$f":"Stammdaten!D17","v":"Vor-, Nachname Richter/in 2"},null,null,null,{"$f":"Stammdaten!D20","v":"Vor-, Nachname Richter/in 3"},null,null,null,{"$f":"Stammdaten!D23","v":"Vor-, Nachname Richter/in 4"},null,null,null,{"$f":"Stammdaten!D26","v":"Vor-, Nachname Richter/in 5"}]
[null,null,null,"Note","Koef.","Punkte",null,"Note","Koef.","Punkte",null,"Note","Koef.","Punkte",null,"Note","Koef.","Punkte",null,"Note","Koef.","Punkte"]
["Lektionen"]
[1,"Einreiten im Arbeitstrab",null,null,1,{"$f":"E7*D7","v":0},null,null,1,{"$f":"I7*H7","v":0},null,null,1,{"$f":"M7*L7","v":0},null,null,1,{"$f":"Q7*P7","v":0},null,null,1,{"$f":"U7*T7","v":0}]
[{"$f":"A7+1","v":2},"Anlegen Schlangenlinie",null,null,1,{"$f":"E8*D8","v":0},null,null,1,{"$f":"I8*H8","v":0},null,null,1,{"$f":"M8*L8","v":0},null,null,1,{"$f":"Q8*P8","v":0},null,null,1,{"$f":"U8*T8","v":0}]
[{"$f":"A8+1","v":3},"Arbeitsgalopp links",null,null,1,{"$f":"E9*D9","v":0},null,null,1,{"$f":"I9*H9","v":0},null,null,1,{"$f":"M9*L9","v":0},null,null,1,{"$f":"Q9*P9","v":0},null,null,1,{"$f":"U9*T9","v":0}]
[4,"Anlegen grosser Volte",null,null,1,{"$f":"E10*D10","v":0},null,null,1,{"$f":"I10*H10","v":0},null,null,1,{"$f":"M10*L10","v":0},null,null,1,{"$f":"Q10*P10","v":0},null,null,1,{"$f":"U10*T10","v":0}]
[5,"Arbeitsgalopp",null,null,1,{"$f":"E11*D11","v":0},null,null,1,{"$f":"I11*H11","v":0},null,null,1,{"$f":"M11*L11","v":0},null,null,1,{"$f":"Q11*P11","v":0},null,null,1,{"$f":"U11*T11","v":0}]
[6,"Volte, Galoppsprünge verlängern",null,null,1,0,null,null,1,0,null,null,1,0,null,null,1,{"$f":"Q12*P12","v":0},null,null,1,{"$f":"U12*T12","v":0}]
[7,"Aufnehmen über M nach C",null,null,1,0,null,null,1,0,null,null,1,0,null,null,1,0,null,null,1,0]
[8,"Arbeitstrab nach H",null,null,1,0,null,null,1,0,null,null,1,0,null,null,1,0,null,null,1,0]
[9,"Durch die ganze Bahn wechseln",null,null,1,0,null,null,1,0,null,null,1,0,null,null,1,0,null,null,1,0]
[10,"Arbeitsgalopp rechts",null,null,1,0,null,null,1,0,null,null,1,0,null,null,1,0,null,null,1,0]
[11,"Anlegen grosser Volte",null,null,1,0,null,null,1,0,null,null,1,0,null,null,1,0,null,null,1,0]
[12,"Arbeitsgalopp",null,null,1,0,null,null,1,0,null,null,1,0,null,null,1,0,null,null,1,0]
[13,"Volte, Galoppsprünge verlängern",null,null,1,0,null,null,1,0,null,null,1,0,null,null,1,0,null,null,1,0]
[14,"Aufnehmen und weiter nach H",null,null,1,0,null,null,1,0,null,null,1,0,null,null,1,0,null,null,1,0]
[15,"Volte, Zügel aus der Hand kauen",null,null,2,0,null,null,2,0,null,null,2,0,null,null,2,0,null,null,2,0]
[16,"Zügel aufnehmen, weiter nach R",null,null,1,0,null,null,1,0,null,null,1,0,null,null,1,0,null,null,1,0]
[17,"Starker Schritt",null,null,2,0,null,null,2,0,null,null,2,0,null,null,2,0,null,null,2,0]
[18,"Mittelschritt",null,null,1,{"$f":"E24*D24","v":0},null,null,1,{"$f":"I24*H24","v":0},null,null,1,{"$f":"M24*L24","v":0},null,null,1,0,null,null,1,0]
[19,"Mittellinie D antraben",null,null,1,0,null,null,1,0,null,null,1,0,null,null,1,0,null,null,1,0]
[20,"Halt und Gruss",null,null,1,{"$f":"E26*D26","v":0},null,null,1,{"$f":"I26*H26","v":0},null,null,1,{"$f":"M26*L26","v":0},null,null,1,0,null,null,1,0]
["Total der Lektionen",null,null,null,null,{"$f":"SUM(F7:F26)","v":0},null,null,null,{"$f":"SUM(J7:J26)","v":0},null,null,null,{"$f":"SUM(N7:N26)","v":0},null,null,null,{"$f":"SUM(R7:R26)","v":0},null,null,null,{"$f":"SUM(V7:V26)","v":0}]
[]
["Gesamteindruck"]
[{"$f":"A26+1","v":21},"Reinheit der Gänge /Abstände",null,null,2,{"$f":"E30*D30","v":0},null,null,2,0,null,null,2,0,null,null,2,{"$f":"P30*Q30","v":0},null,null,2,{"$f":"T30*U30","v":0}]
[{"$f":"A30+1","v":22},"Schwung / Exaktheit",null,null,2,{"$f":"E31*D31","v":0},null,null,2,0,null,null,2,0,null,null,2,{"$f":"P31*Q31","v":0},null,null,2,{"$f":"T31*U31","v":0}]
[{"$f":"A31+1","v":23},"Gehorsam / Ausführung",null,null,2,{"$f":"E32*D32","v":0},null,null,2,0,null,null,2,0,null,null,2,0,null,null,2,0]
[{"$f":"A32+1","v":24},"Exaktheit / Harmonie",null,null,2,{"$f":"E33*D33","v":0},null,null,2,0,null,null,2,0,null,null,2,0,null,null,2,0]
[{"$f":"A33+1","v":25},"Sitz und Einwirkung / Harmonie",null,null,2,{"$f":"E34*D34","v":0},null,null,2,0,null,null,2,0,null,null,2,0,null,null,2,0]
["Lektionen + Gesamteindruck",null,null,null,null,{"$f":"SUM(F30:F34,F27)","v":0},null,null,null,{"$f":"SUM(J30:J34,J27)","v":0},null,null,null,{"$f":"SUM(N30:N34,N27)","v":0},null,null,null,{"$f":"SUM(R30:R34,R27)","v":0},null,null,null,{"$f":"SUM(V30:V34,V27)","v":0}]
[]
["Abzüge"]
[null,"Erster Programmfehler",null,null,-2,{"$f":"E38*D38","v":0},null,null,-2,{"$f":"I38*H38","v":0},null,null,-2,{"$f":"M38*L38","v":0},null,null,-2,{"$f":"P38*Q38","v":0},null,null,-2,{"$f":"T38*U38","v":0}]
[null,"Zweiter Programmfehler",null,null,-5,{"$f":"E39*D39","v":0},null,null,-5,{"$f":"I39*H39","v":0},null,null,-5,{"$f":"M39*L39","v":0},null,null,-5,{"$f":"P39*Q39","v":0},null,null,-5,{"$f":"T39*U39","v":0}]
[null,"Dritter Programmfehler",null,null,-10,{"$f":"E40*D40","v":0},null,null,-10,{"$f":"I40*H40","v":0},null,null,-10,{"$f":"M40*L40","v":0},null,null,-10,0,null,null,-10,0]
["Total Abzüge",null,null,null,null,{"$f":"SUM(F38:F40)","v":0},null,null,null,{"$f":"SUM(J38:J40)","v":0},null,null,null,{"$f":"SUM(N38:N40)","v":0},null,null,null,{"$f":"SUM(R38:R40)","v":0},null,null,null,{"$f":"SUM(V38:V40)","v":0}]
[]
[]
["Endresultat",null,null,null,null,{"$f":"F35+F41","v":0},null,null,null,{"$f":"J35+J41","v":0},null,null,null,{"$f":"N35+N41","v":0},null,null,null,{"$f":"R35+R41","v":0},null,null,null,{"$f":"V35+V41","v":0}]
[]
["in Prozenten",null,null,null,null,{"$f":"F44/320","v":0},null,null,null,{"$f":"J44/320","v":0},null,null,null,{"$f":"N44/320","v":0},null,null,null,{"$f":"R44/320","v":0},null,null,null,{"$f":"V44/320","v":0}]
[]
[]
["ACHTUNG: Noten NUR in den farbigen Feldern eingeben & nach jeder Mannschaft die Datei speichern!"]

{"sheet":"12","index":14,"n_rows":49,"n_cols":22,"rows_kept":49,"cut":false,"hidden":false,"merged":[[0,20,0,21],[2,19,2,21],[3,19,3,21],[0,0,0,5],[2,11,2,13],[3,11,3,13],[2,3,2,5],[3,3,3,5],[2,7,2,9],[3,7,3,9],[2,15,2,17],[3,15,3,17]]}
[{"$f":"Mannschaften!D16","v":0},null,null,null,null,null,null,null,null,null,null,null,"Startnummer:",12,null,null,null,"Prozente:",null,null,{"$f":"((((F47+J47+N47)/3)+((R47+V47)/2))/2)","v":0}]
[]
[{"$f":"Stammdaten!B4","v":"Dressurtage XY"},null,null,{"$f":"Stammdaten!B14","v":"Richter H / Reiter 1"},null,null,null,{"$f":"Stammdaten!B17","v":"Richter C / Reiter 2"},null,null,null,{"$f":"Stammdaten!B20","v":"Richter M / Reiter 3"},null,null,null,{"$f":"Stammdaten!B23","v":"Richter E / Gesamteindr."},null,null,null,{"$f":"Stammdaten!B26","v":"Richter B / Gesamteindr."}]
[{"$f":"Stammdaten!B7","v":"OKV Mannschaftsdressur dd.mm.YYYY"},null,null,{"$f":"Stammdaten!D14","v":"Vor-, Nachname Richter/in 1"},null,null,null,{"$f":"Stammdaten!D17","v":"Vor-, Nachname Richter/in 2"},null,null,null,{"$f":"Stammdaten!D20","v":"Vor-, Nachname Richter/in 3"},null,null,null,{"$f":"Stammdaten!D23","v":"Vor-, Nachname Richter/in 4"},null,null,null,{"$f":"Stammdaten!D26","v":"Vor-, Nachname Richter/in 5"}]
[null,null,null,"Note","Koef.","Punkte",null,"Note","Koef.","Punkte",null,"Note","Koef.","Punkte",null,"Note","Koef.","Punkte",null,"Note","Koef.","Punkte"]
["Lektionen"]
[1,"Einreiten im Arbeitstrab",null,null,1,{"$f":"E7*D7","v":0},null,null,1,{"$f":"I7*H7","v":0},null,null,1,{"$f":"M7*L7","v":0},null,null,1,{"$f":"Q7*P7","v":0},null,null,1,{"$f":"U7*T7","v":0}]
[{"$f":"A7+1","v":2},"Anlegen Schlangenlinie",null,null,1,{"$f":"E8*D8","v":0},null,null,1,{"$f":"I8*H8","v":0},null,null,1,{"$f":"M8*L8","v":0},null,null,1,{"$f":"Q8*P8","v":0},null,null,1,{"$f":"U8*T8","v":0}]
[{"$f":"A8+1","v":3},"Arbeitsgalopp links",null,null,1,{"$f":"E9*D9","v":0},null,null,1,{"$f":"I9*H9","v":0},null,null,1,{"$f":"M9*L9","v":0},null,null,1,{"$f":"Q9*P9","v":0},null,null,1,{"$f":"U9*T9","v":0}]
[4,"Anlegen grosser Volte",null,null,1,{"$f":"E10*D10","v":0},null,null,1,{"$f":"I10*H10","v":0},null,null,1,{"$f":"M10*L10","v":0},null,null,1,{"$f":"Q10*P10","v":0},null,null,1,{"$f":"U10*T10","v":0}]
[5,"Arbeitsgalopp",null,null,1,{"$f":"E11*D11","v":0},null,null,1,{"$f":"I11*H11","v":0},null,null,1,{"$f":"M11*L11","v":0},null,null,1,{"$f":"Q11*P11","v":0},null,null,1,{"$f":"U11*T11","v":0}]
[6,"Volte, Galoppsprünge verlängern",null,null,1,0,null,null,1,0,null,null,1,0,null,null,1,{"$f":"Q12*P12","v":0},null,null,1,{"$f":"U12*T12","v":0}]
[7,"Aufnehmen über M nach C",null,null,1,0,null,null,1,0,null,null,1,0,null,null,1,0,null,null,1,0]
[8,"Arbeitstrab nach H",null,null,1,0,null,null,1,0,null,null,1,0,null,null,1,0,null,null,1,0]
[9,"Durch die ganze Bahn wechseln",null,null,1,0,null,null,1,0,null,null,1,0,null,null,1,0,null,null,1,0]
[10,"Arbeitsgalopp rechts",null,null,1,0,null,null,1,0,null,null,1,0,null,null,1,0,null,null,1,0]
[11,"Anlegen grosser Volte",null,null,1,0,null,null,1,0,null,null,1,0,null,null,1,0,null,null,1,0]
[12,"Arbeitsgalopp",null,null,1,0,null,null,1,0,null,null,1,0,null,null,1,0,null,null,1,0]
[13,"Volte, Galoppsprünge verlängern",null,null,1,0,null,null,1,0,null,null,1,0,null,null,1,0,null,null,1,0]
[14,"Aufnehmen und weiter nach H",null,null,1,0,null,null,1,0,null,null,1,0,null,null,1,0,null,null,1,0]
[15,"Volte, Zügel aus der Hand kauen",null,null,2,0,null,null,2,0,null,null,2,0,null,null,2,0,null,null,2,0]
[16,"Zügel aufnehmen, weiter nach R",null,null,1,0,null,null,1,0,null,null,1,0,null,null,1,0,null,null,1,0]
[17,"Starker Schritt",null,null,2,0,null,null,2,0,null,null,2,0,null,null,2,0,null,null,2,0]
[18,"Mittelschritt",null,null,1,{"$f":"E24*D24","v":0},null,null,1,{"$f":"I24*H24","v":0},null,null,1,{"$f":"M24*L24","v":0},null,null,1,0,null,null,1,0]
[19,"Mittellinie D antraben",null,null,1,0,null,null,1,0,null,null,1,0,null,null,1,0,null,null,1,0]
[20,"Halt und Gruss",null,null,1,{"$f":"E26*D26","v":0},null,null,1,{"$f":"I26*H26","v":0},null,null,1,{"$f":"M26*L26","v":0},null,null,1,0,null,null,1,0]
["Total der Lektionen",null,null,null,null,{"$f":"SUM(F7:F26)","v":0},null,null,null,{"$f":"SUM(J7:J26)","v":0},null,null,null,{"$f":"SUM(N7:N26)","v":0},null,null,null,{"$f":"SUM(R7:R26)","v":0},null,null,null,{"$f":"SUM(V7:V26)","v":0}]
[]
["Gesamteindruck"]
[{"$f":"A26+1","v":21},"Reinheit der Gänge /Abstände",null,null,2,{"$f":"E30*D30","v":0},null,null,2,0,null,null,2,0,null,null,2,{"$f":"P30*Q30","v":0},null,null,2,{"$f":"T30*U30","v":0}]
[{"$f":"A30+1","v":22},"Schwung / Exaktheit",null,null,2,{"$f":"E31*D31","v":0},null,null,2,0,null,null,2,0,null,null,2,{"$f":"P31*Q31","v":0},null,null,2,{"$f":"T31*U31","v":0}]
[{"$f":"A31+1","v":23},"Gehorsam / Ausführung",null,null,2,{"$f":"E32*D32","v":0},null,null,2,0,null,null,2,0,null,null,2,0,null,null,2,0]
[{"$f":"A32+1","v":24},"Exaktheit / Harmonie",null,null,2,{"$f":"E33*D33","v":0},null,null,2,0,null,null,2,0,null,null,2,0,null,null,2,0]
[{"$f":"A33+1","v":25},"Sitz und Einwirkung / Harmonie",null,null,2,{"$f":"E34*D34","v":0},null,null,2,0,null,null,2,0,null,null,2,0,null,null,2,0]
["Lektionen + Gesamteindruck",null,null,null,null,{"$f":"SUM(F30:F34,F27)","v":0},null,null,null,{"$f":"SUM(J30:J34,J27)","v":0},null,null,null,{"$f":"SUM(N30:N34,N27)","v":0},null,null,null,{"$f":"SUM(R30:R34,R27)","v":0},null,null,null,{"$f":"SUM(V30:V34,V27)","v":0}]
[]
["Abzüge"]
[null,"Erster Programmfehler",null,null,-2,{"$f":"E38*D38","v":0},null,null,-2,{"$f":"I38*H38","v":0},null,null,-2,{"$f":"M38*L38","v":0},null,null,-2,{"$f":"P38*Q38","v":0},null,null,-2,{"$f":"T38*U38","v":0}]
[null,"Zweiter Programmfehler",null,null,-5,{"$f":"E39*D39","v":0},null,null,-5,{"$f":"I39*H39","v":0},null,null,-5,{"$f":"M39*L39","v":0},null,null,-5,{"$f":"P39*Q39","v":0},null,null,-5,{"$f":"T39*U39","v":0}]
[null,"Dritter Programmfehler",null,null,-10,{"$f":"E40*D40","v":0},null,null,-10,{"$f":"I40*H40","v":0},null,null,-10,{"$f":"M40*L40","v":0},null,null,-10,0,null,null,-10,0]
["Total Abzüge",null,null,null,null,{"$f":"SUM(F38:F40)","v":0},null,null,null,{"$f":"SUM(J38:J40)","v":0},null,null,null,{"$f":"SUM(N38:N40)","v":0},null,null,null,{"$f":"SUM(R38:R40)","v":0},null,null,null,{"$f":"SUM(V38:V40)","v":0}]
[]
[]
["Endresultat",null,null,null,null,{"$f":"F35+F41","v":0},null,null,null,{"$f":"J35+J41","v":0},null,null,null,{"$f":"N35+N41","v":0},null,null,null,{"$f":"R35+R41","v":0},null,null,null,{"$f":"V35+V41","v":0}]
[]
["in Prozenten",null,null,null,null,{"$f":"F44/320","v":0},null,null,null,{"$f":"J44/320","v":0},null,null,null,{"$f":"N44/320","v":0},null,null,null,{"$f":"R44/320","v":0},null,null,null,{"$f":"V44/320","v":0}]
[]
[]
["ACHTUNG: Noten NUR in den farbigen Feldern eingeben & nach jeder Mannschaft die Datei speichern!"]

{"sheet":"13","index":15,"n_rows":49,"n_cols":22,"rows_kept":49,"cut":false,"hidden":false,"merged":[[0,20,0,21],[2,19,2,21],[3,19,3,21],[0,0,0,5],[2,11,2,13],[3,11,3,13],[2,3,2,5],[3,3,3,5],[2,7,2,9],[3,7,3,9],[2,15,2,17],[3,15,3,17]]}
[{"$f":"Mannschaften!D17","v":0},null,null,null,null,null,null,null,null,null,null,null,"Startnummer:",13,null,null,null,"Prozente:",null,null,{"$f":"((((F47+J47+N47)/3)+((R47+V47)/2))/2)","v":0}]
[]
[{"$f":"Stammdaten!B4","v":"Dressurtage XY"},null,null,{"$f":"Stammdaten!B14","v":"Richter H / Reiter 1"},null,null,null,{"$f":"Stammdaten!B17","v":"Richter C / Reiter 2"},null,null,null,{"$f":"Stammdaten!B20","v":"Richter M / Reiter 3"},null,null,null,{"$f":"Stammdaten!B23","v":"Richter E / Gesamteindr."},null,null,null,{"$f":"Stammdaten!B26","v":"Richter B / Gesamteindr."}]
[{"$f":"Stammdaten!B7","v":"OKV Mannschaftsdressur dd.mm.YYYY"},null,null,{"$f":"Stammdaten!D14","v":"Vor-, Nachname Richter/in 1"},null,null,null,{"$f":"Stammdaten!D17","v":"Vor-, Nachname Richter/in 2"},null,null,null,{"$f":"Stammdaten!D20","v":"Vor-, Nachname Richter/in 3"},null,null,null,{"$f":"Stammdaten!D23","v":"Vor-, Nachname Richter/in 4"},null,null,null,{"$f":"Stammdaten!D26","v":"Vor-, Nachname Richter/in 5"}]
[null,null,null,"Note","Koef.","Punkte",null,"Note","Koef.","Punkte",null,"Note","Koef.","Punkte",null,"Note","Koef.","Punkte",null,"Note","Koef.","Punkte"]
["Lektionen"]
[1,"Einreiten im Arbeitstrab",null,null,1,{"$f":"E7*D7","v":0},null,null,1,{"$f":"I7*H7","v":0},null,null,1,{"$f":"M7*L7","v":0},null,null,1,{"$f":"Q7*P7","v":0},null,null,1,{"$f":"U7*T7","v":0}]
[{"$f":"A7+1","v":2},"Anlegen Schlangenlinie",null,null,1,{"$f":"E8*D8","v":0},null,null,1,{"$f":"I8*H8","v":0},null,null,1,{"$f":"M8*L8","v":0},null,null,1,{"$f":"Q8*P8","v":0},null,null,1,{"$f":"U8*T8","v":0}]
[{"$f":"A8+1","v":3},"Arbeitsgalopp links",null,null,1,{"$f":"E9*D9","v":0},null,null,1,{"$f":"I9*H9","v":0},null,null,1,{"$f":"M9*L9","v":0},null,null,1,{"$f":"Q9*P9","v":0},null,null,1,{"$f":"U9*T9","v":0}]
[4,"Anlegen grosser Volte",null,null,1,{"$f":"E10*D10","v":0},null,null,1,{"$f":"I10*H10","v":0},null,null,1,{"$f":"M10*L10","v":0},null,null,1,{"$f":"Q10*P10","v":0},null,null,1,{"$f":"U10*T10","v":0}]
[5,"Arbeitsgalopp",null,null,1,{"$f":"E11*D11","v":0},null,null,1,{"$f":"I11*H11","v":0},null,null,1,{"$f":"M11*L11","v":0},null,null,1,{"$f":"Q11*P11","v":0},null,null,1,{"$f":"U11*T11","v":0}]
[6,"Volte, Galoppsprünge verlängern",null,null,1,0,null,null,1,0,null,null,1,0,null,null,1,{"$f":"Q12*P12","v":0},null,null,1,{"$f":"U12*T12","v":0}]
[7,"Aufnehmen über M nach C",null,null,1,0,null,null,1,0,null,null,1,0,null,null,1,0,null,null,1,0]
[8,"Arbeitstrab nach H",null,null,1,0,null,null,1,0,null,null,1,0,null,null,1,0,null,null,1,0]
[9,"Durch die ganze Bahn wechseln",null,null,1,0,null,null,1,0,null,null,1,0,null,null,1,0,null,null,1,0]
[10,"Arbeitsgalopp rechts",null,null,1,0,null,null,1,0,null,null,1,0,null,null,1,0,null,null,1,0]
[11,"Anlegen grosser Volte",null,null,1,0,null,null,1,0,null,null,1,0,null,null,1,0,null,null,1,0]
[12,"Arbeitsgalopp",null,null,1,0,null,null,1,0,null,null,1,0,null,null,1,0,null,null,1,0]
[13,"Volte, Galoppsprünge verlängern",null,null,1,0,null,null,1,0,null,null,1,0,null,null,1,0,null,null,1,0]
[14,"Aufnehmen und weiter nach H",null,null,1,0,null,null,1,0,null,null,1,0,null,null,1,0,null,null,1,0]
[15,"Volte, Zügel aus der Hand kauen",null,null,2,0,null,null,2,0,null,null,2,0,null,null,2,0,null,null,2,0]
[16,"Zügel aufnehmen, weiter nach R",null,null,1,0,null,null,1,0,null,null,1,0,null,null,1,0,null,null,1,0]
[17,"Starker Schritt",null,null,2,0,null,null,2,0,null,null,2,0,null,null,2,0,null,null,2,0]
[18,"Mittelschritt",null,null,1,{"$f":"E24*D24","v":0},null,null,1,{"$f":"I24*H24","v":0},null,null,1,{"$f":"M24*L24","v":0},null,null,1,0,null,null,1,0]
[19,"Mittellinie D antraben",null,null,1,0,null,null,1,0,null,null,1,0,null,null,1,0,null,null,1,0]
[20,"Halt und Gruss",null,null,1,{"$f":"E26*D26","v":0},null,null,1,{"$f":"I26*H26","v":0},null,null,1,{"$f":"M26*L26","v":0},null,null,1,0,null,null,1,0]
["Total der Lektionen",null,null,null,null,{"$f":"SUM(F7:F26)","v":0},null,null,null,{"$f":"SUM(J7:J26)","v":0},null,null,null,{"$f":"SUM(N7:N26)","v":0},null,null,null,{"$f":"SUM(R7:R26)","v":0},null,null,null,{"$f":"SUM(V7:V26)","v":0}]
[]
["Gesamteindruck"]
[{"$f":"A26+1","v":21},"Reinheit der Gänge /Abstände",null,null,2,{"$f":"E30*D30","v":0},null,null,2,0,null,null,2,0,null,null,2,{"$f":"P30*Q30","v":0},null,null,2,{"$f":"T30*U30","v":0}]
[{"$f":"A30+1","v":22},"Schwung / Exaktheit",null,null,2,{"$f":"E31*D31","v":0},null,null,2,0,null,null,2,0,null,null,2,{"$f":"P31*Q31","v":0},null,null,2,{"$f":"T31*U31","v":0}]
[{"$f":"A31+1","v":23},"Gehorsam / Ausführung",null,null,2,{"$f":"E32*D32","v":0},null,null,2,0,null,null,2,0,null,null,2,0,null,null,2,0]
[{"$f":"A32+1","v":24},"Exaktheit / Harmonie",null,null,2,{"$f":"E33*D33","v":0},null,null,2,0,null,null,2,0,null,null,2,0,null,null,2,0]
[{"$f":"A33+1","v":25},"Sitz und Einwirkung / Harmonie",null,null,2,{"$f":"E34*D34","v":0},null,null,2,0,null,null,2,0,null,null,2,0,null,null,2,0]
["Lektionen + Gesamteindruck",null,null,null,null,{"$f":"SUM(F30:F34,F27)","v":0},null,null,null,{"$f":"SUM(J30:J34,J27)","v":0},null,null,null,{"$f":"SUM(N30:N34,N27)","v":0},null,null,null,{"$f":"SUM(R30:R34,R27)","v":0},null,null,null,{"$f":"SUM(V30:V34,V27)","v":0}]
[]
["Abzüge"]
[null,"Erster Programmfehler",null,null,-2,{"$f":"E38*D38","v":0},null,null,-2,{"$f":"I38*H38","v":0},null,null,-2,{"$f":"M38*L38","v":0},null,null,-2,{"$f":"P38*Q38","v":0},null,null,-2,{"$f":"T38*U38","v":0}]
[null,"Zweiter Programmfehler",null,null,-5,{"$f":"E39*D39","v":0},null,null,-5,{"$f":"I39*H39","v":0},null,null,-5,{"$f":"M39*L39","v":0},null,null,-5,{"$f":"P39*Q39","v":0},null,null,-5,{"$f":"T39*U39","v":0}]
[null,"Dritter Programmfehler",null,null,-10,{"$f":"E40*D40","v":0},null,null,-10,{"$f":"I40*H40","v":0},null,null,-10,{"$f":"M40*L40","v":0},null,null,-10,0,null,null,-10,0]
["Total Abzüge",null,null,null,null,{"$f":"SUM(F38:F40)","v":0},null,null,null,{"$f":"SUM(J38:J40)","v":0},null,null,null,{"$f":"SUM(N38:N40)","v":0},null,null,null,{"$f":"SUM(R38:R40)","v":0},null,null,null,{"$f":"SUM(V38:V40)","v":0}]
[]
[]
["Endresultat",null,null,null,null,{"$f":"F35+F41","v":0},null,null,null,{"$f":"J35+J41","v":0},null,null,null,{"$f":"N35+N41","v":0},null,null,null,{"$f":"R35+R41","v":0},null,null,null,{"$f":"V35+V41","v":0}]
[]
["in Prozenten",null,null,null,null,{"$f":"F44/320","v":0},null,null,null,{"$f":"J44/320","v":0},null,null,null,{"$f":"N44/320","v":0},null,null,null,{"$f":"R44/320","v":0},null,null,null,{"$f":"V44/320","v":0}]
[]
[]
["ACHTUNG: Noten NUR in den farbigen Feldern eingeben & nach jeder Mannschaft die Datei speichern!"]

{"sheet":"14","index":16,"n_rows":49,"n_cols":22,"rows_kept":49,"cut":false,"hidden":false,"merged":[[0,20,0,21],[2,19,2,21],[3,19,3,21],[0,0,0,5],[2,11,2,13],[3,11,3,13],[2,3,2,5],[3,3,3,5],[2,7,2,9],[3,7,3,9],[2,15,2,17],[3,15,3,17]]}
[{"$f":"Mannschaften!D18","v":0},null,null,null,null,null,null,null,null,null,null,null,"Startnummer:",14,null,null,null,"Prozente:",null,null,{"$f":"((((F47+J47+N47)/3)+((R47+V47)/2))/2)","v":0}]
[]
[{"$f":"Stammdaten!B4","v":"Dressurtage XY"},null,null,{"$f":"Stammdaten!B14","v":"Richter H / Reiter 1"},null,null,null,{"$f":"Stammdaten!B17","v":"Richter C / Reiter 2"},null,null,null,{"$f":"Stammdaten!B20","v":"Richter M / Reiter 3"},null,null,null,{"$f":"Stammdaten!B23","v":"Richter E / Gesamteindr."},null,null,null,{"$f":"Stammdaten!B26","v":"Richter B / Gesamteindr."}]
[{"$f":"Stammdaten!B7","v":"OKV Mannschaftsdressur dd.mm.YYYY"},null,null,{"$f":"Stammdaten!D14","v":"Vor-, Nachname Richter/in 1"},null,null,null,{"$f":"Stammdaten!D17","v":"Vor-, Nachname Richter/in 2"},null,null,null,{"$f":"Stammdaten!D20","v":"Vor-, Nachname Richter/in 3"},null,null,null,{"$f":"Stammdaten!D23","v":"Vor-, Nachname Richter/in 4"},null,null,null,{"$f":"Stammdaten!D26","v":"Vor-, Nachname Richter/in 5"}]
[null,null,null,"Note","Koef.","Punkte",null,"Note","Koef.","Punkte",null,"Note","Koef.","Punkte",null,"Note","Koef.","Punkte",null,"Note","Koef.","Punkte"]
["Lektionen"]
[1,"Einreiten im Arbeitstrab",null,null,1,{"$f":"E7*D7","v":0},null,null,1,{"$f":"I7*H7","v":0},null,null,1,{"$f":"M7*L7","v":0},null,null,1,{"$f":"Q7*P7","v":0},null,null,1,{"$f":"U7*T7","v":0}]
[{"$f":"A7+1","v":2},"Anlegen Schlangenlinie",null,null,1,{"$f":"E8*D8","v":0},null,null,1,{"$f":"I8*H8","v":0},null,null,1,{"$f":"M8*L8","v":0},null,null,1,{"$f":"Q8*P8","v":0},null,null,1,{"$f":"U8*T8","v":0}]
[{"$f":"A8+1","v":3},"Arbeitsgalopp links",null,null,1,{"$f":"E9*D9","v":0},null,null,1,{"$f":"I9*H9","v":0},null,null,1,{"$f":"M9*L9","v":0},null,null,1,{"$f":"Q9*P9","v":0},null,null,1,{"$f":"U9*T9","v":0}]
[4,"Anlegen grosser Volte",null,null,1,{"$f":"E10*D10","v":0},null,null,1,{"$f":"I10*H10","v":0},null,null,1,{"$f":"M10*L10","v":0},null,null,1,{"$f":"Q10*P10","v":0},null,null,1,{"$f":"U10*T10","v":0}]
[5,"Arbeitsgalopp",null,null,1,{"$f":"E11*D11","v":0},null,null,1,{"$f":"I11*H11","v":0},null,null,1,{"$f":"M11*L11","v":0},null,null,1,{"$f":"Q11*P11","v":0},null,null,1,{"$f":"U11*T11","v":0}]
[6,"Volte, Galoppsprünge verlängern",null,null,1,0,null,null,1,0,null,null,1,0,null,null,1,{"$f":"Q12*P12","v":0},null,null,1,{"$f":"U12*T12","v":0}]
[7,"Aufnehmen über M nach C",null,null,1,0,null,null,1,0,null,null,1,0,null,null,1,0,null,null,1,0]
[8,"Arbeitstrab nach H",null,null,1,0,null,null,1,0,null,null,1,0,null,null,1,0,null,null,1,0]
[9,"Durch die ganze Bahn wechseln",null,null,1,0,null,null,1,0,null,null,1,0,null,null,1,0,null,null,1,0]
[10,"Arbeitsgalopp rechts",null,null,1,0,null,null,1,0,null,null,1,0,null,null,1,0,null,null,1,0]
[11,"Anlegen grosser Volte",null,null,1,0,null,null,1,0,null,null,1,0,null,null,1,0,null,null,1,0]
[12,"Arbeitsgalopp",null,null,1,0,null,null,1,0,null,null,1,0,null,null,1,0,null,null,1,0]
[13,"Volte, Galoppsprünge verlängern",null,null,1,0,null,null,1,0,null,null,1,0,null,null,1,0,null,null,1,0]
[14,"Aufnehmen und weiter nach H",null,null,1,0,null,null,1,0,null,null,1,0,null,null,1,0,null,null,1,0]
[15,"Volte, Zügel aus der Hand kauen",null,null,2,0,null,null,2,0,null,null,2,0,null,null,2,0,null,null,2,0]
[16,"Zügel aufnehmen, weiter nach R",null,null,1,0,null,null,1,0,null,null,1,0,null,null,1,0,null,null,1,0]
[17,"Starker Schritt",null,null,2,0,null,null,2,0,null,null,2,0,null,null,2,0,null,null,2,0]
[18,"Mittelschritt",null,null,1,{"$f":"E24*D24","v":0},null,null,1,{"$f":"I24*H24","v":0},null,null,1,{"$f":"M24*L24","v":0},null,null,1,0,null,null,1,0]
[19,"Mittellinie D antraben",null,null,1,0,null,null,1,0,null,null,1,0,null,null,1,0,null,null,1,0]
[20,"Halt und Gruss",null,null,1,{"$f":"E26*D26","v":0},null,null,1,{"$f":"I26*H26","v":0},null,null,1,{"$f":"M26*L26","v":0},null,null,1,0,null,null,1,0]
["Total der Lektionen",null,null,null,null,{"$f":"SUM(F7:F26)","v":0},null,null,null,{"$f":"SUM(J7:J26)","v":0},null,null,null,{"$f":"SUM(N7:N26)","v":0},null,null,null,{"$f":"SUM(R7:R26)","v":0},null,null,null,{"$f":"SUM(V7:V26)","v":0}]
[]
["Gesamteindruck"]
[{"$f":"A26+1","v":21},"Reinheit der Gänge /Abstände",null,null,2,{"$f":"E30*D30","v":0},null,null,2,0,null,null,2,0,null,null,2,{"$f":"P30*Q30","v":0},null,null,2,{"$f":"T30*U30","v":0}]
[{"$f":"A30+1","v":22},"Schwung / Exaktheit",null,null,2,{"$f":"E31*D31","v":0},null,null,2,0,null,null,2,0,null,null,2,{"$f":"P31*Q31","v":0},null,null,2,{"$f":"T31*U31","v":0}]
[{"$f":"A31+1","v":23},"Gehorsam / Ausführung",null,null,2,{"$f":"E32*D32","v":0},null,null,2,0,null,null,2,0,null,null,2,0,null,null,2,0]
[{"$f":"A32+1","v":24},"Exaktheit / Harmonie",null,null,2,{"$f":"E33*D33","v":0},null,null,2,0,null,null,2,0,null,null,2,0,null,null,2,0]
[{"$f":"A33+1","v":25},"Sitz und Einwirkung / Harmonie",null,null,2,{"$f":"E34*D34","v":0},null,null,2,0,null,null,2,0,null,null,2,0,null,null,2,0]
["Lektionen + Gesamteindruck",null,null,null,null,{"$f":"SUM(F30:F34,F27)","v":0},null,null,null,{"$f":"SUM(J30:J34,J27)","v":0},null,null,null,{"$f":"SUM(N30:N34,N27)","v":0},null,null,null,{"$f":"SUM(R30:R34,R27)","v":0},null,null,null,{"$f":"SUM(V30:V34,V27)","v":0}]
[]
["Abzüge"]
[null,"Erster Programmfehler",null,null,-2,{"$f":"E38*D38","v":0},null,null,-2,{"$f":"I38*H38","v":0},null,null,-2,{"$f":"M38*L38","v":0},null,null,-2,{"$f":"P38*Q38","v":0},null,null,-2,{"$f":"T38*U38","v":0}]
[null,"Zweiter Programmfehler",null,null,-5,{"$f":"E39*D39","v":0},null,null,-5,{"$f":"I39*H39","v":0},null,null,-5,{"$f":"M39*L39","v":0},null,null,-5,{"$f":"P39*Q39","v":0},null,null,-5,{"$f":"T39*U39","v":0}]
[null,"Dritter Programmfehler",null,null,-10,{"$f":"E40*D40","v":0},null,null,-10,{"$f":"I40*H40","v":0},null,null,-10,{"$f":"M40*L40","v":0},null,null,-10,0,null,null,-10,0]
["Total Abzüge",null,null,null,null,{"$f":"SUM(F38:F40)","v":0},null,null,null,{"$f":"SUM(J38:J40)","v":0},null,null,null,{"$f":"SUM(N38:N40)","v":0},null,null,null,{"$f":"SUM(R38:R40)","v":0},null,null,null,{"$f":"SUM(V38:V40)","v":0}]
[]
[]
["Endresultat",null,null,null,null,{"$f":"F35+F41","v":0},null,null,null,{"$f":"J35+J41","v":0},null,null,null,{"$f":"N35+N41","v":0},null,null,null,{"$f":"R35+R41","v":0},null,null,null,{"$f":"V35+V41","v":0}]
[]
["in Prozenten",null,null,null,null,{"$f":"F44/320","v":0},null,null,null,{"$f":"J44/320","v":0},null,null,null,{"$f":"N44/320","v":0},null,null,null,{"$f":"R44/320","v":0},null,null,null,{"$f":"V44/320","v":0}]
[]
[]
["ACHTUNG: Noten NUR in den farbigen Feldern eingeben & nach jeder Mannschaft die Datei speichern!"]

{"sheet":"15","index":17,"n_rows":49,"n_cols":22,"rows_kept":49,"cut":false,"hidden":false,"merged":[[0,20,0,21],[2,19,2,21],[3,19,3,21],[0,0,0,5],[2,11,2,13],[3,11,3,13],[2,3,2,5],[3,3,3,5],[2,7,2,9],[3,7,3,9],[2,15,2,17],[3,15,3,17]]}
[{"$f":"Mannschaften!D19","v":0},null,null,null,null,null,null,null,null,null,null,null,"Startnummer:",15,null,null,null,"Prozente:",null,null,{"$f":"((((F47+J47+N47)/3)+((R47+V47)/2))/2)","v":0}]
[]
[{"$f":"Stammdaten!B4","v":"Dressurtage XY"},null,null,{"$f":"Stammdaten!B14","v":"Richter H / Reiter 1"},null,null,null,{"$f":"Stammdaten!B17","v":"Richter C / Reiter 2"},null,null,null,{"$f":"Stammdaten!B20","v":"Richter M / Reiter 3"},null,null,null,{"$f":"Stammdaten!B23","v":"Richter E / Gesamteindr."},null,null,null,{"$f":"Stammdaten!B26","v":"Richter B / Gesamteindr."}]
[{"$f":"Stammdaten!B7","v":"OKV Mannschaftsdressur dd.mm.YYYY"},null,null,{"$f":"Stammdaten!D14","v":"Vor-, Nachname Richter/in 1"},null,null,null,{"$f":"Stammdaten!D17","v":"Vor-, Nachname Richter/in 2"},null,null,null,{"$f":"Stammdaten!D20","v":"Vor-, Nachname Richter/in 3"},null,null,null,{"$f":"Stammdaten!D23","v":"Vor-, Nachname Richter/in 4"},null,null,null,{"$f":"Stammdaten!D26","v":"Vor-, Nachname Richter/in 5"}]
[null,null,null,"Note","Koef.","Punkte",null,"Note","Koef.","Punkte",null,"Note","Koef.","Punkte",null,"Note","Koef.","Punkte",null,"Note","Koef.","Punkte"]
["Lektionen"]
[1,"Einreiten im Arbeitstrab",null,null,1,{"$f":"E7*D7","v":0},null,null,1,{"$f":"I7*H7","v":0},null,null,1,{"$f":"M7*L7","v":0},null,null,1,{"$f":"Q7*P7","v":0},null,null,1,{"$f":"U7*T7","v":0}]
[{"$f":"A7+1","v":2},"Anlegen Schlangenlinie",null,null,1,{"$f":"E8*D8","v":0},null,null,1,{"$f":"I8*H8","v":0},null,null,1,{"$f":"M8*L8","v":0},null,null,1,{"$f":"Q8*P8","v":0},null,null,1,{"$f":"U8*T8","v":0}]
[{"$f":"A8+1","v":3},"Arbeitsgalopp links",null,null,1,{"$f":"E9*D9","v":0},null,null,1,{"$f":"I9*H9","v":0},null,null,1,{"$f":"M9*L9","v":0},null,null,1,{"$f":"Q9*P9","v":0},null,null,1,{"$f":"U9*T9","v":0}]
[4,"Anlegen grosser Volte",null,null,1,{"$f":"E10*D10","v":0},null,null,1,{"$f":"I10*H10","v":0},null,null,1,{"$f":"M10*L10","v":0},null,null,1,{"$f":"Q10*P10","v":0},null,null,1,{"$f":"U10*T10","v":0}]
[5,"Arbeitsgalopp",null,null,1,{"$f":"E11*D11","v":0},null,null,1,{"$f":"I11*H11","v":0},null,null,1,{"$f":"M11*L11","v":0},null,null,1,{"$f":"Q11*P11","v":0},null,null,1,{"$f":"U11*T11","v":0}]
[6,"Volte, Galoppsprünge verlängern",null,null,1,0,null,null,1,0,null,null,1,0,null,null,1,{"$f":"Q12*P12","v":0},null,null,1,{"$f":"U12*T12","v":0}]
[7,"Aufnehmen über M nach C",null,null,1,0,null,null,1,0,null,null,1,0,null,null,1,0,null,null,1,0]
[8,"Arbeitstrab nach H",null,null,1,0,null,null,1,0,null,null,1,0,null,null,1,0,null,null,1,0]
[9,"Durch die ganze Bahn wechseln",null,null,1,0,null,null,1,0,null,null,1,0,null,null,1,0,null,null,1,0]
[10,"Arbeitsgalopp rechts",null,null,1,0,null,null,1,0,null,null,1,0,null,null,1,0,null,null,1,0]
[11,"Anlegen grosser Volte",null,null,1,0,null,null,1,0,null,null,1,0,null,null,1,0,null,null,1,0]
[12,"Arbeitsgalopp",null,null,1,0,null,null,1,0,null,null,1,0,null,null,1,0,null,null,1,0]
[13,"Volte, Galoppsprünge verlängern",null,null,1,0,null,null,1,0,null,null,1,0,null,null,1,0,null,null,1,0]
[14,"Aufnehmen und weiter nach H",null,null,1,0,null,null,1,0,null,null,1,0,null,null,1,0,null,null,1,0]
[15,"Volte, Zügel aus der Hand kauen",null,null,2,0,null,null,2,0,null,null,2,0,null,null,2,0,null,null,2,0]
[16,"Zügel aufnehmen, weiter nach R",null,null,1,0,null,null,1,0,null,null,1,0,null,null,1,0,null,null,1,0]
[17,"Starker Schritt",null,null,2,0,null,null,2,0,null,null,2,0,null,null,2,0,null,null,2,0]
[18,"Mittelschritt",null,null,1,{"$f":"E24*D24","v":0},null,null,1,{"$f":"I24*H24","v":0},null,null,1,{"$f":"M24*L24","v":0},null,null,1,0,null,null,1,0]
[19,"Mittellinie D antraben",null,null,1,0,null,null,1,0,null,null,1,0,null,null,1,0,null,null,1,0]
[20,"Halt und Gruss",null,null,1,{"$f":"E26*D26","v":0},null,null,1,{"$f":"I26*H26","v":0},null,null,1,{"$f":"M26*L26","v":0},null,null,1,0,null,null,1,0]
["Total der Lektionen",null,null,null,null,{"$f":"SUM(F7:F26)","v":0},null,null,null,{"$f":"SUM(J7:J26)","v":0},null,null,null,{"$f":"SUM(N7:N26)","v":0},null,null,null,{"$f":"SUM(R7:R26)","v":0},null,null,null,{"$f":"SUM(V7:V26)","v":0}]
[]
["Gesamteindruck"]
[{"$f":"A26+1","v":21},"Reinheit der Gänge /Abstände",null,null,2,{"$f":"E30*D30","v":0},null,null,2,0,null,null,2,0,null,null,2,{"$f":"P30*Q30","v":0},null,null,2,{"$f":"T30*U30","v":0}]
[{"$f":"A30+1","v":22},"Schwung / Exaktheit",null,null,2,{"$f":"E31*D31","v":0},null,null,2,0,null,null,2,0,null,null,2,{"$f":"P31*Q31","v":0},null,null,2,{"$f":"T31*U31","v":0}]
[{"$f":"A31+1","v":23},"Gehorsam / Ausführung",null,null,2,{"$f":"E32*D32","v":0},null,null,2,0,null,null,2,0,null,null,2,0,null,null,2,0]
[{"$f":"A32+1","v":24},"Exaktheit / Harmonie",null,null,2,{"$f":"E33*D33","v":0},null,null,2,0,null,null,2,0,null,null,2,0,null,null,2,0]
[{"$f":"A33+1","v":25},"Sitz und Einwirkung / Harmonie",null,null,2,{"$f":"E34*D34","v":0},null,null,2,0,null,null,2,0,null,null,2,0,null,null,2,0]
["Lektionen + Gesamteindruck",null,null,null,null,{"$f":"SUM(F30:F34,F27)","v":0},null,null,null,{"$f":"SUM(J30:J34,J27)","v":0},null,null,null,{"$f":"SUM(N30:N34,N27)","v":0},null,null,null,{"$f":"SUM(R30:R34,R27)","v":0},null,null,null,{"$f":"SUM(V30:V34,V27)","v":0}]
[]
["Abzüge"]
[null,"Erster Programmfehler",null,null,-2,{"$f":"E38*D38","v":0},null,null,-2,{"$f":"I38*H38","v":0},null,null,-2,{"$f":"M38*L38","v":0},null,null,-2,{"$f":"P38*Q38","v":0},null,null,-2,{"$f":"T38*U38","v":0}]
[null,"Zweiter Programmfehler",null,null,-5,{"$f":"E39*D39","v":0},null,null,-5,{"$f":"I39*H39","v":0},null,null,-5,{"$f":"M39*L39","v":0},null,null,-5,{"$f":"P39*Q39","v":0},null,null,-5,{"$f":"T39*U39","v":0}]
[null,"Dritter Programmfehler",null,null,-10,{"$f":"E40*D40","v":0},null,null,-10,{"$f":"I40*H40","v":0},null,null,-10,{"$f":"M40*L40","v":0},null,null,-10,0,null,null,-10,0]
["Total Abzüge",null,null,null,null,{"$f":"SUM(F38:F40)","v":0},null,null,null,{"$f":"SUM(J38:J40)","v":0},null,null,null,{"$f":"SUM(N38:N40)","v":0},null,null,null,{"$f":"SUM(R38:R40)","v":0},null,null,null,{"$f":"SUM(V38:V40)","v":0}]
[]
[]
["Endresultat",null,null,null,null,{"$f":"F35+F41","v":0},null,null,null,{"$f":"J35+J41","v":0},null,null,null,{"$f":"N35+N41","v":0},null,null,null,{"$f":"R35+R41","v":0},null,null,null,{"$f":"V35+V41","v":0}]
[]
["in Prozenten",null,null,null,null,{"$f":"F44/320","v":0},null,null,null,{"$f":"J44/320","v":0},null,null,null,{"$f":"N44/320","v":0},null,null,null,{"$f":"R44/320","v":0},null,null,null,{"$f":"V44/320","v":0}]
[]
[]
["ACHTUNG: Noten NUR in den farbigen Feldern eingeben & nach jeder Mannschaft die Datei speichern!"]

{"sheet":"16","index":18,"n_rows":49,"n_cols":22,"rows_kept":49,"cut":false,"hidden":false,"merged":[[0,20,0,21],[2,19,2,21],[3,19,3,21],[0,0,0,5],[2,11,2,13],[3,11,3,13],[2,3,2,5],[3,3,3,5],[2,7,2,9],[3,7,3,9],[2,15,2,17],[3,15,3,17]]}
[{"$f":"Mannschaften!D20","v":0},null,null,null,null,null,null,null,null,null,null,null,"Startnummer:",16,null,null,null,"Prozente:",null,null,{"$f":"((((F47+J47+N47)/3)+((R47+V47)/2))/2)","v":0}]
[]
[{"$f":"Stammdaten!B4","v":"Dressurtage XY"},null,null,{"$f":"Stammdaten!B14","v":"Richter H / Reiter 1"},null,null,null,{"$f":"Stammdaten!B17","v":"Richter C / Reiter 2"},null,null,null,{"$f":"Stammdaten!B20","v":"Richter M / Reiter 3"},null,null,null,{"$f":"Stammdaten!B23","v":"Richter E / Gesamteindr."},null,null,null,{"$f":"Stammdaten!B26","v":"Richter B / Gesamteindr."}]
[{"$f":"Stammdaten!B7","v":"OKV Mannschaftsdressur dd.mm.YYYY"},null,null,{"$f":"Stammdaten!D14","v":"Vor-, Nachname Richter/in 1"},null,null,null,{"$f":"Stammdaten!D17","v":"Vor-, Nachname Richter/in 2"},null,null,null,{"$f":"Stammdaten!D20","v":"Vor-, Nachname Richter/in 3"},null,null,null,{"$f":"Stammdaten!D23","v":"Vor-, Nachname Richter/in 4"},null,null,null,{"$f":"Stammdaten!D26","v":"Vor-, Nachname Richter/in 5"}]
[null,null,null,"Note","Koef.","Punkte",null,"Note","Koef.","Punkte",null,"Note","Koef.","Punkte",null,"Note","Koef.","Punkte",null,"Note","Koef.","Punkte"]
["Lektionen"]
[1,"Einreiten im Arbeitstrab",null,null,1,{"$f":"E7*D7","v":0},null,null,1,{"$f":"I7*H7","v":0},null,null,1,{"$f":"M7*L7","v":0},null,null,1,{"$f":"Q7*P7","v":0},null,null,1,{"$f":"U7*T7","v":0}]
[{"$f":"A7+1","v":2},"Anlegen Schlangenlinie",null,null,1,{"$f":"E8*D8","v":0},null,null,1,{"$f":"I8*H8","v":0},null,null,1,{"$f":"M8*L8","v":0},null,null,1,{"$f":"Q8*P8","v":0},null,null,1,{"$f":"U8*T8","v":0}]
[{"$f":"A8+1","v":3},"Arbeitsgalopp links",null,null,1,{"$f":"E9*D9","v":0},null,null,1,{"$f":"I9*H9","v":0},null,null,1,{"$f":"M9*L9","v":0},null,null,1,{"$f":"Q9*P9","v":0},null,null,1,{"$f":"U9*T9","v":0}]
[4,"Anlegen grosser Volte",null,null,1,{"$f":"E10*D10","v":0},null,null,1,{"$f":"I10*H10","v":0},null,null,1,{"$f":"M10*L10","v":0},null,null,1,{"$f":"Q10*P10","v":0},null,null,1,{"$f":"U10*T10","v":0}]
[5,"Arbeitsgalopp",null,null,1,{"$f":"E11*D11","v":0},null,null,1,{"$f":"I11*H11","v":0},null,null,1,{"$f":"M11*L11","v":0},null,null,1,{"$f":"Q11*P11","v":0},null,null,1,{"$f":"U11*T11","v":0}]
[6,"Volte, Galoppsprünge verlängern",null,null,1,0,null,null,1,0,null,null,1,0,null,null,1,{"$f":"Q12*P12","v":0},null,null,1,{"$f":"U12*T12","v":0}]
[7,"Aufnehmen über M nach C",null,null,1,0,null,null,1,0,null,null,1,0,null,null,1,0,null,null,1,0]
[8,"Arbeitstrab nach H",null,null,1,0,null,null,1,0,null,null,1,0,null,null,1,0,null,null,1,0]
[9,"Durch die ganze Bahn wechseln",null,null,1,0,null,null,1,0,null,null,1,0,null,null,1,0,null,null,1,0]
[10,"Arbeitsgalopp rechts",null,null,1,0,null,null,1,0,null,null,1,0,null,null,1,0,null,null,1,0]
[11,"Anlegen grosser Volte",null,null,1,0,null,null,1,0,null,null,1,0,null,null,1,0,null,null,1,0]
[12,"Arbeitsgalopp",null,null,1,0,null,null,1,0,null,null,1,0,null,null,1,0,null,null,1,0]
[13,"Volte, Galoppsprünge verlängern",null,null,1,0,null,null,1,0,null,null,1,0,null,null,1,0,null,null,1,0]
[14,"Aufnehmen und weiter nach H",null,null,1,0,null,null,1,0,null,null,1,0,null,null,1,0,null,null,1,0]
[15,"Volte, Zügel aus der Hand kauen",null,null,2,0,null,null,2,0,null,null,2,0,null,null,2,0,null,null,2,0]
[16,"Zügel aufnehmen, weiter nach R",null,null,1,0,null,null,1,0,null,null,1,0,null,null,1,0,null,null,1,0]
[17,"Starker Schritt",null,null,2,0,null,null,2,0,null,null,2,0,null,null,2,0,null,null,2,0]
[18,"Mittelschritt",null,null,1,{"$f":"E24*D24","v":0},null,null,1,{"$f":"I24*H24","v":0},null,null,1,{"$f":"M24*L24","v":0},null,null,1,0,null,null,1,0]
[19,"Mittellinie D antraben",null,null,1,0,null,null,1,0,null,null,1,0,null,null,1,0,null,null,1,0]
[20,"Halt und Gruss",null,null,1,{"$f":"E26*D26","v":0},null,null,1,{"$f":"I26*H26","v":0},null,null,1,{"$f":"M26*L26","v":0},null,null,1,0,null,null,1,0]
["Total der Lektionen",null,null,null,null,{"$f":"SUM(F7:F26)","v":0},null,null,null,{"$f":"SUM(J7:J26)","v":0},null,null,null,{"$f":"SUM(N7:N26)","v":0},null,null,null,{"$f":"SUM(R7:R26)","v":0},null,null,null,{"$f":"SUM(V7:V26)","v":0}]
[]
["Gesamteindruck"]
[{"$f":"A26+1","v":21},"Reinheit der Gänge /Abstände",null,null,2,{"$f":"E30*D30","v":0},null,null,2,0,null,null,2,0,null,null,2,{"$f":"P30*Q30","v":0},null,null,2,{"$f":"T30*U30","v":0}]
[{"$f":"A30+1","v":22},"Schwung / Exaktheit",null,null,2,{"$f":"E31*D31","v":0},null,null,2,0,null,null,2,0,null,null,2,{"$f":"P31*Q31","v":0},null,null,2,{"$f":"T31*U31","v":0}]
[{"$f":"A31+1","v":23},"Gehorsam / Ausführung",null,null,2,{"$f":"E32*D32","v":0},null,null,2,0,null,null,2,0,null,null,2,0,null,null,2,0]
[{"$f":"A32+1","v":24},"Exaktheit / Harmonie",null,null,2,{"$f":"E33*D33","v":0},null,null,2,0,null,null,2,0,null,null,2,0,null,null,2,0]
[{"$f":"A33+1","v":25},"Sitz und Einwirkung / Harmonie",null,null,2,{"$f":"E34*D34","v":0},null,null,2,0,null,null,2,0,null,null,2,0,null,null,2,0]
["Lektionen + Gesamteindruck",null,null,null,null,{"$f":"SUM(F30:F34,F27)","v":0},null,null,null,{"$f":"SUM(J30:J34,J27)","v":0},null,null,null,{"$f":"SUM(N30:N34,N27)","v":0},null,null,null,{"$f":"SUM(R30:R34,R27)","v":0},null,null,null,{"$f":"SUM(V30:V34,V27)","v":0}]
[]
["Abzüge"]
[null,"Erster Programmfehler",null,null,-2,{"$f":"E38*D38","v":0},null,null,-2,{"$f":"I38*H38","v":0},null,null,-2,{"$f":"M38*L38","v":0},null,null,-2,{"$f":"P38*Q38","v":0},null,null,-2,{"$f":"T38*U38","v":0}]
[null,"Zweiter Programmfehler",null,null,-5,{"$f":"E39*D39","v":0},null,null,-5,{"$f":"I39*H39","v":0},null,null,-5,{"$f":"M39*L39","v":0},null,null,-5,{"$f":"P39*Q39","v":0},null,null,-5,{"$f":"T39*U39","v":0}]
[null,"Dritter Programmfehler",null,null,-10,{"$f":"E40*D40","v":0},null,null,-10,{"$f":"I40*H40","v":0},null,null,-10,{"$f":"M40*L40","v":0},null,null,-10,0,null,null,-10,0]
["Total Abzüge",null,null,null,null,{"$f":"SUM(F38:F40)","v":0},null,null,null,{"$f":"SUM(J38:J40)","v":0},null,null,null,{"$f":"SUM(N38:N40)","v":0},null,null,null,{"$f":"SUM(R38:R40)","v":0},null,null,null,{"$f":"SUM(V38:V40)","v":0}]
[]
[]
["Endresultat",null,null,null,null,{"$f":"F35+F41","v":0},null,null,null,{"$f":"J35+J41","v":0},null,null,null,{"$f":"N35+N41","v":0},null,null,null,{"$f":"R35+R41","v":0},null,null,null,{"$f":"V35+V41","v":0}]
[]
["in Prozenten",null,null,null,null,{"$f":"F44/320","v":0},null,null,null,{"$f":"J44/320","v":0},null,null,null,{"$f":"N44/320","v":0},null,null,null,{"$f":"R44/320","v":0},null,null,null,{"$f":"V44/320","v":0}]
[]
[]
["ACHTUNG: Noten NUR in den farbigen Feldern eingeben & nach jeder Mannschaft die Datei speichern!"]

{"sheet":"17","index":19,"n_rows":49,"n_cols":22,"rows_kept":49,"cut":false,"hidden":false,"merged":[[0,20,0,21],[2,19,2,21],[3,19,3,21],[0,0,0,5],[2,11,2,13],[3,11,3,13],[2,3,2,5],[3,3,3,5],[2,7,2,9],[3,7,3,9],[2,15,2,17],[3,15,3,17]]}
[{"$f":"Mannschaften!D21","v":0},null,null,null,null,null,null,null,null,null,null,null,"Startnummer:",17,null,null,null,"Prozente:",null,null,{"$f":"((((F47+J47+N47)/3)+((R47+V47)/2))/2)","v":0}]
[]
[{"$f":"Stammdaten!B4","v":"Dressurtage XY"},null,null,{"$f":"Stammdaten!B14","v":"Richter H / Reiter 1"},null,null,null,{"$f":"Stammdaten!B17","v":"Richter C / Reiter 2"},null,null,null,{"$f":"Stammdaten!B20","v":"Richter M / Reiter 3"},null,null,null,{"$f":"Stammdaten!B23","v":"Richter E / Gesamteindr."},null,null,null,{"$f":"Stammdaten!B26","v":"Richter B / Gesamteindr."}]
[{"$f":"Stammdaten!B7","v":"OKV Mannschaftsdressur dd.mm.YYYY"},null,null,{"$f":"Stammdaten!D14","v":"Vor-, Nachname Richter/in 1"},null,null,null,{"$f":"Stammdaten!D17","v":"Vor-, Nachname Richter/in 2"},null,null,null,{"$f":"Stammdaten!D20","v":"Vor-, Nachname Richter/in 3"},null,null,null,{"$f":"Stammdaten!D23","v":"Vor-, Nachname Richter/in 4"},null,null,null,{"$f":"Stammdaten!D26","v":"Vor-, Nachname Richter/in 5"}]
[null,null,null,"Note","Koef.","Punkte",null,"Note","Koef.","Punkte",null,"Note","Koef.","Punkte",null,"Note","Koef.","Punkte",null,"Note","Koef.","Punkte"]
["Lektionen"]
[1,"Einreiten im Arbeitstrab",null,null,1,{"$f":"E7*D7","v":0},null,null,1,{"$f":"I7*H7","v":0},null,null,1,{"$f":"M7*L7","v":0},null,null,1,{"$f":"Q7*P7","v":0},null,null,1,{"$f":"U7*T7","v":0}]
[{"$f":"A7+1","v":2},"Anlegen Schlangenlinie",null,null,1,{"$f":"E8*D8","v":0},null,null,1,{"$f":"I8*H8","v":0},null,null,1,{"$f":"M8*L8","v":0},null,null,1,{"$f":"Q8*P8","v":0},null,null,1,{"$f":"U8*T8","v":0}]
[{"$f":"A8+1","v":3},"Arbeitsgalopp links",null,null,1,{"$f":"E9*D9","v":0},null,null,1,{"$f":"I9*H9","v":0},null,null,1,{"$f":"M9*L9","v":0},null,null,1,{"$f":"Q9*P9","v":0},null,null,1,{"$f":"U9*T9","v":0}]
[4,"Anlegen grosser Volte",null,null,1,{"$f":"E10*D10","v":0},null,null,1,{"$f":"I10*H10","v":0},null,null,1,{"$f":"M10*L10","v":0},null,null,1,{"$f":"Q10*P10","v":0},null,null,1,{"$f":"U10*T10","v":0}]
[5,"Arbeitsgalopp",null,null,1,{"$f":"E11*D11","v":0},null,null,1,{"$f":"I11*H11","v":0},null,null,1,{"$f":"M11*L11","v":0},null,null,1,{"$f":"Q11*P11","v":0},null,null,1,{"$f":"U11*T11","v":0}]
[6,"Volte, Galoppsprünge verlängern",null,null,1,0,null,null,1,0,null,null,1,0,null,null,1,{"$f":"Q12*P12","v":0},null,null,1,{"$f":"U12*T12","v":0}]
[7,"Aufnehmen über M nach C",null,null,1,0,null,null,1,0,null,null,1,0,null,null,1,0,null,null,1,0]
[8,"Arbeitstrab nach H",null,null,1,0,null,null,1,0,null,null,1,0,null,null,1,0,null,null,1,0]
[9,"Durch die ganze Bahn wechseln",null,null,1,0,null,null,1,0,null,null,1,0,null,null,1,0,null,null,1,0]
[10,"Arbeitsgalopp rechts",null,null,1,0,null,null,1,0,null,null,1,0,null,null,1,0,null,null,1,0]
[11,"Anlegen grosser Volte",null,null,1,0,null,null,1,0,null,null,1,0,null,null,1,0,null,null,1,0]
[12,"Arbeitsgalopp",null,null,1,0,null,null,1,0,null,null,1,0,null,null,1,0,null,null,1,0]
[13,"Volte, Galoppsprünge verlängern",null,null,1,0,null,null,1,0,null,null,1,0,null,null,1,0,null,null,1,0]
[14,"Aufnehmen und weiter nach H",null,null,1,0,null,null,1,0,null,null,1,0,null,null,1,0,null,null,1,0]
[15,"Volte, Zügel aus der Hand kauen",null,null,2,0,null,null,2,0,null,null,2,0,null,null,2,0,null,null,2,0]
[16,"Zügel aufnehmen, weiter nach R",null,null,1,0,null,null,1,0,null,null,1,0,null,null,1,0,null,null,1,0]
[17,"Starker Schritt",null,null,2,0,null,null,2,0,null,null,2,0,null,null,2,0,null,null,2,0]
[18,"Mittelschritt",null,null,1,{"$f":"E24*D24","v":0},null,null,1,{"$f":"I24*H24","v":0},null,null,1,{"$f":"M24*L24","v":0},null,null,1,0,null,null,1,0]
[19,"Mittellinie D antraben",null,null,1,0,null,null,1,0,null,null,1,0,null,null,1,0,null,null,1,0]
[20,"Halt und Gruss",null,null,1,{"$f":"E26*D26","v":0},null,null,1,{"$f":"I26*H26","v":0},null,null,1,{"$f":"M26*L26","v":0},null,null,1,0,null,null,1,0]
["Total der Lektionen",null,null,null,null,{"$f":"SUM(F7:F26)","v":0},null,null,null,{"$f":"SUM(J7:J26)","v":0},null,null,null,{"$f":"SUM(N7:N26)","v":0},null,null,null,{"$f":"SUM(R7:R26)","v":0},null,null,null,{"$f":"SUM(V7:V26)","v":0}]
[]
["Gesamteindruck"]
[{"$f":"A26+1","v":21},"Reinheit der Gänge /Abstände",null,null,2,{"$f":"E30*D30","v":0},null,null,2,0,null,null,2,0,null,null,2,{"$f":"P30*Q30","v":0},null,null,2,{"$f":"T30*U30","v":0}]
[{"$f":"A30+1","v":22},"Schwung / Exaktheit",null,null,2,{"$f":"E31*D31","v":0},null,null,2,0,null,null,2,0,null,null,2,{"$f":"P31*Q31","v":0},null,null,2,{"$f":"T31*U31","v":0}]
[{"$f":"A31+1","v":23},"Gehorsam / Ausführung",null,null,2,{"$f":"E32*D32","v":0},null,null,2,0,null,null,2,0,null,null,2,0,null,null,2,0]
[{"$f":"A32+1","v":24},"Exaktheit / Harmonie",null,null,2,{"$f":"E33*D33","v":0},null,null,2,0,null,null,2,0,null,null,2,0,null,null,2,0]
[{"$f":"A33+1","v":25},"Sitz und Einwirkung / Harmonie",null,null,2,{"$f":"E34*D34","v":0},null,null,2,0,null,null,2,0,null,null,2,0,null,null,2,0]
["Lektionen + Gesamteindruck",null,null,null,null,{"$f":"SUM(F30:F34,F27)","v":0},null,null,null,{"$f":"SUM(J30:J34,J27)","v":0},null,null,null,{"$f":"SUM(N30:N34,N27)","v":0},null,null,null,{"$f":"SUM(R30:R34,R27)","v":0},null,null,null,{"$f":"SUM(V30:V34,V27)","v":0}]
[]
["Abzüge"]
[null,"Erster Programmfehler",null,null,-2,{"$f":"E38*D38","v":0},null,null,-2,{"$f":"I38*H38","v":0},null,null,-2,{"$f":"M38*L38","v":0},null,null,-2,{"$f":"P38*Q38","v":0},null,null,-2,{"$f":"T38*U38","v":0}]
[null,"Zweiter Programmfehler",null,null,-5,{"$f":"E39*D39","v":0},null,null,-5,{"$f":"I39*H39","v":0},null,null,-5,{"$f":"M39*L39","v":0},null,null,-5,{"$f":"P39*Q39","v":0},null,null,-5,{"$f":"T39*U39","v":0}]
[null,"Dritter Programmfehler",null,null,-10,{"$f":"E40*D40","v":0},null,null,-10,{"$f":"I40*H40","v":0},null,null,-10,{"$f":"M40*L40","v":0},null,null,-10,0,null,null,-10,0]
["Total Abzüge",null,null,null,null,{"$f":"SUM(F38:F40)","v":0},null,null,null,{"$f":"SUM(J38:J40)","v":0},null,null,null,{"$f":"SUM(N38:N40)","v":0},null,null,null,{"$f":"SUM(R38:R40)","v":0},null,null,null,{"$f":"SUM(V38:V40)","v":0}]
[]
[]
["Endresultat",null,null,null,null,{"$f":"F35+F41","v":0},null,null,null,{"$f":"J35+J41","v":0},null,null,null,{"$f":"N35+N41","v":0},null,null,null,{"$f":"R35+R41","v":0},null,null,null,{"$f":"V35+V41","v":0}]
[]
["in Prozenten",null,null,null,null,{"$f":"F44/320","v":0},null,null,null,{"$f":"J44/320","v":0},null,null,null,{"$f":"N44/320","v":0},null,null,null,{"$f":"R44/320","v":0},null,null,null,{"$f":"V44/320","v":0}]
[]
[]
["ACHTUNG: Noten NUR in den farbigen Feldern eingeben & nach jeder Mannschaft die Datei speichern!"]

{"sheet":"18","index":20,"n_rows":49,"n_cols":22,"rows_kept":49,"cut":false,"hidden":false,"merged":[[0,20,0,21],[2,19,2,21],[3,19,3,21],[0,0,0,5],[2,11,2,13],[3,11,3,13],[2,3,2,5],[3,3,3,5],[2,7,2,9],[3,7,3,9],[2,15,2,17],[3,15,3,17]]}
[{"$f":"Mannschaften!D22","v":0},null,null,null,null,null,null,null,null,null,null,null,"Startnummer:",18,null,null,null,"Prozente:",null,null,{"$f":"((((F47+J47+N47)/3)+((R47+V47)/2))/2)","v":0}]
[]
[{"$f":"Stammdaten!B4","v":"Dressurtage XY"},null,null,{"$f":"Stammdaten!B14","v":"Richter H / Reiter 1"},null,null,null,{"$f":"Stammdaten!B17","v":"Richter C / Reiter 2"},null,null,null,{"$f":"Stammdaten!B20","v":"Richter M / Reiter 3"},null,null,null,{"$f":"Stammdaten!B23","v":"Richter E / Gesamteindr."},null,null,null,{"$f":"Stammdaten!B26","v":"Richter B / Gesamteindr."}]
[{"$f":"Stammdaten!B7","v":"OKV Mannschaftsdressur dd.mm.YYYY"},null,null,{"$f":"Stammdaten!D14","v":"Vor-, Nachname Richter/in 1"},null,null,null,{"$f":"Stammdaten!D17","v":"Vor-, Nachname Richter/in 2"},null,null,null,{"$f":"Stammdaten!D20","v":"Vor-, Nachname Richter/in 3"},null,null,null,{"$f":"Stammdaten!D23","v":"Vor-, Nachname Richter/in 4"},null,null,null,{"$f":"Stammdaten!D26","v":"Vor-, Nachname Richter/in 5"}]
[null,null,null,"Note","Koef.","Punkte",null,"Note","Koef.","Punkte",null,"Note","Koef.","Punkte",null,"Note","Koef.","Punkte",null,"Note","Koef.","Punkte"]
["Lektionen"]
[1,"Einreiten im Arbeitstrab",null,null,1,{"$f":"E7*D7","v":0},null,null,1,{"$f":"I7*H7","v":0},null,null,1,{"$f":"M7*L7","v":0},null,null,1,{"$f":"Q7*P7","v":0},null,null,1,{"$f":"U7*T7","v":0}]
[{"$f":"A7+1","v":2},"Anlegen Schlangenlinie",null,null,1,{"$f":"E8*D8","v":0},null,null,1,{"$f":"I8*H8","v":0},null,null,1,{"$f":"M8*L8","v":0},null,null,1,{"$f":"Q8*P8","v":0},null,null,1,{"$f":"U8*T8","v":0}]
[{"$f":"A8+1","v":3},"Arbeitsgalopp links",null,null,1,{"$f":"E9*D9","v":0},null,null,1,{"$f":"I9*H9","v":0},null,null,1,{"$f":"M9*L9","v":0},null,null,1,{"$f":"Q9*P9","v":0},null,null,1,{"$f":"U9*T9","v":0}]
[4,"Anlegen grosser Volte",null,null,1,{"$f":"E10*D10","v":0},null,null,1,{"$f":"I10*H10","v":0},null,null,1,{"$f":"M10*L10","v":0},null,null,1,{"$f":"Q10*P10","v":0},null,null,1,{"$f":"U10*T10","v":0}]
[5,"Arbeitsgalopp",null,null,1,{"$f":"E11*D11","v":0},null,null,1,{"$f":"I11*H11","v":0},null,null,1,{"$f":"M11*L11","v":0},null,null,1,{"$f":"Q11*P11","v":0},null,null,1,{"$f":"U11*T11","v":0}]
[6,"Volte, Galoppsprünge verlängern",null,null,1,0,null,null,1,0,null,null,1,0,null,null,1,{"$f":"Q12*P12","v":0},null,null,1,{"$f":"U12*T12","v":0}]
[7,"Aufnehmen über M nach C",null,null,1,0,null,null,1,0,null,null,1,0,null,null,1,0,null,null,1,0]
[8,"Arbeitstrab nach H",null,null,1,0,null,null,1,0,null,null,1,0,null,null,1,0,null,null,1,0]
[9,"Durch die ganze Bahn wechseln",null,null,1,0,null,null,1,0,null,null,1,0,null,null,1,0,null,null,1,0]
[10,"Arbeitsgalopp rechts",null,null,1,0,null,null,1,0,null,null,1,0,null,null,1,0,null,null,1,0]
[11,"Anlegen grosser Volte",null,null,1,0,null,null,1,0,null,null,1,0,null,null,1,0,null,null,1,0]
[12,"Arbeitsgalopp",null,null,1,0,null,null,1,0,null,null,1,0,null,null,1,0,null,null,1,0]
[13,"Volte, Galoppsprünge verlängern",null,null,1,0,null,null,1,0,null,null,1,0,null,null,1,0,null,null,1,0]
[14,"Aufnehmen und weiter nach H",null,null,1,0,null,null,1,0,null,null,1,0,null,null,1,0,null,null,1,0]
[15,"Volte, Zügel aus der Hand kauen",null,null,2,0,null,null,2,0,null,null,2,0,null,null,2,0,null,null,2,0]
[16,"Zügel aufnehmen, weiter nach R",null,null,1,0,null,null,1,0,null,null,1,0,null,null,1,0,null,null,1,0]
[17,"Starker Schritt",null,null,2,0,null,null,2,0,null,null,2,0,null,null,2,0,null,null,2,0]
[18,"Mittelschritt",null,null,1,{"$f":"E24*D24","v":0},null,null,1,{"$f":"I24*H24","v":0},null,null,1,{"$f":"M24*L24","v":0},null,null,1,0,null,null,1,0]
[19,"Mittellinie D antraben",null,null,1,0,null,null,1,0,null,null,1,0,null,null,1,0,null,null,1,0]
[20,"Halt und Gruss",null,null,1,{"$f":"E26*D26","v":0},null,null,1,{"$f":"I26*H26","v":0},null,null,1,{"$f":"M26*L26","v":0},null,null,1,0,null,null,1,0]
["Total der Lektionen",null,null,null,null,{"$f":"SUM(F7:F26)","v":0},null,null,null,{"$f":"SUM(J7:J26)","v":0},null,null,null,{"$f":"SUM(N7:N26)","v":0},null,null,null,{"$f":"SUM(R7:R26)","v":0},null,null,null,{"$f":"SUM(V7:V26)","v":0}]
[]
["Gesamteindruck"]
[{"$f":"A26+1","v":21},"Reinheit der Gänge /Abstände",null,null,2,{"$f":"E30*D30","v":0},null,null,2,0,null,null,2,0,null,null,2,{"$f":"P30*Q30","v":0},null,null,2,{"$f":"T30*U30","v":0}]
[{"$f":"A30+1","v":22},"Schwung / Exaktheit",null,null,2,{"$f":"E31*D31","v":0},null,null,2,0,null,null,2,0,null,null,2,{"$f":"P31*Q31","v":0},null,null,2,{"$f":"T31*U31","v":0}]
[{"$f":"A31+1","v":23},"Gehorsam / Ausführung",null,null,2,{"$f":"E32*D32","v":0},null,null,2,0,null,null,2,0,null,null,2,0,null,null,2,0]
[{"$f":"A32+1","v":24},"Exaktheit / Harmonie",null,null,2,{"$f":"E33*D33","v":0},null,null,2,0,null,null,2,0,null,null,2,0,null,null,2,0]
[{"$f":"A33+1","v":25},"Sitz und Einwirkung / Harmonie",null,null,2,{"$f":"E34*D34","v":0},null,null,2,0,null,null,2,0,null,null,2,0,null,null,2,0]
["Lektionen + Gesamteindruck",null,null,null,null,{"$f":"SUM(F30:F34,F27)","v":0},null,null,null,{"$f":"SUM(J30:J34,J27)","v":0},null,null,null,{"$f":"SUM(N30:N34,N27)","v":0},null,null,null,{"$f":"SUM(R30:R34,R27)","v":0},null,null,null,{"$f":"SUM(V30:V34,V27)","v":0}]
[]
["Abzüge"]
[null,"Erster Programmfehler",null,null,-2,{"$f":"E38*D38","v":0},null,null,-2,{"$f":"I38*H38","v":0},null,null,-2,{"$f":"M38*L38","v":0},null,null,-2,{"$f":"P38*Q38","v":0},null,null,-2,{"$f":"T38*U38","v":0}]
[null,"Zweiter Programmfehler",null,null,-5,{"$f":"E39*D39","v":0},null,null,-5,{"$f":"I39*H39","v":0},null,null,-5,{"$f":"M39*L39","v":0},null,null,-5,{"$f":"P39*Q39","v":0},null,null,-5,{"$f":"T39*U39","v":0}]
[null,"Dritter Programmfehler",null,null,-10,{"$f":"E40*D40","v":0},null,null,-10,{"$f":"I40*H40","v":0},null,null,-10,{"$f":"M40*L40","v":0},null,null,-10,0,null,null,-10,0]
["Total Abzüge",null,null,null,null,{"$f":"SUM(F38:F40)","v":0},null,null,null,{"$f":"SUM(J38:J40)","v":0},null,null,null,{"$f":"SUM(N38:N40)","v":0},null,null,null,{"$f":"SUM(R38:R40)","v":0},null,null,null,{"$f":"SUM(V38:V40)","v":0}]
[]
[]
["Endresultat",null,null,null,null,{"$f":"F35+F41","v":0},null,null,null,{"$f":"J35+J41","v":0},null,null,null,{"$f":"N35+N41","v":0},null,null,null,{"$f":"R35+R41","v":0},null,null,null,{"$f":"V35+V41","v":0}]
[]
["in Prozenten",null,null,null,null,{"$f":"F44/320","v":0},null,null,null,{"$f":"J44/320","v":0},null,null,null,{"$f":"N44/320","v":0},null,null,null,{"$f":"R44/320","v":0},null,null,null,{"$f":"V44/320","v":0}]
[]
[]
["ACHTUNG: Noten NUR in den farbigen Feldern eingeben & nach jeder Mannschaft die Datei speichern!"]

{"sheet":"19","index":21,"n_rows":49,"n_cols":22,"rows_kept":49,"cut":false,"hidden":false,"merged":[[0,20,0,21],[2,19,2,21],[3,19,3,21],[0,0,0,5],[2,11,2,13],[3,11,3,13],[2,3,2,5],[3,3,3,5],[2,7,2,9],[3,7,3,9],[2,15,2,17],[3,15,3,17]]}
[{"$f":"Mannschaften!D23","v":0},null,null,null,null,null,null,null,null,null,null,null,"Startnummer:",19,null,null,null,"Prozente:",null,null,{"$f":"((((F47+J47+N47)/3)+((R47+V47)/2))/2)","v":0}]
[]
[{"$f":"Stammdaten!B4","v":"Dressurtage XY"},null,null,{"$f":"Stammdaten!B14","v":"Richter H / Reiter 1"},null,null,null,{"$f":"Stammdaten!B17","v":"Richter C / Reiter 2"},null,null,null,{"$f":"Stammdaten!B20","v":"Richter M / Reiter 3"},null,null,null,{"$f":"Stammdaten!B23","v":"Richter E / Gesamteindr."},null,null,null,{"$f":"Stammdaten!B26","v":"Richter B / Gesamteindr."}]
[{"$f":"Stammdaten!B7","v":"OKV Mannschaftsdressur dd.mm.YYYY"},null,null,{"$f":"Stammdaten!D14","v":"Vor-, Nachname Richter/in 1"},null,null,null,{"$f":"Stammdaten!D17","v":"Vor-, Nachname Richter/in 2"},null,null,null,{"$f":"Stammdaten!D20","v":"Vor-, Nachname Richter/in 3"},null,null,null,{"$f":"Stammdaten!D23","v":"Vor-, Nachname Richter/in 4"},null,null,null,{"$f":"Stammdaten!D26","v":"Vor-, Nachname Richter/in 5"}]
[null,null,null,"Note","Koef.","Punkte",null,"Note","Koef.","Punkte",null,"Note","Koef.","Punkte",null,"Note","Koef.","Punkte",null,"Note","Koef.","Punkte"]
["Lektionen"]
[1,"Einreiten im Arbeitstrab",null,null,1,{"$f":"E7*D7","v":0},null,null,1,{"$f":"I7*H7","v":0},null,null,1,{"$f":"M7*L7","v":0},null,null,1,{"$f":"Q7*P7","v":0},null,null,1,{"$f":"U7*T7","v":0}]
[{"$f":"A7+1","v":2},"Anlegen Schlangenlinie",null,null,1,{"$f":"E8*D8","v":0},null,null,1,{"$f":"I8*H8","v":0},null,null,1,{"$f":"M8*L8","v":0},null,null,1,{"$f":"Q8*P8","v":0},null,null,1,{"$f":"U8*T8","v":0}]
[{"$f":"A8+1","v":3},"Arbeitsgalopp links",null,null,1,{"$f":"E9*D9","v":0},null,null,1,{"$f":"I9*H9","v":0},null,null,1,{"$f":"M9*L9","v":0},null,null,1,{"$f":"Q9*P9","v":0},null,null,1,{"$f":"U9*T9","v":0}]
[4,"Anlegen grosser Volte",null,null,1,{"$f":"E10*D10","v":0},null,null,1,{"$f":"I10*H10","v":0},null,null,1,{"$f":"M10*L10","v":0},null,null,1,{"$f":"Q10*P10","v":0},null,null,1,{"$f":"U10*T10","v":0}]
[5,"Arbeitsgalopp",null,null,1,{"$f":"E11*D11","v":0},null,null,1,{"$f":"I11*H11","v":0},null,null,1,{"$f":"M11*L11","v":0},null,null,1,{"$f":"Q11*P11","v":0},null,null,1,{"$f":"U11*T11","v":0}]
[6,"Volte, Galoppsprünge verlängern",null,null,1,0,null,null,1,0,null,null,1,0,null,null,1,{"$f":"Q12*P12","v":0},null,null,1,{"$f":"U12*T12","v":0}]
[7,"Aufnehmen über M nach C",null,null,1,0,null,null,1,0,null,null,1,0,null,null,1,0,null,null,1,0]
[8,"Arbeitstrab nach H",null,null,1,0,null,null,1,0,null,null,1,0,null,null,1,0,null,null,1,0]
[9,"Durch die ganze Bahn wechseln",null,null,1,0,null,null,1,0,null,null,1,0,null,null,1,0,null,null,1,0]
[10,"Arbeitsgalopp rechts",null,null,1,0,null,null,1,0,null,null,1,0,null,null,1,0,null,null,1,0]
[11,"Anlegen grosser Volte",null,null,1,0,null,null,1,0,null,null,1,0,null,null,1,0,null,null,1,0]
[12,"Arbeitsgalopp",null,null,1,0,null,null,1,0,null,null,1,0,null,null,1,0,null,null,1,0]
[13,"Volte, Galoppsprünge verlängern",null,null,1,0,null,null,1,0,null,null,1,0,null,null,1,0,null,null,1,0]
[14,"Aufnehmen und weiter nach H",null,null,1,0,null,null,1,0,null,null,1,0,null,null,1,0,null,null,1,0]
[15,"Volte, Zügel aus der Hand kauen",null,null,2,0,null,null,2,0,null,null,2,0,null,null,2,0,null,null,2,0]
[16,"Zügel aufnehmen, weiter nach R",null,null,1,0,null,null,1,0,null,null,1,0,null,null,1,0,null,null,1,0]
[17,"Starker Schritt",null,null,2,0,null,null,2,0,null,null,2,0,null,null,2,0,null,null,2,0]
[18,"Mittelschritt",null,null,1,{"$f":"E24*D24","v":0},null,null,1,{"$f":"I24*H24","v":0},null,null,1,{"$f":"M24*L24","v":0},null,null,1,0,null,null,1,0]
[19,"Mittellinie D antraben",null,null,1,0,null,null,1,0,null,null,1,0,null,null,1,0,null,null,1,0]
[20,"Halt und Gruss",null,null,1,{"$f":"E26*D26","v":0},null,null,1,{"$f":"I26*H26","v":0},null,null,1,{"$f":"M26*L26","v":0},null,null,1,0,null,null,1,0]
["Total der Lektionen",null,null,null,null,{"$f":"SUM(F7:F26)","v":0},null,null,null,{"$f":"SUM(J7:J26)","v":0},null,null,null,{"$f":"SUM(N7:N26)","v":0},null,null,null,{"$f":"SUM(R7:R26)","v":0},null,null,null,{"$f":"SUM(V7:V26)","v":0}]
[]
["Gesamteindruck"]
[{"$f":"A26+1","v":21},"Reinheit der Gänge /Abstände",null,null,2,{"$f":"E30*D30","v":0},null,null,2,0,null,null,2,0,null,null,2,{"$f":"P30*Q30","v":0},null,null,2,{"$f":"T30*U30","v":0}]
[{"$f":"A30+1","v":22},"Schwung / Exaktheit",null,null,2,{"$f":"E31*D31","v":0},null,null,2,0,null,null,2,0,null,null,2,{"$f":"P31*Q31","v":0},null,null,2,{"$f":"T31*U31","v":0}]
[{"$f":"A31+1","v":23},"Gehorsam / Ausführung",null,null,2,{"$f":"E32*D32","v":0},null,null,2,0,null,null,2,0,null,null,2,0,null,null,2,0]
[{"$f":"A32+1","v":24},"Exaktheit / Harmonie",null,null,2,{"$f":"E33*D33","v":0},null,null,2,0,null,null,2,0,null,null,2,0,null,null,2,0]
[{"$f":"A33+1","v":25},"Sitz und Einwirkung / Harmonie",null,null,2,{"$f":"E34*D34","v":0},null,null,2,0,null,null,2,0,null,null,2,0,null,null,2,0]
["Lektionen + Gesamteindruck",null,null,null,null,{"$f":"SUM(F30:F34,F27)","v":0},null,null,null,{"$f":"SUM(J30:J34,J27)","v":0},null,null,null,{"$f":"SUM(N30:N34,N27)","v":0},null,null,null,{"$f":"SUM(R30:R34,R27)","v":0},null,null,null,{"$f":"SUM(V30:V34,V27)","v":0}]
[]
["Abzüge"]
[null,"Erster Programmfehler",null,null,-2,{"$f":"E38*D38","v":0},null,null,-2,{"$f":"I38*H38","v":0},null,null,-2,{"$f":"M38*L38","v":0},null,null,-2,{"$f":"P38*Q38","v":0},null,null,-2,{"$f":"T38*U38","v":0}]
[null,"Zweiter Programmfehler",null,null,-5,{"$f":"E39*D39","v":0},null,null,-5,{"$f":"I39*H39","v":0},null,null,-5,{"$f":"M39*L39","v":0},null,null,-5,{"$f":"P39*Q39","v":0},null,null,-5,{"$f":"T39*U39","v":0}]
[null,"Dritter Programmfehler",null,null,-10,{"$f":"E40*D40","v":0},null,null,-10,{"$f":"I40*H40","v":0},null,null,-10,{"$f":"M40*L40","v":0},null,null,-10,0,null,null,-10,0]
["Total Abzüge",null,null,null,null,{"$f":"SUM(F38:F40)","v":0},null,null,null,{"$f":"SUM(J38:J40)","v":0},null,null,null,{"$f":"SUM(N38:N40)","v":0},null,null,null,{"$f":"SUM(R38:R40)","v":0},null,null,null,{"$f":"SUM(V38:V40)","v":0}]
[]
[]
["Endresultat",null,null,null,null,{"$f":"F35+F41","v":0},null,null,null,{"$f":"J35+J41","v":0},null,null,null,{"$f":"N35+N41","v":0},null,null,null,{"$f":"R35+R41","v":0},null,null,null,{"$f":"V35+V41","v":0}]
[]
["in Prozenten",null,null,null,null,{"$f":"F44/320","v":0},null,null,null,{"$f":"J44/320","v":0},null,null,null,{"$f":"N44/320","v":0},null,null,null,{"$f":"R44/320","v":0},null,null,null,{"$f":"V44/320","v":0}]
[]
[]
["ACHTUNG: Noten NUR in den farbigen Feldern eingeben & nach jeder Mannschaft die Datei speichern!"]

{"sheet":"20","index":22,"n_rows":49,"n_cols":22,"rows_kept":49,"cut":false,"hidden":false,"merged":[[0,20,0,21],[2,19,2,21],[3,19,3,21],[0,0,0,5],[2,11,2,13],[3,11,3,13],[2,3,2,5],[3,3,3,5],[2,7,2,9],[3,7,3,9],[2,15,2,17],[3,15,3,17]]}
[{"$f":"Mannschaften!D24","v":0},null,null,null,null,null,null,null,null,null,null,null,"Startnummer:",20,null,null,null,"Prozente:",null,null,{"$f":"((((F47+J47+N47)/3)+((R47+V47)/2))/2)","v":0}]
[]
[{"$f":"Stammdaten!B4","v":"Dressurtage XY"},null,null,{"$f":"Stammdaten!B14","v":"Richter H / Reiter 1"},null,null,null,{"$f":"Stammdaten!B17","v":"Richter C / Reiter 2"},null,null,null,{"$f":"Stammdaten!B20","v":"Richter M / Reiter 3"},null,null,null,{"$f":"Stammdaten!B23","v":"Richter E / Gesamteindr."},null,null,null,{"$f":"Stammdaten!B26","v":"Richter B / Gesamteindr."}]
[{"$f":"Stammdaten!B7","v":"OKV Mannschaftsdressur dd.mm.YYYY"},null,null,{"$f":"Stammdaten!D14","v":"Vor-, Nachname Richter/in 1"},null,null,null,{"$f":"Stammdaten!D17","v":"Vor-, Nachname Richter/in 2"},null,null,null,{"$f":"Stammdaten!D20","v":"Vor-, Nachname Richter/in 3"},null,null,null,{"$f":"Stammdaten!D23","v":"Vor-, Nachname Richter/in 4"},null,null,null,{"$f":"Stammdaten!D26","v":"Vor-, Nachname Richter/in 5"}]
[null,null,null,"Note","Koef.","Punkte",null,"Note","Koef.","Punkte",null,"Note","Koef.","Punkte",null,"Note","Koef.","Punkte",null,"Note","Koef.","Punkte"]
["Lektionen"]
[1,"Einreiten im Arbeitstrab",null,null,1,{"$f":"E7*D7","v":0},null,null,1,{"$f":"I7*H7","v":0},null,null,1,{"$f":"M7*L7","v":0},null,null,1,{"$f":"Q7*P7","v":0},null,null,1,{"$f":"U7*T7","v":0}]
[{"$f":"A7+1","v":2},"Anlegen Schlangenlinie",null,null,1,{"$f":"E8*D8","v":0},null,null,1,{"$f":"I8*H8","v":0},null,null,1,{"$f":"M8*L8","v":0},null,null,1,{"$f":"Q8*P8","v":0},null,null,1,{"$f":"U8*T8","v":0}]
[{"$f":"A8+1","v":3},"Arbeitsgalopp links",null,null,1,{"$f":"E9*D9","v":0},null,null,1,{"$f":"I9*H9","v":0},null,null,1,{"$f":"M9*L9","v":0},null,null,1,{"$f":"Q9*P9","v":0},null,null,1,{"$f":"U9*T9","v":0}]
[4,"Anlegen grosser Volte",null,null,1,{"$f":"E10*D10","v":0},null,null,1,{"$f":"I10*H10","v":0},null,null,1,{"$f":"M10*L10","v":0},null,null,1,{"$f":"Q10*P10","v":0},null,null,1,{"$f":"U10*T10","v":0}]
[5,"Arbeitsgalopp",null,null,1,{"$f":"E11*D11","v":0},null,null,1,{"$f":"I11*H11","v":0},null,null,1,{"$f":"M11*L11","v":0},null,null,1,{"$f":"Q11*P11","v":0},null,null,1,{"$f":"U11*T11","v":0}]
[6,"Volte, Galoppsprünge verlängern",null,null,1,0,null,null,1,0,null,null,1,0,null,null,1,{"$f":"Q12*P12","v":0},null,null,1,{"$f":"U12*T12","v":0}]
[7,"Aufnehmen über M nach C",null,null,1,0,null,null,1,0,null,null,1,0,null,null,1,0,null,null,1,0]
[8,"Arbeitstrab nach H",null,null,1,0,null,null,1,0,null,null,1,0,null,null,1,0,null,null,1,0]
[9,"Durch die ganze Bahn wechseln",null,null,1,0,null,null,1,0,null,null,1,0,null,null,1,0,null,null,1,0]
[10,"Arbeitsgalopp rechts",null,null,1,0,null,null,1,0,null,null,1,0,null,null,1,0,null,null,1,0]
[11,"Anlegen grosser Volte",null,null,1,0,null,null,1,0,null,null,1,0,null,null,1,0,null,null,1,0]
[12,"Arbeitsgalopp",null,null,1,0,null,null,1,0,null,null,1,0,null,null,1,0,null,null,1,0]
[13,"Volte, Galoppsprünge verlängern",null,null,1,0,null,null,1,0,null,null,1,0,null,null,1,0,null,null,1,0]
[14,"Aufnehmen und weiter nach H",null,null,1,0,null,null,1,0,null,null,1,0,null,null,1,0,null,null,1,0]
[15,"Volte, Zügel aus der Hand kauen",null,null,2,0,null,null,2,0,null,null,2,0,null,null,2,0,null,null,2,0]
[16,"Zügel aufnehmen, weiter nach R",null,null,1,0,null,null,1,0,null,null,1,0,null,null,1,0,null,null,1,0]
[17,"Starker Schritt",null,null,2,0,null,null,2,0,null,null,2,0,null,null,2,0,null,null,2,0]
[18,"Mittelschritt",null,null,1,{"$f":"E24*D24","v":0},null,null,1,{"$f":"I24*H24","v":0},null,null,1,{"$f":"M24*L24","v":0},null,null,1,0,null,null,1,0]
[19,"Mittellinie D antraben",null,null,1,0,null,null,1,0,null,null,1,0,null,null,1,0,null,null,1,0]
[20,"Halt und Gruss",null,null,1,{"$f":"E26*D26","v":0},null,null,1,{"$f":"I26*H26","v":0},null,null,1,{"$f":"M26*L26","v":0},null,null,1,0,null,null,1,0]
["Total der Lektionen",null,null,null,null,{"$f":"SUM(F7:F26)","v":0},null,null,null,{"$f":"SUM(J7:J26)","v":0},null,null,null,{"$f":"SUM(N7:N26)","v":0},null,null,null,{"$f":"SUM(R7:R26)","v":0},null,null,null,{"$f":"SUM(V7:V26)","v":0}]
[]
["Gesamteindruck"]
[{"$f":"A26+1","v":21},"Reinheit der Gänge /Abstände",null,null,2,{"$f":"E30*D30","v":0},null,null,2,0,null,null,2,0,null,null,2,{"$f":"P30*Q30","v":0},null,null,2,{"$f":"T30*U30","v":0}]
[{"$f":"A30+1","v":22},"Schwung / Exaktheit",null,null,2,{"$f":"E31*D31","v":0},null,null,2,0,null,null,2,0,null,null,2,{"$f":"P31*Q31","v":0},null,null,2,{"$f":"T31*U31","v":0}]
[{"$f":"A31+1","v":23},"Gehorsam / Ausführung",null,null,2,{"$f":"E32*D32","v":0},null,null,2,0,null,null,2,0,null,null,2,0,null,null,2,0]
[{"$f":"A32+1","v":24},"Exaktheit / Harmonie",null,null,2,{"$f":"E33*D33","v":0},null,null,2,0,null,null,2,0,null,null,2,0,null,null,2,0]
[{"$f":"A33+1","v":25},"Sitz und Einwirkung / Harmonie",null,null,2,{"$f":"E34*D34","v":0},null,null,2,0,null,null,2,0,null,null,2,0,null,null,2,0]
["Lektionen + Gesamteindruck",null,null,null,null,{"$f":"SUM(F30:F34,F27)","v":0},null,null,null,{"$f":"SUM(J30:J34,J27)","v":0},null,null,null,{"$f":"SUM(N30:N34,N27)","v":0},null,null,null,{"$f":"SUM(R30:R34,R27)","v":0},null,null,null,{"$f":"SUM(V30:V34,V27)","v":0}]
[]
["Abzüge"]
[null,"Erster Programmfehler",null,null,-2,{"$f":"E38*D38","v":0},null,null,-2,{"$f":"I38*H38","v":0},null,null,-2,{"$f":"M38*L38","v":0},null,null,-2,{"$f":"P38*Q38","v":0},null,null,-2,{"$f":"T38*U38","v":0}]
[null,"Zweiter Programmfehler",null,null,-5,{"$f":"E39*D39","v":0},null,null,-5,{"$f":"I39*H39","v":0},null,null,-5,{"$f":"M39*L39","v":0},null,null,-5,{"$f":"P39*Q39","v":0},null,null,-5,{"$f":"T39*U39","v":0}]
[null,"Dritter Programmfehler",null,null,-10,{"$f":"E40*D40","v":0},null,null,-10,{"$f":"I40*H40","v":0},null,null,-10,{"$f":"M40*L40","v":0},null,null,-10,0,null,null,-10,0]
["Total Abzüge",null,null,null,null,{"$f":"SUM(F38:F40)","v":0},null,null,null,{"$f":"SUM(J38:J40)","v":0},null,null,null,{"$f":"SUM(N38:N40)","v":0},null,null,null,{"$f":"SUM(R38:R40)","v":0},null,null,null,{"$f":"SUM(V38:V40)","v":0}]
[]
[]
["Endresultat",null,null,null,null,{"$f":"F35+F41","v":0},null,null,null,{"$f":"J35+J41","v":0},null,null,null,{"$f":"N35+N41","v":0},null,null,null,{"$f":"R35+R41","v":0},null,null,null,{"$f":"V35+V41","v":0}]
[]
["in Prozenten",null,null,null,null,{"$f":"F44/320","v":0},null,null,null,{"$f":"J44/320","v":0},null,null,null,{"$f":"N44/320","v":0},null,null,null,{"$f":"R44/320","v":0},null,null,null,{"$f":"V44/320","v":0}]
[]
[]
["ACHTUNG: Noten NUR in den farbigen Feldern eingeben & nach jeder Mannschaft die Datei speichern!"]

{"sheet":"21","index":23,"n_rows":49,"n_cols":22,"rows_kept":49,"cut":false,"hidden":false,"merged":[[0,20,0,21],[2,19,2,21],[3,19,3,21],[0,0,0,5],[2,11,2,13],[3,11,3,13],[2,3,2,5],[3,3,3,5],[2,7,2,9],[3,7,3,9],[2,15,2,17],[3,15,3,17]]}
[{"$f":"Mannschaften!D25","v":0},null,null,null,null,null,null,null,null,null,null,null,"Startnummer:",21,null,null,null,"Prozente:",null,null,{"$f":"((((F47+J47+N47)/3)+((R47+V47)/2))/2)","v":0}]
[]
[{"$f":"Stammdaten!B4","v":"Dressurtage XY"},null,null,{"$f":"Stammdaten!B14","v":"Richter H / Reiter 1"},null,null,null,{"$f":"Stammdaten!B17","v":"Richter C / Reiter 2"},null,null,null,{"$f":"Stammdaten!B20","v":"Richter M / Reiter 3"},null,null,null,{"$f":"Stammdaten!B23","v":"Richter E / Gesamteindr."},null,null,null,{"$f":"Stammdaten!B26","v":"Richter B / Gesamteindr."}]
[{"$f":"Stammdaten!B7","v":"OKV Mannschaftsdressur dd.mm.YYYY"},null,null,{"$f":"Stammdaten!D14","v":"Vor-, Nachname Richter/in 1"},null,null,null,{"$f":"Stammdaten!D17","v":"Vor-, Nachname Richter/in 2"},null,null,null,{"$f":"Stammdaten!D20","v":"Vor-, Nachname Richter/in 3"},null,null,null,{"$f":"Stammdaten!D23","v":"Vor-, Nachname Richter/in 4"},null,null,null,{"$f":"Stammdaten!D26","v":"Vor-, Nachname Richter/in 5"}]
[null,null,null,"Note","Koef.","Punkte",null,"Note","Koef.","Punkte",null,"Note","Koef.","Punkte",null,"Note","Koef.","Punkte",null,"Note","Koef.","Punkte"]
["Lektionen"]
[1,"Einreiten im Arbeitstrab",null,null,1,{"$f":"E7*D7","v":0},null,null,1,{"$f":"I7*H7","v":0},null,null,1,{"$f":"M7*L7","v":0},null,null,1,{"$f":"Q7*P7","v":0},null,null,1,{"$f":"U7*T7","v":0}]
[{"$f":"A7+1","v":2},"Anlegen Schlangenlinie",null,null,1,{"$f":"E8*D8","v":0},null,null,1,{"$f":"I8*H8","v":0},null,null,1,{"$f":"M8*L8","v":0},null,null,1,{"$f":"Q8*P8","v":0},null,null,1,{"$f":"U8*T8","v":0}]
[{"$f":"A8+1","v":3},"Arbeitsgalopp links",null,null,1,{"$f":"E9*D9","v":0},null,null,1,{"$f":"I9*H9","v":0},null,null,1,{"$f":"M9*L9","v":0},null,null,1,{"$f":"Q9*P9","v":0},null,null,1,{"$f":"U9*T9","v":0}]
[4,"Anlegen grosser Volte",null,null,1,{"$f":"E10*D10","v":0},null,null,1,{"$f":"I10*H10","v":0},null,null,1,{"$f":"M10*L10","v":0},null,null,1,{"$f":"Q10*P10","v":0},null,null,1,{"$f":"U10*T10","v":0}]
[5,"Arbeitsgalopp",null,null,1,{"$f":"E11*D11","v":0},null,null,1,{"$f":"I11*H11","v":0},null,null,1,{"$f":"M11*L11","v":0},null,null,1,{"$f":"Q11*P11","v":0},null,null,1,{"$f":"U11*T11","v":0}]
[6,"Volte, Galoppsprünge verlängern",null,null,1,0,null,null,1,0,null,null,1,0,null,null,1,{"$f":"Q12*P12","v":0},null,null,1,{"$f":"U12*T12","v":0}]
[7,"Aufnehmen über M nach C",null,null,1,0,null,null,1,0,null,null,1,0,null,null,1,0,null,null,1,0]
[8,"Arbeitstrab nach H",null,null,1,0,null,null,1,0,null,null,1,0,null,null,1,0,null,null,1,0]
[9,"Durch die ganze Bahn wechseln",null,null,1,0,null,null,1,0,null,null,1,0,null,null,1,0,null,null,1,0]
[10,"Arbeitsgalopp rechts",null,null,1,0,null,null,1,0,null,null,1,0,null,null,1,0,null,null,1,0]
[11,"Anlegen grosser Volte",null,null,1,0,null,null,1,0,null,null,1,0,null,null,1,0,null,null,1,0]
[12,"Arbeitsgalopp",null,null,1,0,null,null,1,0,null,null,1,0,null,null,1,0,null,null,1,0]
[13,"Volte, Galoppsprünge verlängern",null,null,1,0,null,null,1,0,null,null,1,0,null,null,1,0,null,null,1,0]
[14,"Aufnehmen und weiter nach H",null,null,1,0,null,null,1,0,null,null,1,0,null,null,1,0,null,null,1,0]
[15,"Volte, Zügel aus der Hand kauen",null,null,2,0,null,null,2,0,null,null,2,0,null,null,2,0,null,null,2,0]
[16,"Zügel aufnehmen, weiter nach R",null,null,1,0,null,null,1,0,null,null,1,0,null,null,1,0,null,null,1,0]
[17,"Starker Schritt",null,null,2,0,null,null,2,0,null,null,2,0,null,null,2,0,null,null,2,0]
[18,"Mittelschritt",null,null,1,{"$f":"E24*D24","v":0},null,null,1,{"$f":"I24*H24","v":0},null,null,1,{"$f":"M24*L24","v":0},null,null,1,0,null,null,1,0]
[19,"Mittellinie D antraben",null,null,1,0,null,null,1,0,null,null,1,0,null,null,1,0,null,null,1,0]
[20,"Halt und Gruss",null,null,1,{"$f":"E26*D26","v":0},null,null,1,{"$f":"I26*H26","v":0},null,null,1,{"$f":"M26*L26","v":0},null,null,1,0,null,null,1,0]
["Total der Lektionen",null,null,null,null,{"$f":"SUM(F7:F26)","v":0},null,null,null,{"$f":"SUM(J7:J26)","v":0},null,null,null,{"$f":"SUM(N7:N26)","v":0},null,null,null,{"$f":"SUM(R7:R26)","v":0},null,null,null,{"$f":"SUM(V7:V26)","v":0}]
[]
["Gesamteindruck"]
[{"$f":"A26+1","v":21},"Reinheit der Gänge /Abstände",null,null,2,{"$f":"E30*D30","v":0},null,null,2,0,null,null,2,0,null,null,2,{"$f":"P30*Q30","v":0},null,null,2,{"$f":"T30*U30","v":0}]
[{"$f":"A30+1","v":22},"Schwung / Exaktheit",null,null,2,{"$f":"E31*D31","v":0},null,null,2,0,null,null,2,0,null,null,2,{"$f":"P31*Q31","v":0},null,null,2,{"$f":"T31*U31","v":0}]
[{"$f":"A31+1","v":23},"Gehorsam / Ausführung",null,null,2,{"$f":"E32*D32","v":0},null,null,2,0,null,null,2,0,null,null,2,0,null,null,2,0]
[{"$f":"A32+1","v":24},"Exaktheit / Harmonie",null,null,2,{"$f":"E33*D33","v":0},null,null,2,0,null,null,2,0,null,null,2,0,null,null,2,0]
[{"$f":"A33+1","v":25},"Sitz und Einwirkung / Harmonie",null,null,2,{"$f":"E34*D34","v":0},null,null,2,0,null,null,2,0,null,null,2,0,null,null,2,0]
["Lektionen + Gesamteindruck",null,null,null,null,{"$f":"SUM(F30:F34,F27)","v":0},null,null,null,{"$f":"SUM(J30:J34,J27)","v":0},null,null,null,{"$f":"SUM(N30:N34,N27)","v":0},null,null,null,{"$f":"SUM(R30:R34,R27)","v":0},null,null,null,{"$f":"SUM(V30:V34,V27)","v":0}]
[]
["Abzüge"]
[null,"Erster Programmfehler",null,null,-2,{"$f":"E38*D38","v":0},null,null,-2,{"$f":"I38*H38","v":0},null,null,-2,{"$f":"M38*L38","v":0},null,null,-2,{"$f":"P38*Q38","v":0},null,null,-2,{"$f":"T38*U38","v":0}]
[null,"Zweiter Programmfehler",null,null,-5,{"$f":"E39*D39","v":0},null,null,-5,{"$f":"I39*H39","v":0},null,null,-5,{"$f":"M39*L39","v":0},null,null,-5,{"$f":"P39*Q39","v":0},null,null,-5,{"$f":"T39*U39","v":0}]
[null,"Dritter Programmfehler",null,null,-10,{"$f":"E40*D40","v":0},null,null,-10,{"$f":"I40*H40","v":0},null,null,-10,{"$f":"M40*L40","v":0},null,null,-10,0,null,null,-10,0]
["Total Abzüge",null,null,null,null,{"$f":"SUM(F38:F40)","v":0},null,null,null,{"$f":"SUM(J38:J40)","v":0},null,null,null,{"$f":"SUM(N38:N40)","v":0},null,null,null,{"$f":"SUM(R38:R40)","v":0},null,null,null,{"$f":"SUM(V38:V40)","v":0}]
[]
[]
["Endresultat",null,null,null,null,{"$f":"F35+F41","v":0},null,null,null,{"$f":"J35+J41","v":0},null,null,null,{"$f":"N35+N41","v":0},null,null,null,{"$f":"R35+R41","v":0},null,null,null,{"$f":"V35+V41","v":0}]
[]
["in Prozenten",null,null,null,null,{"$f":"F44/320","v":0},null,null,null,{"$f":"J44/320","v":0},null,null,null,{"$f":"N44/320","v":0},null,null,null,{"$f":"R44/320","v":0},null,null,null,{"$f":"V44/320","v":0}]
[]
[]
["ACHTUNG: Noten NUR in den farbigen Feldern eingeben & nach jeder Mannschaft die Datei speichern!"]

{"sheet":"22","index":24,"n_rows":49,"n_cols":22,"rows_kept":49,"cut":false,"hidden":false,"merged":[[0,20,0,21],[2,19,2,21],[3,19,3,21],[0,0,0,5],[2,11,2,13],[3,11,3,13],[2,3,2,5],[3,3,3,5],[2,7,2,9],[3,7,3,9],[2,15,2,17],[3,15,3,17]]}
[{"$f":"Mannschaften!D26","v":0},null,null,null,null,null,null,null,null,null,null,null,"Startnummer:",22,null,null,null,"Prozente:",null,null,{"$f":"((((F47+J47+N47)/3)+((R47+V47)/2))/2)","v":0}]
[]
[{"$f":"Stammdaten!B4","v":"Dressurtage XY"},null,null,{"$f":"Stammdaten!B14","v":"Richter H / Reiter 1"},null,null,null,{"$f":"Stammdaten!B17","v":"Richter C / Reiter 2"},null,null,null,{"$f":"Stammdaten!B20","v":"Richter M / Reiter 3"},null,null,null,{"$f":"Stammdaten!B23","v":"Richter E / Gesamteindr."},null,null,null,{"$f":"Stammdaten!B26","v":"Richter B / Gesamteindr."}]
[{"$f":"Stammdaten!B7","v":"OKV Mannschaftsdressur dd.mm.YYYY"},null,null,{"$f":"Stammdaten!D14","v":"Vor-, Nachname Richter/in 1"},null,null,null,{"$f":"Stammdaten!D17","v":"Vor-, Nachname Richter/in 2"},null,null,null,{"$f":"Stammdaten!D20","v":"Vor-, Nachname Richter/in 3"},null,null,null,{"$f":"Stammdaten!D23","v":"Vor-, Nachname Richter/in 4"},null,null,null,{"$f":"Stammdaten!D26","v":"Vor-, Nachname Richter/in 5"}]
[null,null,null,"Note","Koef.","Punkte",null,"Note","Koef.","Punkte",null,"Note","Koef.","Punkte",null,"Note","Koef.","Punkte",null,"Note","Koef.","Punkte"]
["Lektionen"]
[1,"Einreiten im Arbeitstrab",null,null,1,{"$f":"E7*D7","v":0},null,null,1,{"$f":"I7*H7","v":0},null,null,1,{"$f":"M7*L7","v":0},null,null,1,{"$f":"Q7*P7","v":0},null,null,1,{"$f":"U7*T7","v":0}]
[{"$f":"A7+1","v":2},"Anlegen Schlangenlinie",null,null,1,{"$f":"E8*D8","v":0},null,null,1,{"$f":"I8*H8","v":0},null,null,1,{"$f":"M8*L8","v":0},null,null,1,{"$f":"Q8*P8","v":0},null,null,1,{"$f":"U8*T8","v":0}]
[{"$f":"A8+1","v":3},"Arbeitsgalopp links",null,null,1,{"$f":"E9*D9","v":0},null,null,1,{"$f":"I9*H9","v":0},null,null,1,{"$f":"M9*L9","v":0},null,null,1,{"$f":"Q9*P9","v":0},null,null,1,{"$f":"U9*T9","v":0}]
[4,"Anlegen grosser Volte",null,null,1,{"$f":"E10*D10","v":0},null,null,1,{"$f":"I10*H10","v":0},null,null,1,{"$f":"M10*L10","v":0},null,null,1,{"$f":"Q10*P10","v":0},null,null,1,{"$f":"U10*T10","v":0}]
[5,"Arbeitsgalopp",null,null,1,{"$f":"E11*D11","v":0},null,null,1,{"$f":"I11*H11","v":0},null,null,1,{"$f":"M11*L11","v":0},null,null,1,{"$f":"Q11*P11","v":0},null,null,1,{"$f":"U11*T11","v":0}]
[6,"Volte, Galoppsprünge verlängern",null,null,1,0,null,null,1,0,null,null,1,0,null,null,1,{"$f":"Q12*P12","v":0},null,null,1,{"$f":"U12*T12","v":0}]
[7,"Aufnehmen über M nach C",null,null,1,0,null,null,1,0,null,null,1,0,null,null,1,0,null,null,1,0]
[8,"Arbeitstrab nach H",null,null,1,0,null,null,1,0,null,null,1,0,null,null,1,0,null,null,1,0]
[9,"Durch die ganze Bahn wechseln",null,null,1,0,null,null,1,0,null,null,1,0,null,null,1,0,null,null,1,0]
[10,"Arbeitsgalopp rechts",null,null,1,0,null,null,1,0,null,null,1,0,null,null,1,0,null,null,1,0]
[11,"Anlegen grosser Volte",null,null,1,0,null,null,1,0,null,null,1,0,null,null,1,0,null,null,1,0]
[12,"Arbeitsgalopp",null,null,1,0,null,null,1,0,null,null,1,0,null,null,1,0,null,null,1,0]
[13,"Volte, Galoppsprünge verlängern",null,null,1,0,null,null,1,0,null,null,1,0,null,null,1,0,null,null,1,0]
[14,"Aufnehmen und weiter nach H",null,null,1,0,null,null,1,0,null,null,1,0,null,null,1,0,null,null,1,0]
[15,"Volte, Zügel aus der Hand kauen",null,null,2,0,null,null,2,0,null,null,2,0,null,null,2,0,null,null,2,0]
[16,"Zügel aufnehmen, weiter nach R",null,null,1,0,null,null,1,0,null,null,1,0,null,null,1,0,null,null,1,0]
[17,"Starker Schritt",null,null,2,0,null,null,2,0,null,null,2,0,null,null,2,0,null,null,2,0]
[18,"Mittelschritt",null,null,1,{"$f":"E24*D24","v":0},null,null,1,{"$f":"I24*H24","v":0},null,null,1,{"$f":"M24*L24","v":0},null,null,1,0,null,null,1,0]
[19,"Mittellinie D antraben",null,null,1,0,null,null,1,0,null,null,1,0,null,null,1,0,null,null,1,0]
[20,"Halt und Gruss",null,null,1,{"$f":"E26*D26","v":0},null,null,1,{"$f":"I26*H26","v":0},null,null,1,{"$f":"M26*L26","v":0},null,null,1,0,null,null,1,0]
["Total der Lektionen",null,null,null,null,{"$f":"SUM(F7:F26)","v":0},null,null,null,{"$f":"SUM(J7:J26)","v":0},null,null,null,{"$f":"SUM(N7:N26)","v":0},null,null,null,{"$f":"SUM(R7:R26)","v":0},null,null,null,{"$f":"SUM(V7:V26)","v":0}]
[]
["Gesamteindruck"]
[{"$f":"A26+1","v":21},"Reinheit der Gänge /Abstände",null,null,2,{"$f":"E30*D30","v":0},null,null,2,0,null,null,2,0,null,null,2,{"$f":"P30*Q30","v":0},null,null,2,{"$f":"T30*U30","v":0}]
[{"$f":"A30+1","v":22},"Schwung / Exaktheit",null,null,2,{"$f":"E31*D31","v":0},null,null,2,0,null,null,2,0,null,null,2,{"$f":"P31*Q31","v":0},null,null,2,{"$f":"T31*U31","v":0}]
[{"$f":"A31+1","v":23},"Gehorsam / Ausführung",null,null,2,{"$f":"E32*D32","v":0},null,null,2,0,null,null,2,0,null,null,2,0,null,null,2,0]
[{"$f":"A32+1","v":24},"Exaktheit / Harmonie",null,null,2,{"$f":"E33*D33","v":0},null,null,2,0,null,null,2,0,null,null,2,0,null,null,2,0]
[{"$f":"A33+1","v":25},"Sitz und Einwirkung / Harmonie",null,null,2,{"$f":"E34*D34","v":0},null,null,2,0,null,null,2,0,null,null,2,0,null,null,2,0]
["Lektionen + Gesamteindruck",null,null,null,null,{"$f":"SUM(F30:F34,F27)","v":0},null,null,null,{"$f":"SUM(J30:J34,J27)","v":0},null,null,null,{"$f":"SUM(N30:N34,N27)","v":0},null,null,null,{"$f":"SUM(R30:R34,R27)","v":0},null,null,null,{"$f":"SUM(V30:V34,V27)","v":0}]
[]
["Abzüge"]
[null,"Erster Programmfehler",null,null,-2,{"$f":"E38*D38","v":0},null,null,-2,{"$f":"I38*H38","v":0},null,null,-2,{"$f":"M38*L38","v":0},null,null,-2,{"$f":"P38*Q38","v":0},null,null,-2,{"$f":"T38*U38","v":0}]
[null,"Zweiter Programmfehler",null,null,-5,{"$f":"E39*D39","v":0},null,null,-5,{"$f":"I39*H39","v":0},null,null,-5,{"$f":"M39*L39","v":0},null,null,-5,{"$f":"P39*Q39","v":0},null,null,-5,{"$f":"T39*U39","v":0}]
[null,"Dritter Programmfehler",null,null,-10,{"$f":"E40*D40","v":0},null,null,-10,{"$f":"I40*H40","v":0},null,null,-10,{"$f":"M40*L40","v":0},null,null,-10,0,null,null,-10,0]
["Total Abzüge",null,null,null,null,{"$f":"SUM(F38:F40)","v":0},null,null,null,{"$f":"SUM(J38:J40)","v":0},null,null,null,{"$f":"SUM(N38:N40)","v":0},null,null,null,{"$f":"SUM(R38:R40)","v":0},null,null,null,{"$f":"SUM(V38:V40)","v":0}]
[]
[]
["Endresultat",null,null,null,null,{"$f":"F35+F41","v":0},null,null,null,{"$f":"J35+J41","v":0},null,null,null,{"$f":"N35+N41","v":0},null,null,null,{"$f":"R35+R41","v":0},null,null,null,{"$f":"V35+V41","v":0}]
[]
["in Prozenten",null,null,null,null,{"$f":"F44/320","v":0},null,null,null,{"$f":"J44/320","v":0},null,null,null,{"$f":"N44/320","v":0},null,null,null,{"$f":"R44/320","v":0},null,null,null,{"$f":"V44/320","v":0}]
[]
[]
["ACHTUNG: Noten NUR in den farbigen Feldern eingeben & nach jeder Mannschaft die Datei speichern!"]

{"sheet":"23","index":25,"n_rows":49,"n_cols":22,"rows_kept":49,"cut":false,"hidden":false,"merged":[[0,20,0,21],[2,19,2,21],[3,19,3,21],[0,0,0,5],[2,11,2,13],[3,11,3,13],[2,3,2,5],[3,3,3,5],[2,7,2,9],[3,7,3,9],[2,15,2,17],[3,15,3,17]]}
[{"$f":"Mannschaften!D27","v":0},null,null,null,null,null,null,null,null,null,null,null,"Startnummer:",23,null,null,null,"Prozente:",null,null,{"$f":"((((F47+J47+N47)/3)+((R47+V47)/2))/2)","v":0}]
[]
[{"$f":"Stammdaten!B4","v":"Dressurtage XY"},null,null,{"$f":"Stammdaten!B14","v":"Richter H / Reiter 1"},null,null,null,{"$f":"Stammdaten!B17","v":"Richter C / Reiter 2"},null,null,null,{"$f":"Stammdaten!B20","v":"Richter M / Reiter 3"},null,null,null,{"$f":"Stammdaten!B23","v":"Richter E / Gesamteindr."},null,null,null,{"$f":"Stammdaten!B26","v":"Richter B / Gesamteindr."}]
[{"$f":"Stammdaten!B7","v":"OKV Mannschaftsdressur dd.mm.YYYY"},null,null,{"$f":"Stammdaten!D14","v":"Vor-, Nachname Richter/in 1"},null,null,null,{"$f":"Stammdaten!D17","v":"Vor-, Nachname Richter/in 2"},null,null,null,{"$f":"Stammdaten!D20","v":"Vor-, Nachname Richter/in 3"},null,null,null,{"$f":"Stammdaten!D23","v":"Vor-, Nachname Richter/in 4"},null,null,null,{"$f":"Stammdaten!D26","v":"Vor-, Nachname Richter/in 5"}]
[null,null,null,"Note","Koef.","Punkte",null,"Note","Koef.","Punkte",null,"Note","Koef.","Punkte",null,"Note","Koef.","Punkte",null,"Note","Koef.","Punkte"]
["Lektionen"]
[1,"Einreiten im Arbeitstrab",null,null,1,{"$f":"E7*D7","v":0},null,null,1,{"$f":"I7*H7","v":0},null,null,1,{"$f":"M7*L7","v":0},null,null,1,{"$f":"Q7*P7","v":0},null,null,1,{"$f":"U7*T7","v":0}]
[{"$f":"A7+1","v":2},"Anlegen Schlangenlinie",null,null,1,{"$f":"E8*D8","v":0},null,null,1,{"$f":"I8*H8","v":0},null,null,1,{"$f":"M8*L8","v":0},null,null,1,{"$f":"Q8*P8","v":0},null,null,1,{"$f":"U8*T8","v":0}]
[{"$f":"A8+1","v":3},"Arbeitsgalopp links",null,null,1,{"$f":"E9*D9","v":0},null,null,1,{"$f":"I9*H9","v":0},null,null,1,{"$f":"M9*L9","v":0},null,null,1,{"$f":"Q9*P9","v":0},null,null,1,{"$f":"U9*T9","v":0}]
[4,"Anlegen grosser Volte",null,null,1,{"$f":"E10*D10","v":0},null,null,1,{"$f":"I10*H10","v":0},null,null,1,{"$f":"M10*L10","v":0},null,null,1,{"$f":"Q10*P10","v":0},null,null,1,{"$f":"U10*T10","v":0}]
[5,"Arbeitsgalopp",null,null,1,{"$f":"E11*D11","v":0},null,null,1,{"$f":"I11*H11","v":0},null,null,1,{"$f":"M11*L11","v":0},null,null,1,{"$f":"Q11*P11","v":0},null,null,1,{"$f":"U11*T11","v":0}]
[6,"Volte, Galoppsprünge verlängern",null,null,1,0,null,null,1,0,null,null,1,0,null,null,1,{"$f":"Q12*P12","v":0},null,null,1,{"$f":"U12*T12","v":0}]
[7,"Aufnehmen über M nach C",null,null,1,0,null,null,1,0,null,null,1,0,null,null,1,0,null,null,1,0]
[8,"Arbeitstrab nach H",null,null,1,0,null,null,1,0,null,null,1,0,null,null,1,0,null,null,1,0]
[9,"Durch die ganze Bahn wechseln",null,null,1,0,null,null,1,0,null,null,1,0,null,null,1,0,null,null,1,0]
[10,"Arbeitsgalopp rechts",null,null,1,0,null,null,1,0,null,null,1,0,null,null,1,0,null,null,1,0]
[11,"Anlegen grosser Volte",null,null,1,0,null,null,1,0,null,null,1,0,null,null,1,0,null,null,1,0]
[12,"Arbeitsgalopp",null,null,1,0,null,null,1,0,null,null,1,0,null,null,1,0,null,null,1,0]
[13,"Volte, Galoppsprünge verlängern",null,null,1,0,null,null,1,0,null,null,1,0,null,null,1,0,null,null,1,0]
[14,"Aufnehmen und weiter nach H",null,null,1,0,null,null,1,0,null,null,1,0,null,null,1,0,null,null,1,0]
[15,"Volte, Zügel aus der Hand kauen",null,null,2,0,null,null,2,0,null,null,2,0,null,null,2,0,null,null,2,0]
[16,"Zügel aufnehmen, weiter nach R",null,null,1,0,null,null,1,0,null,null,1,0,null,null,1,0,null,null,1,0]
[17,"Starker Schritt",null,null,2,0,null,null,2,0,null,null,2,0,null,null,2,0,null,null,2,0]
[18,"Mittelschritt",null,null,1,{"$f":"E24*D24","v":0},null,null,1,{"$f":"I24*H24","v":0},null,null,1,{"$f":"M24*L24","v":0},null,null,1,0,null,null,1,0]
[19,"Mittellinie D antraben",null,null,1,0,null,null,1,0,null,null,1,0,null,null,1,0,null,null,1,0]
[20,"Halt und Gruss",null,null,1,{"$f":"E26*D26","v":0},null,null,1,{"$f":"I26*H26","v":0},null,null,1,{"$f":"M26*L26","v":0},null,null,1,0,null,null,1,0]
["Total der Lektionen",null,null,null,null,{"$f":"SUM(F7:F26)","v":0},null,null,null,{"$f":"SUM(J7:J26)","v":0},null,null,null,{"$f":"SUM(N7:N26)","v":0},null,null,null,{"$f":"SUM(R7:R26)","v":0},null,null,null,{"$f":"SUM(V7:V26)","v":0}]
[]
["Gesamteindruck"]
[{"$f":"A26+1","v":21},"Reinheit der Gänge /Abstände",null,null,2,{"$f":"E30*D30","v":0},null,null,2,0,null,null,2,0,null,null,2,{"$f":"P30*Q30","v":0},null,null,2,{"$f":"T30*U30","v":0}]
[{"$f":"A30+1","v":22},"Schwung / Exaktheit",null,null,2,{"$f":"E31*D31","v":0},null,null,2,0,null,null,2,0,null,null,2,{"$f":"P31*Q31","v":0},null,null,2,{"$f":"T31*U31","v":0}]
[{"$f":"A31+1","v":23},"Gehorsam / Ausführung",null,null,2,{"$f":"E32*D32","v":0},null,null,2,0,null,null,2,0,null,null,2,0,null,null,2,0]
[{"$f":"A32+1","v":24},"Exaktheit / Harmonie",null,null,2,{"$f":"E33*D33","v":0},null,null,2,0,null,null,2,0,null,null,2,0,null,null,2,0]
[{"$f":"A33+1","v":25},"Sitz und Einwirkung / Harmonie",null,null,2,{"$f":"E34*D34","v":0},null,null,2,0,null,null,2,0,null,null,2,0,null,null,2,0]
["Lektionen + Gesamteindruck",null,null,null,null,{"$f":"SUM(F30:F34,F27)","v":0},null,null,null,{"$f":"SUM(J30:J34,J27)","v":0},null,null,null,{"$f":"SUM(N30:N34,N27)","v":0},null,null,null,{"$f":"SUM(R30:R34,R27)","v":0},null,null,null,{"$f":"SUM(V30:V34,V27)","v":0}]
[]
["Abzüge"]
[null,"Erster Programmfehler",null,null,-2,{"$f":"E38*D38","v":0},null,null,-2,{"$f":"I38*H38","v":0},null,null,-2,{"$f":"M38*L38","v":0},null,null,-2,{"$f":"P38*Q38","v":0},null,null,-2,{"$f":"T38*U38","v":0}]
[null,"Zweiter Programmfehler",null,null,-5,{"$f":"E39*D39","v":0},null,null,-5,{"$f":"I39*H39","v":0},null,null,-5,{"$f":"M39*L39","v":0},null,null,-5,{"$f":"P39*Q39","v":0},null,null,-5,{"$f":"T39*U39","v":0}]
[null,"Dritter Programmfehler",null,null,-10,{"$f":"E40*D40","v":0},null,null,-10,{"$f":"I40*H40","v":0},null,null,-10,{"$f":"M40*L40","v":0},null,null,-10,0,null,null,-10,0]
["Total Abzüge",null,null,null,null,{"$f":"SUM(F38:F40)","v":0},null,null,null,{"$f":"SUM(J38:J40)","v":0},null,null,null,{"$f":"SUM(N38:N40)","v":0},null,null,null,{"$f":"SUM(R38:R40)","v":0},null,null,null,{"$f":"SUM(V38:V40)","v":0}]
[]
[]
["Endresultat",null,null,null,null,{"$f":"F35+F41","v":0},null,null,null,{"$f":"J35+J41","v":0},null,null,null,{"$f":"N35+N41","v":0},null,null,null,{"$f":"R35+R41","v":0},null,null,null,{"$f":"V35+V41","v":0}]
[]
["in Prozenten",null,null,null,null,{"$f":"F44/320","v":0},null,null,null,{"$f":"J44/320","v":0},null,null,null,{"$f":"N44/320","v":0},null,null,null,{"$f":"R44/320","v":0},null,null,null,{"$f":"V44/320","v":0}]
[]
[]
["ACHTUNG: Noten NUR in den farbigen Feldern eingeben & nach jeder Mannschaft die Datei speichern!"]

{"sheet":"24","index":26,"n_rows":49,"n_cols":22,"rows_kept":49,"cut":false,"hidden":false,"merged":[[0,20,0,21],[2,19,2,21],[3,19,3,21],[0,0,0,5],[2,11,2,13],[3,11,3,13],[2,3,2,5],[3,3,3,5],[2,7,2,9],[3,7,3,9],[2,15,2,17],[3,15,3,17]]}
[{"$f":"Mannschaften!D28","v":0},null,null,null,null,null,null,null,null,null,null,null,"Startnummer:",24,null,null,null,"Prozente:",null,null,{"$f":"((((F47+J47+N47)/3)+((R47+V47)/2))/2)","v":0}]
[]
[{"$f":"Stammdaten!B4","v":"Dressurtage XY"},null,null,{"$f":"Stammdaten!B14","v":"Richter H / Reiter 1"},null,null,null,{"$f":"Stammdaten!B17","v":"Richter C / Reiter 2"},null,null,null,{"$f":"Stammdaten!B20","v":"Richter M / Reiter 3"},null,null,null,{"$f":"Stammdaten!B23","v":"Richter E / Gesamteindr."},null,null,null,{"$f":"Stammdaten!B26","v":"Richter B / Gesamteindr."}]
[{"$f":"Stammdaten!B7","v":"OKV Mannschaftsdressur dd.mm.YYYY"},null,null,{"$f":"Stammdaten!D14","v":"Vor-, Nachname Richter/in 1"},null,null,null,{"$f":"Stammdaten!D17","v":"Vor-, Nachname Richter/in 2"},null,null,null,{"$f":"Stammdaten!D20","v":"Vor-, Nachname Richter/in 3"},null,null,null,{"$f":"Stammdaten!D23","v":"Vor-, Nachname Richter/in 4"},null,null,null,{"$f":"Stammdaten!D26","v":"Vor-, Nachname Richter/in 5"}]
[null,null,null,"Note","Koef.","Punkte",null,"Note","Koef.","Punkte",null,"Note","Koef.","Punkte",null,"Note","Koef.","Punkte",null,"Note","Koef.","Punkte"]
["Lektionen"]
[1,"Einreiten im Arbeitstrab",null,null,1,{"$f":"E7*D7","v":0},null,null,1,{"$f":"I7*H7","v":0},null,null,1,{"$f":"M7*L7","v":0},null,null,1,{"$f":"Q7*P7","v":0},null,null,1,{"$f":"U7*T7","v":0}]
[{"$f":"A7+1","v":2},"Anlegen Schlangenlinie",null,null,1,{"$f":"E8*D8","v":0},null,null,1,{"$f":"I8*H8","v":0},null,null,1,{"$f":"M8*L8","v":0},null,null,1,{"$f":"Q8*P8","v":0},null,null,1,{"$f":"U8*T8","v":0}]
[{"$f":"A8+1","v":3},"Arbeitsgalopp links",null,null,1,{"$f":"E9*D9","v":0},null,null,1,{"$f":"I9*H9","v":0},null,null,1,{"$f":"M9*L9","v":0},null,null,1,{"$f":"Q9*P9","v":0},null,null,1,{"$f":"U9*T9","v":0}]
[4,"Anlegen grosser Volte",null,null,1,{"$f":"E10*D10","v":0},null,null,1,{"$f":"I10*H10","v":0},null,null,1,{"$f":"M10*L10","v":0},null,null,1,{"$f":"Q10*P10","v":0},null,null,1,{"$f":"U10*T10","v":0}]
[5,"Arbeitsgalopp",null,null,1,{"$f":"E11*D11","v":0},null,null,1,{"$f":"I11*H11","v":0},null,null,1,{"$f":"M11*L11","v":0},null,null,1,{"$f":"Q11*P11","v":0},null,null,1,{"$f":"U11*T11","v":0}]
[6,"Volte, Galoppsprünge verlängern",null,null,1,0,null,null,1,0,null,null,1,0,null,null,1,{"$f":"Q12*P12","v":0},null,null,1,{"$f":"U12*T12","v":0}]
[7,"Aufnehmen über M nach C",null,null,1,0,null,null,1,0,null,null,1,0,null,null,1,0,null,null,1,0]
[8,"Arbeitstrab nach H",null,null,1,0,null,null,1,0,null,null,1,0,null,null,1,0,null,null,1,0]
[9,"Durch die ganze Bahn wechseln",null,null,1,0,null,null,1,0,null,null,1,0,null,null,1,0,null,null,1,0]
[10,"Arbeitsgalopp rechts",null,null,1,0,null,null,1,0,null,null,1,0,null,null,1,0,null,null,1,0]
[11,"Anlegen grosser Volte",null,null,1,0,null,null,1,0,null,null,1,0,null,null,1,0,null,null,1,0]
[12,"Arbeitsgalopp",null,null,1,0,null,null,1,0,null,null,1,0,null,null,1,0,null,null,1,0]
[13,"Volte, Galoppsprünge verlängern",null,null,1,0,null,null,1,0,null,null,1,0,null,null,1,0,null,null,1,0]
[14,"Aufnehmen und weiter nach H",null,null,1,0,null,null,1,0,null,null,1,0,null,null,1,0,null,null,1,0]
[15,"Volte, Zügel aus der Hand kauen",null,null,2,0,null,null,2,0,null,null,2,0,null,null,2,0,null,null,2,0]
[16,"Zügel aufnehmen, weiter nach R",null,null,1,0,null,null,1,0,null,null,1,0,null,null,1,0,null,null,1,0]
[17,"Starker Schritt",null,null,2,0,null,null,2,0,null,null,2,0,null,null,2,0,null,null,2,0]
[18,"Mittelschritt",null,null,1,{"$f":"E24*D24","v":0},null,null,1,{"$f":"I24*H24","v":0},null,null,1,{"$f":"M24*L24","v":0},null,null,1,0,null,null,1,0]
[19,"Mittellinie D antraben",null,null,1,0,null,null,1,0,null,null,1,0,null,null,1,0,null,null,1,0]
[20,"Halt und Gruss",null,null,1,{"$f":"E26*D26","v":0},null,null,1,{"$f":"I26*H26","v":0},null,null,1,{"$f":"M26*L26","v":0},null,null,1,0,null,null,1,0]
["Total der Lektionen",null,null,null,null,{"$f":"SUM(F7:F26)","v":0},null,null,null,{"$f":"SUM(J7:J26)","v":0},null,null,null,{"$f":"SUM(N7:N26)","v":0},null,null,null,{"$f":"SUM(R7:R26)","v":0},null,null,null,{"$f":"SUM(V7:V26)","v":0}]
[]
["Gesamteindruck"]
[{"$f":"A26+1","v":21},"Reinheit der Gänge /Abstände",null,null,2,{"$f":"E30*D30","v":0},null,null,2,0,null,null,2,0,null,null,2,{"$f":"P30*Q30","v":0},null,null,2,{"$f":"T30*U30","v":0}]
[{"$f":"A30+1","v":22},"Schwung / Exaktheit",null,null,2,{"$f":"E31*D31","v":0},null,null,2,0,null,null,2,0,null,null,2,{"$f":"P31*Q31","v":0},null,null,2,{"$f":"T31*U31","v":0}]
[{"$f":"A31+1","v":23},"Gehorsam / Ausführung",null,null,2,{"$f":"E32*D32","v":0},null,null,2,0,null,null,2,0,null,null,2,0,null,null,2,0]
[{"$f":"A32+1","v":24},"Exaktheit / Harmonie",null,null,2,{"$f":"E33*D33","v":0},null,null,2,0,null,null,2,0,null,null,2,0,null,null,2,0]
[{"$f":"A33+1","v":25},"Sitz und Einwirkung / Harmonie",null,null,2,{"$f":"E34*D34","v":0},null,null,2,0,null,null,2,0,null,null,2,0,null,null,2,0]
["Lektionen + Gesamteindruck",null,null,null,null,{"$f":"SUM(F30:F34,F27)","v":0},null,null,null,{"$f":"SUM(J30:J34,J27)","v":0},null,null,null,{"$f":"SUM(N30:N34,N27)","v":0},null,null,null,{"$f":"SUM(R30:R34,R27)","v":0},null,null,null,{"$f":"SUM(V30:V34,V27)","v":0}]
[]
["Abzüge"]
[null,"Erster Programmfehler",null,null,-2,{"$f":"E38*D38","v":0},null,null,-2,{"$f":"I38*H38","v":0},null,null,-2,{"$f":"M38*L38","v":0},null,null,-2,{"$f":"P38*Q38","v":0},null,null,-2,{"$f":"T38*U38","v":0}]
[null,"Zweiter Programmfehler",null,null,-5,{"$f":"E39*D39","v":0},null,null,-5,{"$f":"I39*H39","v":0},null,null,-5,{"$f":"M39*L39","v":0},null,null,-5,{"$f":"P39*Q39","v":0},null,null,-5,{"$f":"T39*U39","v":0}]
[null,"Dritter Programmfehler",null,null,-10,{"$f":"E40*D40","v":0},null,null,-10,{"$f":"I40*H40","v":0},null,null,-10,{"$f":"M40*L40","v":0},null,null,-10,0,null,null,-10,0]
["Total Abzüge",null,null,null,null,{"$f":"SUM(F38:F40)","v":0},null,null,null,{"$f":"SUM(J38:J40)","v":0},null,null,null,{"$f":"SUM(N38:N40)","v":0},null,null,null,{"$f":"SUM(R38:R40)","v":0},null,null,null,{"$f":"SUM(V38:V40)","v":0}]
[]
[]
["Endresultat",null,null,null,null,{"$f":"F35+F41","v":0},null,null,null,{"$f":"J35+J41","v":0},null,null,null,{"$f":"N35+N41","v":0},null,null,null,{"$f":"R35+R41","v":0},null,null,null,{"$f":"V35+V41","v":0}]
[]
["in Prozenten",null,null,null,null,{"$f":"F44/320","v":0},null,null,null,{"$f":"J44/320","v":0},null,null,null,{"$f":"N44/320","v":0},null,null,null,{"$f":"R44/320","v":0},null,null,null,{"$f":"V44/320","v":0}]
[]
[]
["ACHTUNG: Noten NUR in den farbigen Feldern eingeben & nach jeder Mannschaft die Datei speichern!"]

{"sheet":"25","index":27,"n_rows":49,"n_cols":22,"rows_kept":49,"cut":false,"hidden":false,"merged":[[0,20,0,21],[2,19,2,21],[3,19,3,21],[0,0,0,5],[2,11,2,13],[3,11,3,13],[2,3,2,5],[3,3,3,5],[2,7,2,9],[3,7,3,9],[2,15,2,17],[3,15,3,17]]}
[{"$f":"Mannschaften!D29","v":0},null,null,null,null,null,null,null,null,null,null,null,"Startnummer:",25,null,null,null,"Prozente:",null,null,{"$f":"((((F47+J47+N47)/3)+((R47+V47)/2))/2)","v":0}]
[]
[{"$f":"Stammdaten!B4","v":"Dressurtage XY"},null,null,{"$f":"Stammdaten!B14","v":"Richter H / Reiter 1"},null,null,null,{"$f":"Stammdaten!B17","v":"Richter C / Reiter 2"},null,null,null,{"$f":"Stammdaten!B20","v":"Richter M / Reiter 3"},null,null,null,{"$f":"Stammdaten!B23","v":"Richter E / Gesamteindr."},null,null,null,{"$f":"Stammdaten!B26","v":"Richter B / Gesamteindr."}]
[{"$f":"Stammdaten!B7","v":"OKV Mannschaftsdressur dd.mm.YYYY"},null,null,{"$f":"Stammdaten!D14","v":"Vor-, Nachname Richter/in 1"},null,null,null,{"$f":"Stammdaten!D17","v":"Vor-, Nachname Richter/in 2"},null,null,null,{"$f":"Stammdaten!D20","v":"Vor-, Nachname Richter/in 3"},null,null,null,{"$f":"Stammdaten!D23","v":"Vor-, Nachname Richter/in 4"},null,null,null,{"$f":"Stammdaten!D26","v":"Vor-, Nachname Richter/in 5"}]
[null,null,null,"Note","Koef.","Punkte",null,"Note","Koef.","Punkte",null,"Note","Koef.","Punkte",null,"Note","Koef.","Punkte",null,"Note","Koef.","Punkte"]
["Lektionen"]
[1,"Einreiten im Arbeitstrab",null,null,1,{"$f":"E7*D7","v":0},null,null,1,{"$f":"I7*H7","v":0},null,null,1,{"$f":"M7*L7","v":0},null,null,1,{"$f":"Q7*P7","v":0},null,null,1,{"$f":"U7*T7","v":0}]
[{"$f":"A7+1","v":2},"Anlegen Schlangenlinie",null,null,1,{"$f":"E8*D8","v":0},null,null,1,{"$f":"I8*H8","v":0},null,null,1,{"$f":"M8*L8","v":0},null,null,1,{"$f":"Q8*P8","v":0},null,null,1,{"$f":"U8*T8","v":0}]
[{"$f":"A8+1","v":3},"Arbeitsgalopp links",null,null,1,{"$f":"E9*D9","v":0},null,null,1,{"$f":"I9*H9","v":0},null,null,1,{"$f":"M9*L9","v":0},null,null,1,{"$f":"Q9*P9","v":0},null,null,1,{"$f":"U9*T9","v":0}]
[4,"Anlegen grosser Volte",null,null,1,{"$f":"E10*D10","v":0},null,null,1,{"$f":"I10*H10","v":0},null,null,1,{"$f":"M10*L10","v":0},null,null,1,{"$f":"Q10*P10","v":0},null,null,1,{"$f":"U10*T10","v":0}]
[5,"Arbeitsgalopp",null,null,1,{"$f":"E11*D11","v":0},null,null,1,{"$f":"I11*H11","v":0},null,null,1,{"$f":"M11*L11","v":0},null,null,1,{"$f":"Q11*P11","v":0},null,null,1,{"$f":"U11*T11","v":0}]
[6,"Volte, Galoppsprünge verlängern",null,null,1,0,null,null,1,0,null,null,1,0,null,null,1,{"$f":"Q12*P12","v":0},null,null,1,{"$f":"U12*T12","v":0}]
[7,"Aufnehmen über M nach C",null,null,1,0,null,null,1,0,null,null,1,0,null,null,1,0,null,null,1,0]
[8,"Arbeitstrab nach H",null,null,1,0,null,null,1,0,null,null,1,0,null,null,1,0,null,null,1,0]
[9,"Durch die ganze Bahn wechseln",null,null,1,0,null,null,1,0,null,null,1,0,null,null,1,0,null,null,1,0]
[10,"Arbeitsgalopp rechts",null,null,1,0,null,null,1,0,null,null,1,0,null,null,1,0,null,null,1,0]
[11,"Anlegen grosser Volte",null,null,1,0,null,null,1,0,null,null,1,0,null,null,1,0,null,null,1,0]
[12,"Arbeitsgalopp",null,null,1,0,null,null,1,0,null,null,1,0,null,null,1,0,null,null,1,0]
[13,"Volte, Galoppsprünge verlängern",null,null,1,0,null,null,1,0,null,null,1,0,null,null,1,0,null,null,1,0]
[14,"Aufnehmen und weiter nach H",null,null,1,0,null,null,1,0,null,null,1,0,null,null,1,0,null,null,1,0]
[15,"Volte, Zügel aus der Hand kauen",null,null,2,0,null,null,2,0,null,null,2,0,null,null,2,0,null,null,2,0]
[16,"Zügel aufnehmen, weiter nach R",null,null,1,0,null,null,1,0,null,null,1,0,null,null,1,0,null,null,1,0]
[17,"Starker Schritt",null,null,2,0,null,null,2,0,null,null,2,0,null,null,2,0,null,null,2,0]
[18,"Mittelschritt",null,null,1,{"$f":"E24*D24","v":0},null,null,1,{"$f":"I24*H24","v":0},null,null,1,{"$f":"M24*L24","v":0},null,null,1,0,null,null,1,0]
[19,"Mittellinie D antraben",null,null,1,0,null,null,1,0,null,null,1,0,null,null,1,0,null,null,1,0]
[20,"Halt und Gruss",null,null,1,{"$f":"E26*D26","v":0},null,null,1,{"$f":"I26*H26","v":0},null,null,1,{"$f":"M26*L26","v":0},null,null,1,0,null,null,1,0]
["Total der Lektionen",null,null,null,null,{"$f":"SUM(F7:F26)","v":0},null,null,null,{"$f":"SUM(J7:J26)","v":0},null,null,null,{"$f":"SUM(N7:N26)","v":0},null,null,null,{"$f":"SUM(R7:R26)","v":0},null,null,null,{"$f":"SUM(V7:V26)","v":0}]
[]
["Gesamteindruck"]
[{"$f":"A26+1","v":21},"Reinheit der Gänge /Abstände",null,null,2,{"$f":"E30*D30","v":0},null,null,2,0,null,null,2,0,null,null,2,{"$f":"P30*Q30","v":0},null,null,2,{"$f":"T30*U30","v":0}]
[{"$f":"A30+1","v":22},"Schwung / Exaktheit",null,null,2,{"$f":"E31*D31","v":0},null,null,2,0,null,null,2,0,null,null,2,{"$f":"P31*Q31","v":0},null,null,2,{"$f":"T31*U31","v":0}]
[{"$f":"A31+1","v":23},"Gehorsam / Ausführung",null,null,2,{"$f":"E32*D32","v":0},null,null,2,0,null,null,2,0,null,null,2,0,null,null,2,0]
[{"$f":"A32+1","v":24},"Exaktheit / Harmonie",null,null,2,{"$f":"E33*D33","v":0},null,null,2,0,null,null,2,0,null,null,2,0,null,null,2,0]
[{"$f":"A33+1","v":25},"Sitz und Einwirkung / Harmonie",null,null,2,{"$f":"E34*D34","v":0},null,null,2,0,null,null,2,0,null,null,2,0,null,null,2,0]
["Lektionen + Gesamteindruck",null,null,null,null,{"$f":"SUM(F30:F34,F27)","v":0},null,null,null,{"$f":"SUM(J30:J34,J27)","v":0},null,null,null,{"$f":"SUM(N30:N34,N27)","v":0},null,null,null,{"$f":"SUM(R30:R34,R27)","v":0},null,null,null,{"$f":"SUM(V30:V34,V27)","v":0}]
[]
["Abzüge"]
[null,"Erster Programmfehler",null,null,-2,{"$f":"E38*D38","v":0},null,null,-2,{"$f":"I38*H38","v":0},null,null,-2,{"$f":"M38*L38","v":0},null,null,-2,{"$f":"P38*Q38","v":0},null,null,-2,{"$f":"T38*U38","v":0}]
[null,"Zweiter Programmfehler",null,null,-5,{"$f":"E39*D39","v":0},null,null,-5,{"$f":"I39*H39","v":0},null,null,-5,{"$f":"M39*L39","v":0},null,null,-5,{"$f":"P39*Q39","v":0},null,null,-5,{"$f":"T39*U39","v":0}]
[null,"Dritter Programmfehler",null,null,-10,{"$f":"E40*D40","v":0},null,null,-10,{"$f":"I40*H40","v":0},null,null,-10,{"$f":"M40*L40","v":0},null,null,-10,0,null,null,-10,0]
["Total Abzüge",null,null,null,null,{"$f":"SUM(F38:F40)","v":0},null,null,null,{"$f":"SUM(J38:J40)","v":0},null,null,null,{"$f":"SUM(N38:N40)","v":0},null,null,null,{"$f":"SUM(R38:R40)","v":0},null,null,null,{"$f":"SUM(V38:V40)","v":0}]
[]
[]
["Endresultat",null,null,null,null,{"$f":"F35+F41","v":0},null,null,null,{"$f":"J35+J41","v":0},null,null,null,{"$f":"N35+N41","v":0},null,null,null,{"$f":"R35+R41","v":0},null,null,null,{"$f":"V35+V41","v":0}]
[]
["in Prozenten",null,null,null,null,{"$f":"F44/320","v":0},null,null,null,{"$f":"J44/320","v":0},null,null,null,{"$f":"N44/320","v":0},null,null,null,{"$f":"R44/320","v":0},null,null,null,{"$f":"V44/320","v":0}]
[]
[]
["ACHTUNG: Noten NUR in den farbigen Feldern eingeben & nach jeder Mannschaft die Datei speichern!"]

{"sheet":"26","index":28,"n_rows":49,"n_cols":22,"rows_kept":49,"cut":false,"hidden":false,"merged":[[0,20,0,21],[2,19,2,21],[3,19,3,21],[0,0,0,5],[2,11,2,13],[3,11,3,13],[2,3,2,5],[3,3,3,5],[2,7,2,9],[3,7,3,9],[2,15,2,17],[3,15,3,17]]}
[{"$f":"Mannschaften!D30","v":0},null,null,null,null,null,null,null,null,null,null,null,"Startnummer:",26,null,null,null,"Prozente:",null,null,{"$f":"((((F47+J47+N47)/3)+((R47+V47)/2))/2)","v":0}]
[]
[{"$f":"Stammdaten!B4","v":"Dressurtage XY"},null,null,{"$f":"Stammdaten!B14","v":"Richter H / Reiter 1"},null,null,null,{"$f":"Stammdaten!B17","v":"Richter C / Reiter 2"},null,null,null,{"$f":"Stammdaten!B20","v":"Richter M / Reiter 3"},null,null,null,{"$f":"Stammdaten!B23","v":"Richter E / Gesamteindr."},null,null,null,{"$f":"Stammdaten!B26","v":"Richter B / Gesamteindr."}]
[{"$f":"Stammdaten!B7","v":"OKV Mannschaftsdressur dd.mm.YYYY"},null,null,{"$f":"Stammdaten!D14","v":"Vor-, Nachname Richter/in 1"},null,null,null,{"$f":"Stammdaten!D17","v":"Vor-, Nachname Richter/in 2"},null,null,null,{"$f":"Stammdaten!D20","v":"Vor-, Nachname Richter/in 3"},null,null,null,{"$f":"Stammdaten!D23","v":"Vor-, Nachname Richter/in 4"},null,null,null,{"$f":"Stammdaten!D26","v":"Vor-, Nachname Richter/in 5"}]
[null,null,null,"Note","Koef.","Punkte",null,"Note","Koef.","Punkte",null,"Note","Koef.","Punkte",null,"Note","Koef.","Punkte",null,"Note","Koef.","Punkte"]
["Lektionen"]
[1,"Einreiten im Arbeitstrab",null,null,1,{"$f":"E7*D7","v":0},null,null,1,{"$f":"I7*H7","v":0},null,null,1,{"$f":"M7*L7","v":0},null,null,1,{"$f":"Q7*P7","v":0},null,null,1,{"$f":"U7*T7","v":0}]
[{"$f":"A7+1","v":2},"Anlegen Schlangenlinie",null,null,1,{"$f":"E8*D8","v":0},null,null,1,{"$f":"I8*H8","v":0},null,null,1,{"$f":"M8*L8","v":0},null,null,1,{"$f":"Q8*P8","v":0},null,null,1,{"$f":"U8*T8","v":0}]
[{"$f":"A8+1","v":3},"Arbeitsgalopp links",null,null,1,{"$f":"E9*D9","v":0},null,null,1,{"$f":"I9*H9","v":0},null,null,1,{"$f":"M9*L9","v":0},null,null,1,{"$f":"Q9*P9","v":0},null,null,1,{"$f":"U9*T9","v":0}]
[4,"Anlegen grosser Volte",null,null,1,{"$f":"E10*D10","v":0},null,null,1,{"$f":"I10*H10","v":0},null,null,1,{"$f":"M10*L10","v":0},null,null,1,{"$f":"Q10*P10","v":0},null,null,1,{"$f":"U10*T10","v":0}]
[5,"Arbeitsgalopp",null,null,1,{"$f":"E11*D11","v":0},null,null,1,{"$f":"I11*H11","v":0},null,null,1,{"$f":"M11*L11","v":0},null,null,1,{"$f":"Q11*P11","v":0},null,null,1,{"$f":"U11*T11","v":0}]
[6,"Volte, Galoppsprünge verlängern",null,null,1,0,null,null,1,0,null,null,1,0,null,null,1,{"$f":"Q12*P12","v":0},null,null,1,{"$f":"U12*T12","v":0}]
[7,"Aufnehmen über M nach C",null,null,1,0,null,null,1,0,null,null,1,0,null,null,1,0,null,null,1,0]
[8,"Arbeitstrab nach H",null,null,1,0,null,null,1,0,null,null,1,0,null,null,1,0,null,null,1,0]
[9,"Durch die ganze Bahn wechseln",null,null,1,0,null,null,1,0,null,null,1,0,null,null,1,0,null,null,1,0]
[10,"Arbeitsgalopp rechts",null,null,1,0,null,null,1,0,null,null,1,0,null,null,1,0,null,null,1,0]
[11,"Anlegen grosser Volte",null,null,1,0,null,null,1,0,null,null,1,0,null,null,1,0,null,null,1,0]
[12,"Arbeitsgalopp",null,null,1,0,null,null,1,0,null,null,1,0,null,null,1,0,null,null,1,0]
[13,"Volte, Galoppsprünge verlängern",null,null,1,0,null,null,1,0,null,null,1,0,null,null,1,0,null,null,1,0]
[14,"Aufnehmen und weiter nach H",null,null,1,0,null,null,1,0,null,null,1,0,null,null,1,0,null,null,1,0]
[15,"Volte, Zügel aus der Hand kauen",null,null,2,0,null,null,2,0,null,null,2,0,null,null,2,0,null,null,2,0]
[16,"Zügel aufnehmen, weiter nach R",null,null,1,0,null,null,1,0,null,null,1,0,null,null,1,0,null,null,1,0]
[17,"Starker Schritt",null,null,2,0,null,null,2,0,null,null,2,0,null,null,2,0,null,null,2,0]
[18,"Mittelschritt",null,null,1,{"$f":"E24*D24","v":0},null,null,1,{"$f":"I24*H24","v":0},null,null,1,{"$f":"M24*L24","v":0},null,null,1,0,null,null,1,0]
[19,"Mittellinie D antraben",null,null,1,0,null,null,1,0,null,null,1,0,null,null,1,0,null,null,1,0]
[20,"Halt und Gruss",null,null,1,{"$f":"E26*D26","v":0},null,null,1,{"$f":"I26*H26","v":0},null,null,1,{"$f":"M26*L26","v":0},null,null,1,0,null,null,1,0]
["Total der Lektionen",null,null,null,null,{"$f":"SUM(F7:F26)","v":0},null,null,null,{"$f":"SUM(J7:J26)","v":0},null,null,null,{"$f":"SUM(N7:N26)","v":0},null,null,null,{"$f":"SUM(R7:R26)","v":0},null,null,null,{"$f":"SUM(V7:V26)","v":0}]
[]
["Gesamteindruck"]
[{"$f":"A26+1","v":21},"Reinheit der Gänge /Abstände",null,null,2,{"$f":"E30*D30","v":0},null,null,2,0,null,null,2,0,null,null,2,{"$f":"P30*Q30","v":0},null,null,2,{"$f":"T30*U30","v":0}]
[{"$f":"A30+1","v":22},"Schwung / Exaktheit",null,null,2,{"$f":"E31*D31","v":0},null,null,2,0,null,null,2,0,null,null,2,{"$f":"P31*Q31","v":0},null,null,2,{"$f":"T31*U31","v":0}]
[{"$f":"A31+1","v":23},"Gehorsam / Ausführung",null,null,2,{"$f":"E32*D32","v":0},null,null,2,0,null,null,2,0,null,null,2,0,null,null,2,0]
[{"$f":"A32+1","v":24},"Exaktheit / Harmonie",null,null,2,{"$f":"E33*D33","v":0},null,null,2,0,null,null,2,0,null,null,2,0,null,null,2,0]
[{"$f":"A33+1","v":25},"Sitz und Einwirkung / Harmonie",null,null,2,{"$f":"E34*D34","v":0},null,null,2,0,null,null,2,0,null,null,2,0,null,null,2,0]
["Lektionen + Gesamteindruck",null,null,null,null,{"$f":"SUM(F30:F34,F27)","v":0},null,null,null,{"$f":"SUM(J30:J34,J27)","v":0},null,null,null,{"$f":"SUM(N30:N34,N27)","v":0},null,null,null,{"$f":"SUM(R30:R34,R27)","v":0},null,null,null,{"$f":"SUM(V30:V34,V27)","v":0}]
[]
["Abzüge"]
[null,"Erster Programmfehler",null,null,-2,{"$f":"E38*D38","v":0},null,null,-2,{"$f":"I38*H38","v":0},null,null,-2,{"$f":"M38*L38","v":0},null,null,-2,{"$f":"P38*Q38","v":0},null,null,-2,{"$f":"T38*U38","v":0}]
[null,"Zweiter Programmfehler",null,null,-5,{"$f":"E39*D39","v":0},null,null,-5,{"$f":"I39*H39","v":0},null,null,-5,{"$f":"M39*L39","v":0},null,null,-5,{"$f":"P39*Q39","v":0},null,null,-5,{"$f":"T39*U39","v":0}]
[null,"Dritter Programmfehler",null,null,-10,{"$f":"E40*D40","v":0},null,null,-10,{"$f":"I40*H40","v":0},null,null,-10,{"$f":"M40*L40","v":0},null,null,-10,0,null,null,-10,0]
["Total Abzüge",null,null,null,null,{"$f":"SUM(F38:F40)","v":0},null,null,null,{"$f":"SUM(J38:J40)","v":0},null,null,null,{"$f":"SUM(N38:N40)","v":0},null,null,null,{"$f":"SUM(R38:R40)","v":0},null,null,null,{"$f":"SUM(V38:V40)","v":0}]
[]
[]
["Endresultat",null,null,null,null,{"$f":"F35+F41","v":0},null,null,null,{"$f":"J35+J41","v":0},null,null,null,{"$f":"N35+N41","v":0},null,null,null,{"$f":"R35+R41","v":0},null,null,null,{"$f":"V35+V41","v":0}]
[]
["in Prozenten",null,null,null,null,{"$f":"F44/320","v":0},null,null,null,{"$f":"J44/320","v":0},null,null,null,{"$f":"N44/320","v":0},null,null,null,{"$f":"R44/320","v":0},null,null,null,{"$f":"V44/320","v":0}]
[]
[]
["ACHTUNG: Noten NUR in den farbigen Feldern eingeben & nach jeder Mannschaft die Datei speichern!"]

{"sheet":"27","index":29,"n_rows":49,"n_cols":22,"rows_kept":49,"cut":false,"hidden":false,"merged":[[0,20,0,21],[2,19,2,21],[3,19,3,21],[0,0,0,5],[2,11,2,13],[3,11,3,13],[2,3,2,5],[3,3,3,5],[2,7,2,9],[3,7,3,9],[2,15,2,17],[3,15,3,17]]}
[{"$f":"Mannschaften!D31","v":0},null,null,null,null,null,null,null,null,null,null,null,"Startnummer:",27,null,null,null,"Prozente:",null,null,{"$f":"((((F47+J47+N47)/3)+((R47+V47)/2))/2)","v":0}]
[]
[{"$f":"Stammdaten!B4","v":"Dressurtage XY"},null,null,{"$f":"Stammdaten!B14","v":"Richter H / Reiter 1"},null,null,null,{"$f":"Stammdaten!B17","v":"Richter C / Reiter 2"},null,null,null,{"$f":"Stammdaten!B20","v":"Richter M / Reiter 3"},null,null,null,{"$f":"Stammdaten!B23","v":"Richter E / Gesamteindr."},null,null,null,{"$f":"Stammdaten!B26","v":"Richter B / Gesamteindr."}]
[{"$f":"Stammdaten!B7","v":"OKV Mannschaftsdressur dd.mm.YYYY"},null,null,{"$f":"Stammdaten!D14","v":"Vor-, Nachname Richter/in 1"},null,null,null,{"$f":"Stammdaten!D17","v":"Vor-, Nachname Richter/in 2"},null,null,null,{"$f":"Stammdaten!D20","v":"Vor-, Nachname Richter/in 3"},null,null,null,{"$f":"Stammdaten!D23","v":"Vor-, Nachname Richter/in 4"},null,null,null,{"$f":"Stammdaten!D26","v":"Vor-, Nachname Richter/in 5"}]
[null,null,null,"Note","Koef.","Punkte",null,"Note","Koef.","Punkte",null,"Note","Koef.","Punkte",null,"Note","Koef.","Punkte",null,"Note","Koef.","Punkte"]
["Lektionen"]
[1,"Einreiten im Arbeitstrab",null,null,1,{"$f":"E7*D7","v":0},null,null,1,{"$f":"I7*H7","v":0},null,null,1,{"$f":"M7*L7","v":0},null,null,1,{"$f":"Q7*P7","v":0},null,null,1,{"$f":"U7*T7","v":0}]
[{"$f":"A7+1","v":2},"Anlegen Schlangenlinie",null,null,1,{"$f":"E8*D8","v":0},null,null,1,{"$f":"I8*H8","v":0},null,null,1,{"$f":"M8*L8","v":0},null,null,1,{"$f":"Q8*P8","v":0},null,null,1,{"$f":"U8*T8","v":0}]
[{"$f":"A8+1","v":3},"Arbeitsgalopp links",null,null,1,{"$f":"E9*D9","v":0},null,null,1,{"$f":"I9*H9","v":0},null,null,1,{"$f":"M9*L9","v":0},null,null,1,{"$f":"Q9*P9","v":0},null,null,1,{"$f":"U9*T9","v":0}]
[4,"Anlegen grosser Volte",null,null,1,{"$f":"E10*D10","v":0},null,null,1,{"$f":"I10*H10","v":0},null,null,1,{"$f":"M10*L10","v":0},null,null,1,{"$f":"Q10*P10","v":0},null,null,1,{"$f":"U10*T10","v":0}]
[5,"Arbeitsgalopp",null,null,1,{"$f":"E11*D11","v":0},null,null,1,{"$f":"I11*H11","v":0},null,null,1,{"$f":"M11*L11","v":0},null,null,1,{"$f":"Q11*P11","v":0},null,null,1,{"$f":"U11*T11","v":0}]
[6,"Volte, Galoppsprünge verlängern",null,null,1,0,null,null,1,0,null,null,1,0,null,null,1,{"$f":"Q12*P12","v":0},null,null,1,{"$f":"U12*T12","v":0}]
[7,"Aufnehmen über M nach C",null,null,1,0,null,null,1,0,null,null,1,0,null,null,1,0,null,null,1,0]
[8,"Arbeitstrab nach H",null,null,1,0,null,null,1,0,null,null,1,0,null,null,1,0,null,null,1,0]
[9,"Durch die ganze Bahn wechseln",null,null,1,0,null,null,1,0,null,null,1,0,null,null,1,0,null,null,1,0]
[10,"Arbeitsgalopp rechts",null,null,1,0,null,null,1,0,null,null,1,0,null,null,1,0,null,null,1,0]
[11,"Anlegen grosser Volte",null,null,1,0,null,null,1,0,null,null,1,0,null,null,1,0,null,null,1,0]
[12,"Arbeitsgalopp",null,null,1,0,null,null,1,0,null,null,1,0,null,null,1,0,null,null,1,0]
[13,"Volte, Galoppsprünge verlängern",null,null,1,0,null,null,1,0,null,null,1,0,null,null,1,0,null,null,1,0]
[14,"Aufnehmen und weiter nach H",null,null,1,0,null,null,1,0,null,null,1,0,null,null,1,0,null,null,1,0]
[15,"Volte, Zügel aus der Hand kauen",null,null,2,0,null,null,2,0,null,null,2,0,null,null,2,0,null,null,2,0]
[16,"Zügel aufnehmen, weiter nach R",null,null,1,0,null,null,1,0,null,null,1,0,null,null,1,0,null,null,1,0]
[17,"Starker Schritt",null,null,2,0,null,null,2,0,null,null,2,0,null,null,2,0,null,null,2,0]
[18,"Mittelschritt",null,null,1,{"$f":"E24*D24","v":0},null,null,1,{"$f":"I24*H24","v":0},null,null,1,{"$f":"M24*L24","v":0},null,null,1,0,null,null,1,0]
[19,"Mittellinie D antraben",null,null,1,0,null,null,1,0,null,null,1,0,null,null,1,0,null,null,1,0]
[20,"Halt und Gruss",null,null,1,{"$f":"E26*D26","v":0},null,null,1,{"$f":"I26*H26","v":0},null,null,1,{"$f":"M26*L26","v":0},null,null,1,0,null,null,1,0]
["Total der Lektionen",null,null,null,null,{"$f":"SUM(F7:F26)","v":0},null,null,null,{"$f":"SUM(J7:J26)","v":0},null,null,null,{"$f":"SUM(N7:N26)","v":0},null,null,null,{"$f":"SUM(R7:R26)","v":0},null,null,null,{"$f":"SUM(V7:V26)","v":0}]
[]
["Gesamteindruck"]
[{"$f":"A26+1","v":21},"Reinheit der Gänge /Abstände",null,null,2,{"$f":"E30*D30","v":0},null,null,2,0,null,null,2,0,null,null,2,{"$f":"P30*Q30","v":0},null,null,2,{"$f":"T30*U30","v":0}]
[{"$f":"A30+1","v":22},"Schwung / Exaktheit",null,null,2,{"$f":"E31*D31","v":0},null,null,2,0,null,null,2,0,null,null,2,{"$f":"P31*Q31","v":0},null,null,2,{"$f":"T31*U31","v":0}]
[{"$f":"A31+1","v":23},"Gehorsam / Ausführung",null,null,2,{"$f":"E32*D32","v":0},null,null,2,0,null,null,2,0,null,null,2,0,null,null,2,0]
[{"$f":"A32+1","v":24},"Exaktheit / Harmonie",null,null,2,{"$f":"E33*D33","v":0},null,null,2,0,null,null,2,0,null,null,2,0,null,null,2,0]
[{"$f":"A33+1","v":25},"Sitz und Einwirkung / Harmonie",null,null,2,{"$f":"E34*D34","v":0},null,null,2,0,null,null,2,0,null,null,2,0,null,null,2,0]
["Lektionen + Gesamteindruck",null,null,null,null,{"$f":"SUM(F30:F34,F27)","v":0},null,null,null,{"$f":"SUM(J30:J34,J27)","v":0},null,null,null,{"$f":"SUM(N30:N34,N27)","v":0},null,null,null,{"$f":"SUM(R30:R34,R27)","v":0},null,null,null,{"$f":"SUM(V30:V34,V27)","v":0}]
[]
["Abzüge"]
[null,"Erster Programmfehler",null,null,-2,{"$f":"E38*D38","v":0},null,null,-2,{"$f":"I38*H38","v":0},null,null,-2,{"$f":"M38*L38","v":0},null,null,-2,{"$f":"P38*Q38","v":0},null,null,-2,{"$f":"T38*U38","v":0}]
[null,"Zweiter Programmfehler",null,null,-5,{"$f":"E39*D39","v":0},null,null,-5,{"$f":"I39*H39","v":0},null,null,-5,{"$f":"M39*L39","v":0},null,null,-5,{"$f":"P39*Q39","v":0},null,null,-5,{"$f":"T39*U39","v":0}]
[null,"Dritter Programmfehler",null,null,-10,{"$f":"E40*D40","v":0},null,null,-10,{"$f":"I40*H40","v":0},null,null,-10,{"$f":"M40*L40","v":0},null,null,-10,0,null,null,-10,0]
["Total Abzüge",null,null,null,null,{"$f":"SUM(F38:F40)","v":0},null,null,null,{"$f":"SUM(J38:J40)","v":0},null,null,null,{"$f":"SUM(N38:N40)","v":0},null,null,null,{"$f":"SUM(R38:R40)","v":0},null,null,null,{"$f":"SUM(V38:V40)","v":0}]
[]
[]
["Endresultat",null,null,null,null,{"$f":"F35+F41","v":0},null,null,null,{"$f":"J35+J41","v":0},null,null,null,{"$f":"N35+N41","v":0},null,null,null,{"$f":"R35+R41","v":0},null,null,null,{"$f":"V35+V41","v":0}]
[]
["in Prozenten",null,null,null,null,{"$f":"F44/320","v":0},null,null,null,{"$f":"J44/320","v":0},null,null,null,{"$f":"N44/320","v":0},null,null,null,{"$f":"R44/320","v":0},null,null,null,{"$f":"V44/320","v":0}]
[]
[]
["ACHTUNG: Noten NUR in den farbigen Feldern eingeben & nach jeder Mannschaft die Datei speichern!"]

{"sheet":"28","index":30,"n_rows":49,"n_cols":22,"rows_kept":49,"cut":false,"hidden":false,"merged":[[0,20,0,21],[2,19,2,21],[3,19,3,21],[0,0,0,5],[2,11,2,13],[3,11,3,13],[2,3,2,5],[3,3,3,5],[2,7,2,9],[3,7,3,9],[2,15,2,17],[3,15,3,17]]}
[{"$f":"Mannschaften!D32","v":0},null,null,null,null,null,null,null,null,null,null,null,"Startnummer:",28,null,null,null,"Prozente:",null,null,{"$f":"((((F47+J47+N47)/3)+((R47+V47)/2))/2)","v":0}]
[]
[{"$f":"Stammdaten!B4","v":"Dressurtage XY"},null,null,{"$f":"Stammdaten!B14","v":"Richter H / Reiter 1"},null,null,null,{"$f":"Stammdaten!B17","v":"Richter C / Reiter 2"},null,null,null,{"$f":"Stammdaten!B20","v":"Richter M / Reiter 3"},null,null,null,{"$f":"Stammdaten!B23","v":"Richter E / Gesamteindr."},null,null,null,{"$f":"Stammdaten!B26","v":"Richter B / Gesamteindr."}]
[{"$f":"Stammdaten!B7","v":"OKV Mannschaftsdressur dd.mm.YYYY"},null,null,{"$f":"Stammdaten!D14","v":"Vor-, Nachname Richter/in 1"},null,null,null,{"$f":"Stammdaten!D17","v":"Vor-, Nachname Richter/in 2"},null,null,null,{"$f":"Stammdaten!D20","v":"Vor-, Nachname Richter/in 3"},null,null,null,{"$f":"Stammdaten!D23","v":"Vor-, Nachname Richter/in 4"},null,null,null,{"$f":"Stammdaten!D26","v":"Vor-, Nachname Richter/in 5"}]
[null,null,null,"Note","Koef.","Punkte",null,"Note","Koef.","Punkte",null,"Note","Koef.","Punkte",null,"Note","Koef.","Punkte",null,"Note","Koef.","Punkte"]
["Lektionen"]
[1,"Einreiten im Arbeitstrab",null,null,1,{"$f":"E7*D7","v":0},null,null,1,{"$f":"I7*H7","v":0},null,null,1,{"$f":"M7*L7","v":0},null,null,1,{"$f":"Q7*P7","v":0},null,null,1,{"$f":"U7*T7","v":0}]
[{"$f":"A7+1","v":2},"Anlegen Schlangenlinie",null,null,1,{"$f":"E8*D8","v":0},null,null,1,{"$f":"I8*H8","v":0},null,null,1,{"$f":"M8*L8","v":0},null,null,1,{"$f":"Q8*P8","v":0},null,null,1,{"$f":"U8*T8","v":0}]
[{"$f":"A8+1","v":3},"Arbeitsgalopp links",null,null,1,{"$f":"E9*D9","v":0},null,null,1,{"$f":"I9*H9","v":0},null,null,1,{"$f":"M9*L9","v":0},null,null,1,{"$f":"Q9*P9","v":0},null,null,1,{"$f":"U9*T9","v":0}]
[4,"Anlegen grosser Volte",null,null,1,{"$f":"E10*D10","v":0},null,null,1,{"$f":"I10*H10","v":0},null,null,1,{"$f":"M10*L10","v":0},null,null,1,{"$f":"Q10*P10","v":0},null,null,1,{"$f":"U10*T10","v":0}]
[5,"Arbeitsgalopp",null,null,1,{"$f":"E11*D11","v":0},null,null,1,{"$f":"I11*H11","v":0},null,null,1,{"$f":"M11*L11","v":0},null,null,1,{"$f":"Q11*P11","v":0},null,null,1,{"$f":"U11*T11","v":0}]
[6,"Volte, Galoppsprünge verlängern",null,null,1,0,null,null,1,0,null,null,1,0,null,null,1,{"$f":"Q12*P12","v":0},null,null,1,{"$f":"U12*T12","v":0}]
[7,"Aufnehmen über M nach C",null,null,1,0,null,null,1,0,null,null,1,0,null,null,1,0,null,null,1,0]
[8,"Arbeitstrab nach H",null,null,1,0,null,null,1,0,null,null,1,0,null,null,1,0,null,null,1,0]
[9,"Durch die ganze Bahn wechseln",null,null,1,0,null,null,1,0,null,null,1,0,null,null,1,0,null,null,1,0]
[10,"Arbeitsgalopp rechts",null,null,1,0,null,null,1,0,null,null,1,0,null,null,1,0,null,null,1,0]
[11,"Anlegen grosser Volte",null,null,1,0,null,null,1,0,null,null,1,0,null,null,1,0,null,null,1,0]
[12,"Arbeitsgalopp",null,null,1,0,null,null,1,0,null,null,1,0,null,null,1,0,null,null,1,0]
[13,"Volte, Galoppsprünge verlängern",null,null,1,0,null,null,1,0,null,null,1,0,null,null,1,0,null,null,1,0]
[14,"Aufnehmen und weiter nach H",null,null,1,0,null,null,1,0,null,null,1,0,null,null,1,0,null,null,1,0]
[15,"Volte, Zügel aus der Hand kauen",null,null,2,0,null,null,2,0,null,null,2,0,null,null,2,0,null,null,2,0]
[16,"Zügel aufnehmen, weiter nach R",null,null,1,0,null,null,1,0,null,null,1,0,null,null,1,0,null,null,1,0]
[17,"Starker Schritt",null,null,2,0,null,null,2,0,null,null,2,0,null,null,2,0,null,null,2,0]
[18,"Mittelschritt",null,null,1,{"$f":"E24*D24","v":0},null,null,1,{"$f":"I24*H24","v":0},null,null,1,{"$f":"M24*L24","v":0},null,null,1,0,null,null,1,0]
[19,"Mittellinie D antraben",null,null,1,0,null,null,1,0,null,null,1,0,null,null,1,0,null,null,1,0]
[20,"Halt und Gruss",null,null,1,{"$f":"E26*D26","v":0},null,null,1,{"$f":"I26*H26","v":0},null,null,1,{"$f":"M26*L26","v":0},null,null,1,0,null,null,1,0]
["Total der Lektionen",null,null,null,null,{"$f":"SUM(F7:F26)","v":0},null,null,null,{"$f":"SUM(J7:J26)","v":0},null,null,null,{"$f":"SUM(N7:N26)","v":0},null,null,null,{"$f":"SUM(R7:R26)","v":0},null,null,null,{"$f":"SUM(V7:V26)","v":0}]
[]
["Gesamteindruck"]
[{"$f":"A26+1","v":21},"Reinheit der Gänge /Abstände",null,null,2,{"$f":"E30*D30","v":0},null,null,2,0,null,null,2,0,null,null,2,{"$f":"P30*Q30","v":0},null,null,2,{"$f":"T30*U30","v":0}]
[{"$f":"A30+1","v":22},"Schwung / Exaktheit",null,null,2,{"$f":"E31*D31","v":0},null,null,2,0,null,null,2,0,null,null,2,{"$f":"P31*Q31","v":0},null,null,2,{"$f":"T31*U31","v":0}]
[{"$f":"A31+1","v":23},"Gehorsam / Ausführung",null,null,2,{"$f":"E32*D32","v":0},null,null,2,0,null,null,2,0,null,null,2,0,null,null,2,0]
[{"$f":"A32+1","v":24},"Exaktheit / Harmonie",null,null,2,{"$f":"E33*D33","v":0},null,null,2,0,null,null,2,0,null,null,2,0,null,null,2,0]
[{"$f":"A33+1","v":25},"Sitz und Einwirkung / Harmonie",null,null,2,{"$f":"E34*D34","v":0},null,null,2,0,null,null,2,0,null,null,2,0,null,null,2,0]
["Lektionen + Gesamteindruck",null,null,null,null,{"$f":"SUM(F30:F34,F27)","v":0},null,null,null,{"$f":"SUM(J30:J34,J27)","v":0},null,null,null,{"$f":"SUM(N30:N34,N27)","v":0},null,null,null,{"$f":"SUM(R30:R34,R27)","v":0},null,null,null,{"$f":"SUM(V30:V34,V27)","v":0}]
[]
["Abzüge"]
[null,"Erster Programmfehler",null,null,-2,{"$f":"E38*D38","v":0},null,null,-2,{"$f":"I38*H38","v":0},null,null,-2,{"$f":"M38*L38","v":0},null,null,-2,{"$f":"P38*Q38","v":0},null,null,-2,{"$f":"T38*U38","v":0}]
[null,"Zweiter Programmfehler",null,null,-5,{"$f":"E39*D39","v":0},null,null,-5,{"$f":"I39*H39","v":0},null,null,-5,{"$f":"M39*L39","v":0},null,null,-5,{"$f":"P39*Q39","v":0},null,null,-5,{"$f":"T39*U39","v":0}]
[null,"Dritter Programmfehler",null,null,-10,{"$f":"E40*D40","v":0},null,null,-10,{"$f":"I40*H40","v":0},null,null,-10,{"$f":"M40*L40","v":0},null,null,-10,0,null,null,-10,0]
["Total Abzüge",null,null,null,null,{"$f":"SUM(F38:F40)","v":0},null,null,null,{"$f":"SUM(J38:J40)","v":0},null,null,null,{"$f":"SUM(N38:N40)","v":0},null,null,null,{"$f":"SUM(R38:R40)","v":0},null,null,null,{"$f":"SUM(V38:V40)","v":0}]
[]
[]
["Endresultat",null,null,null,null,{"$f":"F35+F41","v":0},null,null,null,{"$f":"J35+J41","v":0},null,null,null,{"$f":"N35+N41","v":0},null,null,null,{"$f":"R35+R41","v":0},null,null,null,{"$f":"V35+V41","v":0}]
[]
["in Prozenten",null,null,null,null,{"$f":"F44/320","v":0},null,null,null,{"$f":"J44/320","v":0},null,null,null,{"$f":"N44/320","v":0},null,null,null,{"$f":"R44/320","v":0},null,null,null,{"$f":"V44/320","v":0}]
[]
[]
["ACHTUNG: Noten NUR in den farbigen Feldern eingeben & nach jeder Mannschaft die Datei speichern!"]

{"sheet":"29","index":31,"n_rows":49,"n_cols":22,"rows_kept":49,"cut":false,"hidden":false,"merged":[[0,20,0,21],[2,19,2,21],[3,19,3,21],[0,0,0,5],[2,11,2,13],[3,11,3,13],[2,3,2,5],[3,3,3,5],[2,7,2,9],[3,7,3,9],[2,15,2,17],[3,15,3,17]]}
[{"$f":"Mannschaften!D33","v":0},null,null,null,null,null,null,null,null,null,null,null,"Startnummer:",29,null,null,null,"Prozente:",null,null,{"$f":"((((F47+J47+N47)/3)+((R47+V47)/2))/2)","v":0}]
[]
[{"$f":"Stammdaten!B4","v":"Dressurtage XY"},null,null,{"$f":"Stammdaten!B14","v":"Richter H / Reiter 1"},null,null,null,{"$f":"Stammdaten!B17","v":"Richter C / Reiter 2"},null,null,null,{"$f":"Stammdaten!B20","v":"Richter M / Reiter 3"},null,null,null,{"$f":"Stammdaten!B23","v":"Richter E / Gesamteindr."},null,null,null,{"$f":"Stammdaten!B26","v":"Richter B / Gesamteindr."}]
[{"$f":"Stammdaten!B7","v":"OKV Mannschaftsdressur dd.mm.YYYY"},null,null,{"$f":"Stammdaten!D14","v":"Vor-, Nachname Richter/in 1"},null,null,null,{"$f":"Stammdaten!D17","v":"Vor-, Nachname Richter/in 2"},null,null,null,{"$f":"Stammdaten!D20","v":"Vor-, Nachname Richter/in 3"},null,null,null,{"$f":"Stammdaten!D23","v":"Vor-, Nachname Richter/in 4"},null,null,null,{"$f":"Stammdaten!D26","v":"Vor-, Nachname Richter/in 5"}]
[null,null,null,"Note","Koef.","Punkte",null,"Note","Koef.","Punkte",null,"Note","Koef.","Punkte",null,"Note","Koef.","Punkte",null,"Note","Koef.","Punkte"]
["Lektionen"]
[1,"Einreiten im Arbeitstrab",null,null,1,{"$f":"E7*D7","v":0},null,null,1,{"$f":"I7*H7","v":0},null,null,1,{"$f":"M7*L7","v":0},null,null,1,{"$f":"Q7*P7","v":0},null,null,1,{"$f":"U7*T7","v":0}]
[{"$f":"A7+1","v":2},"Anlegen Schlangenlinie",null,null,1,{"$f":"E8*D8","v":0},null,null,1,{"$f":"I8*H8","v":0},null,null,1,{"$f":"M8*L8","v":0},null,null,1,{"$f":"Q8*P8","v":0},null,null,1,{"$f":"U8*T8","v":0}]
[{"$f":"A8+1","v":3},"Arbeitsgalopp links",null,null,1,{"$f":"E9*D9","v":0},null,null,1,{"$f":"I9*H9","v":0},null,null,1,{"$f":"M9*L9","v":0},null,null,1,{"$f":"Q9*P9","v":0},null,null,1,{"$f":"U9*T9","v":0}]
[4,"Anlegen grosser Volte",null,null,1,{"$f":"E10*D10","v":0},null,null,1,{"$f":"I10*H10","v":0},null,null,1,{"$f":"M10*L10","v":0},null,null,1,{"$f":"Q10*P10","v":0},null,null,1,{"$f":"U10*T10","v":0}]
[5,"Arbeitsgalopp",null,null,1,{"$f":"E11*D11","v":0},null,null,1,{"$f":"I11*H11","v":0},null,null,1,{"$f":"M11*L11","v":0},null,null,1,{"$f":"Q11*P11","v":0},null,null,1,{"$f":"U11*T11","v":0}]
[6,"Volte, Galoppsprünge verlängern",null,null,1,0,null,null,1,0,null,null,1,0,null,null,1,{"$f":"Q12*P12","v":0},null,null,1,{"$f":"U12*T12","v":0}]
[7,"Aufnehmen über M nach C",null,null,1,0,null,null,1,0,null,null,1,0,null,null,1,0,null,null,1,0]
[8,"Arbeitstrab nach H",null,null,1,0,null,null,1,0,null,null,1,0,null,null,1,0,null,null,1,0]
[9,"Durch die ganze Bahn wechseln",null,null,1,0,null,null,1,0,null,null,1,0,null,null,1,0,null,null,1,0]
[10,"Arbeitsgalopp rechts",null,null,1,0,null,null,1,0,null,null,1,0,null,null,1,0,null,null,1,0]
[11,"Anlegen grosser Volte",null,null,1,0,null,null,1,0,null,null,1,0,null,null,1,0,null,null,1,0]
[12,"Arbeitsgalopp",null,null,1,0,null,null,1,0,null,null,1,0,null,null,1,0,null,null,1,0]
[13,"Volte, Galoppsprünge verlängern",null,null,1,0,null,null,1,0,null,null,1,0,null,null,1,0,null,null,1,0]
[14,"Aufnehmen und weiter nach H",null,null,1,0,null,null,1,0,null,null,1,0,null,null,1,0,null,null,1,0]
[15,"Volte, Zügel aus der Hand kauen",null,null,2,0,null,null,2,0,null,null,2,0,null,null,2,0,null,null,2,0]
[16,"Zügel aufnehmen, weiter nach R",null,null,1,0,null,null,1,0,null,null,1,0,null,null,1,0,null,null,1,0]
[17,"Starker Schritt",null,null,2,0,null,null,2,0,null,null,2,0,null,null,2,0,null,null,2,0]
[18,"Mittelschritt",null,null,1,{"$f":"E24*D24","v":0},null,null,1,{"$f":"I24*H24","v":0},null,null,1,{"$f":"M24*L24","v":0},null,null,1,0,null,null,1,0]
[19,"Mittellinie D antraben",null,null,1,0,null,null,1,0,null,null,1,0,null,null,1,0,null,null,1,0]
[20,"Halt und Gruss",null,null,1,{"$f":"E26*D26","v":0},null,null,1,{"$f":"I26*H26","v":0},null,null,1,{"$f":"M26*L26","v":0},null,null,1,0,null,null,1,0]
["Total der Lektionen",null,null,null,null,{"$f":"SUM(F7:F26)","v":0},null,null,null,{"$f":"SUM(J7:J26)","v":0},null,null,null,{"$f":"SUM(N7:N26)","v":0},null,null,null,{"$f":"SUM(R7:R26)","v":0},null,null,null,{"$f":"SUM(V7:V26)","v":0}]
[]
["Gesamteindruck"]
[{"$f":"A26+1","v":21},"Reinheit der Gänge /Abstände",null,null,2,{"$f":"E30*D30","v":0},null,null,2,0,null,null,2,0,null,null,2,{"$f":"P30*Q30","v":0},null,null,2,{"$f":"T30*U30","v":0}]
[{"$f":"A30+1","v":22},"Schwung / Exaktheit",null,null,2,{"$f":"E31*D31","v":0},null,null,2,0,null,null,2,0,null,null,2,{"$f":"P31*Q31","v":0},null,null,2,{"$f":"T31*U31","v":0}]
[{"$f":"A31+1","v":23},"Gehorsam / Ausführung",null,null,2,{"$f":"E32*D32","v":0},null,null,2,0,null,null,2,0,null,null,2,0,null,null,2,0]
[{"$f":"A32+1","v":24},"Exaktheit / Harmonie",null,null,2,{"$f":"E33*D33","v":0},null,null,2,0,null,null,2,0,null,null,2,0,null,null,2,0]
[{"$f":"A33+1","v":25},"Sitz und Einwirkung / Harmonie",null,null,2,{"$f":"E34*D34","v":0},null,null,2,0,null,null,2,0,null,null,2,0,null,null,2,0]
["Lektionen + Gesamteindruck",null,null,null,null,{"$f":"SUM(F30:F34,F27)","v":0},null,null,null,{"$f":"SUM(J30:J34,J27)","v":0},null,null,null,{"$f":"SUM(N30:N34,N27)","v":0},null,null,null,{"$f":"SUM(R30:R34,R27)","v":0},null,null,null,{"$f":"SUM(V30:V34,V27)","v":0}]
[]
["Abzüge"]
[null,"Erster Programmfehler",null,null,-2,{"$f":"E38*D38","v":0},null,null,-2,{"$f":"I38*H38","v":0},null,null,-2,{"$f":"M38*L38","v":0},null,null,-2,{"$f":"P38*Q38","v":0},null,null,-2,{"$f":"T38*U38","v":0}]
[null,"Zweiter Programmfehler",null,null,-5,{"$f":"E39*D39","v":0},null,null,-5,{"$f":"I39*H39","v":0},null,null,-5,{"$f":"M39*L39","v":0},null,null,-5,{"$f":"P39*Q39","v":0},null,null,-5,{"$f":"T39*U39","v":0}]
[null,"Dritter Programmfehler",null,null,-10,{"$f":"E40*D40","v":0},null,null,-10,{"$f":"I40*H40","v":0},null,null,-10,{"$f":"M40*L40","v":0},null,null,-10,0,null,null,-10,0]
["Total Abzüge",null,null,null,null,{"$f":"SUM(F38:F40)","v":0},null,null,null,{"$f":"SUM(J38:J40)","v":0},null,null,null,{"$f":"SUM(N38:N40)","v":0},null,null,null,{"$f":"SUM(R38:R40)","v":0},null,null,null,{"$f":"SUM(V38:V40)","v":0}]
[]
[]
["Endresultat",null,null,null,null,{"$f":"F35+F41","v":0},null,null,null,{"$f":"J35+J41","v":0},null,null,null,{"$f":"N35+N41","v":0},null,null,null,{"$f":"R35+R41","v":0},null,null,null,{"$f":"V35+V41","v":0}]
[]
["in Prozenten",null,null,null,null,{"$f":"F44/320","v":0},null,null,null,{"$f":"J44/320","v":0},null,null,null,{"$f":"N44/320","v":0},null,null,null,{"$f":"R44/320","v":0},null,null,null,{"$f":"V44/320","v":0}]
[]
[]
["ACHTUNG: Noten NUR in den farbigen Feldern eingeben & nach jeder Mannschaft die Datei speichern!"]

{"sheet":"30","index":32,"n_rows":49,"n_cols":22,"rows_kept":49,"cut":false,"hidden":false,"merged":[[0,20,0,21],[2,19,2,21],[3,19,3,21],[0,0,0,5],[2,11,2,13],[3,11,3,13],[2,3,2,5],[3,3,3,5],[2,7,2,9],[3,7,3,9],[2,15,2,17],[3,15,3,17]]}
[{"$f":"Mannschaften!D34","v":0},null,null,null,null,null,null,null,null,null,null,null,"Startnummer:",30,null,null,null,"Prozente:",null,null,{"$f":"((((F47+J47+N47)/3)+((R47+V47)/2))/2)","v":0}]
[]
[{"$f":"Stammdaten!B4","v":"Dressurtage XY"},null,null,{"$f":"Stammdaten!B14","v":"Richter H / Reiter 1"},null,null,null,{"$f":"Stammdaten!B17","v":"Richter C / Reiter 2"},null,null,null,{"$f":"Stammdaten!B20","v":"Richter M / Reiter 3"},null,null,null,{"$f":"Stammdaten!B23","v":"Richter E / Gesamteindr."},null,null,null,{"$f":"Stammdaten!B26","v":"Richter B / Gesamteindr."}]
[{"$f":"Stammdaten!B7","v":"OKV Mannschaftsdressur dd.mm.YYYY"},null,null,{"$f":"Stammdaten!D14","v":"Vor-, Nachname Richter/in 1"},null,null,null,{"$f":"Stammdaten!D17","v":"Vor-, Nachname Richter/in 2"},null,null,null,{"$f":"Stammdaten!D20","v":"Vor-, Nachname Richter/in 3"},null,null,null,{"$f":"Stammdaten!D23","v":"Vor-, Nachname Richter/in 4"},null,null,null,{"$f":"Stammdaten!D26","v":"Vor-, Nachname Richter/in 5"}]
[null,null,null,"Note","Koef.","Punkte",null,"Note","Koef.","Punkte",null,"Note","Koef.","Punkte",null,"Note","Koef.","Punkte",null,"Note","Koef.","Punkte"]
["Lektionen"]
[1,"Einreiten im Arbeitstrab",null,null,1,{"$f":"E7*D7","v":0},null,null,1,{"$f":"I7*H7","v":0},null,null,1,{"$f":"M7*L7","v":0},null,null,1,{"$f":"Q7*P7","v":0},null,null,1,{"$f":"U7*T7","v":0}]
[{"$f":"A7+1","v":2},"Anlegen Schlangenlinie",null,null,1,{"$f":"E8*D8","v":0},null,null,1,{"$f":"I8*H8","v":0},null,null,1,{"$f":"M8*L8","v":0},null,null,1,{"$f":"Q8*P8","v":0},null,null,1,{"$f":"U8*T8","v":0}]
[{"$f":"A8+1","v":3},"Arbeitsgalopp links",null,null,1,{"$f":"E9*D9","v":0},null,null,1,{"$f":"I9*H9","v":0},null,null,1,{"$f":"M9*L9","v":0},null,null,1,{"$f":"Q9*P9","v":0},null,null,1,{"$f":"U9*T9","v":0}]
[4,"Anlegen grosser Volte",null,null,1,{"$f":"E10*D10","v":0},null,null,1,{"$f":"I10*H10","v":0},null,null,1,{"$f":"M10*L10","v":0},null,null,1,{"$f":"Q10*P10","v":0},null,null,1,{"$f":"U10*T10","v":0}]
[5,"Arbeitsgalopp",null,null,1,{"$f":"E11*D11","v":0},null,null,1,{"$f":"I11*H11","v":0},null,null,1,{"$f":"M11*L11","v":0},null,null,1,{"$f":"Q11*P11","v":0},null,null,1,{"$f":"U11*T11","v":0}]
[6,"Volte, Galoppsprünge verlängern",null,null,1,0,null,null,1,0,null,null,1,0,null,null,1,{"$f":"Q12*P12","v":0},null,null,1,{"$f":"U12*T12","v":0}]
[7,"Aufnehmen über M nach C",null,null,1,0,null,null,1,0,null,null,1,0,null,null,1,0,null,null,1,0]
[8,"Arbeitstrab nach H",null,null,1,0,null,null,1,0,null,null,1,0,null,null,1,0,null,null,1,0]
[9,"Durch die ganze Bahn wechseln",null,null,1,0,null,null,1,0,null,null,1,0,null,null,1,0,null,null,1,0]
[10,"Arbeitsgalopp rechts",null,null,1,0,null,null,1,0,null,null,1,0,null,null,1,0,null,null,1,0]
[11,"Anlegen grosser Volte",null,null,1,0,null,null,1,0,null,null,1,0,null,null,1,0,null,null,1,0]
[12,"Arbeitsgalopp",null,null,1,0,null,null,1,0,null,null,1,0,null,null,1,0,null,null,1,0]
[13,"Volte, Galoppsprünge verlängern",null,null,1,0,null,null,1,0,null,null,1,0,null,null,1,0,null,null,1,0]
[14,"Aufnehmen und weiter nach H",null,null,1,0,null,null,1,0,null,null,1,0,null,null,1,0,null,null,1,0]
[15,"Volte, Zügel aus der Hand kauen",null,null,2,0,null,null,2,0,null,null,2,0,null,null,2,0,null,null,2,0]
[16,"Zügel aufnehmen, weiter nach R",null,null,1,0,null,null,1,0,null,null,1,0,null,null,1,0,null,null,1,0]
[17,"Starker Schritt",null,null,2,0,null,null,2,0,null,null,2,0,null,null,2,0,null,null,2,0]
[18,"Mittelschritt",null,null,1,{"$f":"E24*D24","v":0},null,null,1,{"$f":"I24*H24","v":0},null,null,1,{"$f":"M24*L24","v":0},null,null,1,0,null,null,1,0]
[19,"Mittellinie D antraben",null,null,1,0,null,null,1,0,null,null,1,0,null,null,1,0,null,null,1,0]
[20,"Halt und Gruss",null,null,1,{"$f":"E26*D26","v":0},null,null,1,{"$f":"I26*H26","v":0},null,null,1,{"$f":"M26*L26","v":0},null,null,1,0,null,null,1,0]
["Total der Lektionen",null,null,null,null,{"$f":"SUM(F7:F26)","v":0},null,null,null,{"$f":"SUM(J7:J26)","v":0},null,null,null,{"$f":"SUM(N7:N26)","v":0},null,null,null,{"$f":"SUM(R7:R26)","v":0},null,null,null,{"$f":"SUM(V7:V26)","v":0}]
[]
["Gesamteindruck"]
[{"$f":"A26+1","v":21},"Reinheit der Gänge /Abstände",null,null,2,{"$f":"E30*D30","v":0},null,null,2,0,null,null,2,0,null,null,2,{"$f":"P30*Q30","v":0},null,null,2,{"$f":"T30*U30","v":0}]
[{"$f":"A30+1","v":22},"Schwung / Exaktheit",null,null,2,{"$f":"E31*D31","v":0},null,null,2,0,null,null,2,0,null,null,2,{"$f":"P31*Q31","v":0},null,null,2,{"$f":"T31*U31","v":0}]
[{"$f":"A31+1","v":23},"Gehorsam / Ausführung",null,null,2,{"$f":"E32*D32","v":0},null,null,2,0,null,null,2,0,null,null,2,0,null,null,2,0]
[{"$f":"A32+1","v":24},"Exaktheit / Harmonie",null,null,2,{"$f":"E33*D33","v":0},null,null,2,0,null,null,2,0,null,null,2,0,null,null,2,0]
[{"$f":"A33+1","v":25},"Sitz und Einwirkung / Harmonie",null,null,2,{"$f":"E34*D34","v":0},null,null,2,0,null,null,2,0,null,null,2,0,null,null,2,0]
["Lektionen + Gesamteindruck",null,null,null,null,{"$f":"SUM(F30:F34,F27)","v":0},null,null,null,{"$f":"SUM(J30:J34,J27)","v":0},null,null,null,{"$f":"SUM(N30:N34,N27)","v":0},null,null,null,{"$f":"SUM(R30:R34,R27)","v":0},null,null,null,{"$f":"SUM(V30:V34,V27)","v":0}]
[]
["Abzüge"]
[null,"Erster Programmfehler",null,null,-2,{"$f":"E38*D38","v":0},null,null,-2,{"$f":"I38*H38","v":0},null,null,-2,{"$f":"M38*L38","v":0},null,null,-2,{"$f":"P38*Q38","v":0},null,null,-2,{"$f":"T38*U38","v":0}]
[null,"Zweiter Programmfehler",null,null,-5,{"$f":"E39*D39","v":0},null,null,-5,{"$f":"I39*H39","v":0},null,null,-5,{"$f":"M39*L39","v":0},null,null,-5,{"$f":"P39*Q39","v":0},null,null,-5,{"$f":"T39*U39","v":0}]
[null,"Dritter Programmfehler",null,null,-10,{"$f":"E40*D40","v":0},null,null,-10,{"$f":"I40*H40","v":0},null,null,-10,{"$f":"M40*L40","v":0},null,null,-10,0,null,null,-10,0]
["Total Abzüge",null,null,null,null,{"$f":"SUM(F38:F40)","v":0},null,null,null,{"$f":"SUM(J38:J40)","v":0},null,null,null,{"$f":"SUM(N38:N40)","v":0},null,null,null,{"$f":"SUM(R38:R40)","v":0},null,null,null,{"$f":"SUM(V38:V40)","v":0}]
[]
[]
["Endresultat",null,null,null,null,{"$f":"F35+F41","v":0},null,null,null,{"$f":"J35+J41","v":0},null,null,null,{"$f":"N35+N41","v":0},null,null,null,{"$f":"R35+R41","v":0},null,null,null,{"$f":"V35+V41","v":0}]
[]
["in Prozenten",null,null,null,null,{"$f":"F44/320","v":0},null,null,null,{"$f":"J44/320","v":0},null,null,null,{"$f":"N44/320","v":0},null,null,null,{"$f":"R44/320","v":0},null,null,null,{"$f":"V44/320","v":0}]
[]
[]
["ACHTUNG: Noten NUR in den farbigen Feldern eingeben & nach jeder Mannschaft die Datei speichern!"]

{"sheet":"31","index":33,"n_rows":49,"n_cols":22,"rows_kept":49,"cut":false,"hidden":false,"merged":[[0,20,0,21],[2,19,2,21],[3,19,3,21],[2,11,2,13],[3,11,3,13],[2,3,2,5],[3,3,3,5],[2,7,2,9],[3,7,3,9],[2,15,2,17],[3,15,3,17]]}
[{"$f":"Mannschaften!D35","v":0},null,null,null,null,null,null,null,null,null,null,null,"Startnummer:",31,null,null,null,"Prozente:",null,null,{"$f":"((((F47+J47+N47)/3)+((R47+V47)/2))/2)","v":0}]
[]
[{"$f":"Stammdaten!B4","v":"Dressurtage XY"},null,null,{"$f":"Stammdaten!B14","v":"Richter H / Reiter 1"},null,null,null,{"$f":"Stammdaten!B17","v":"Richter C / Reiter 2"},null,null,null,{"$f":"Stammdaten!B20","v":"Richter M / Reiter 3"},null,null,null,{"$f":"Stammdaten!B23","v":"Richter E / Gesamteindr."},null,null,null,{"$f":"Stammdaten!B26","v":"Richter B / Gesamteindr."}]
[{"$f":"Stammdaten!B7","v":"OKV Mannschaftsdressur dd.mm.YYYY"},null,null,{"$f":"Stammdaten!D14","v":"Vor-, Nachname Richter/in 1"},null,null,null,{"$f":"Stammdaten!D17","v":"Vor-, Nachname Richter/in 2"},null,null,null,{"$f":"Stammdaten!D20","v":"Vor-, Nachname Richter/in 3"},null,null,null,{"$f":"Stammdaten!D23","v":"Vor-, Nachname Richter/in 4"},null,null,null,{"$f":"Stammdaten!D26","v":"Vor-, Nachname Richter/in 5"}]
[null,null,null,"Note","Koef.","Punkte",null,"Note","Koef.","Punkte",null,"Note","Koef.","Punkte",null,"Note","Koef.","Punkte",null,"Note","Koef.","Punkte"]
["Lektionen"]
[1,"Einreiten im Arbeitstrab",null,null,1,{"$f":"E7*D7","v":0},null,null,1,{"$f":"I7*H7","v":0},null,null,1,{"$f":"M7*L7","v":0},null,null,1,{"$f":"Q7*P7","v":0},null,null,1,{"$f":"U7*T7","v":0}]
[{"$f":"A7+1","v":2},"Anlegen Schlangenlinie",null,null,1,{"$f":"E8*D8","v":0},null,null,1,{"$f":"I8*H8","v":0},null,null,1,{"$f":"M8*L8","v":0},null,null,1,{"$f":"Q8*P8","v":0},null,null,1,{"$f":"U8*T8","v":0}]
[{"$f":"A8+1","v":3},"Arbeitsgalopp links",null,null,1,{"$f":"E9*D9","v":0},null,null,1,{"$f":"I9*H9","v":0},null,null,1,{"$f":"M9*L9","v":0},null,null,1,{"$f":"Q9*P9","v":0},null,null,1,{"$f":"U9*T9","v":0}]
[4,"Anlegen grosser Volte",null,null,1,{"$f":"E10*D10","v":0},null,null,1,{"$f":"I10*H10","v":0},null,null,1,{"$f":"M10*L10","v":0},null,null,1,{"$f":"Q10*P10","v":0},null,null,1,{"$f":"U10*T10","v":0}]
[5,"Arbeitsgalopp",null,null,1,{"$f":"E11*D11","v":0},null,null,1,{"$f":"I11*H11","v":0},null,null,1,{"$f":"M11*L11","v":0},null,null,1,{"$f":"Q11*P11","v":0},null,null,1,{"$f":"U11*T11","v":0}]
[6,"Volte, Galoppsprünge verlängern",null,null,1,0,null,null,1,0,null,null,1,0,null,null,1,{"$f":"Q12*P12","v":0},null,null,1,{"$f":"U12*T12","v":0}]
[7,"Aufnehmen über M nach C",null,null,1,0,null,null,1,0,null,null,1,0,null,null,1,0,null,null,1,0]
[8,"Arbeitstrab nach H",null,null,1,0,null,null,1,0,null,null,1,0,null,null,1,0,null,null,1,0]
[9,"Durch die ganze Bahn wechseln",null,null,1,0,null,null,1,0,null,null,1,0,null,null,1,0,null,null,1,0]
[10,"Arbeitsgalopp rechts",null,null,1,0,null,null,1,0,null,null,1,0,null,null,1,0,null,null,1,0]
[11,"Anlegen grosser Volte",null,null,1,0,null,null,1,0,null,null,1,0,null,null,1,0,null,null,1,0]
[12,"Arbeitsgalopp",null,null,1,0,null,null,1,0,null,null,1,0,null,null,1,0,null,null,1,0]
[13,"Volte, Galoppsprünge verlängern",null,null,1,0,null,null,1,0,null,null,1,0,null,null,1,0,null,null,1,0]
[14,"Aufnehmen und weiter nach H",null,null,1,0,null,null,1,0,null,null,1,0,null,null,1,0,null,null,1,0]
[15,"Volte, Zügel aus der Hand kauen",null,null,2,0,null,null,2,0,null,null,2,0,null,null,2,0,null,null,2,0]
[16,"Zügel aufnehmen, weiter nach R",null,null,1,0,null,null,1,0,null,null,1,0,null,null,1,0,null,null,1,0]
[17,"Starker Schritt",null,null,2,0,null,null,2,0,null,null,2,0,null,null,2,0,null,null,2,0]
[18,"Mittelschritt",null,null,1,{"$f":"E24*D24","v":0},null,null,1,{"$f":"I24*H24","v":0},null,null,1,{"$f":"M24*L24","v":0},null,null,1,0,null,null,1,0]
[19,"Mittellinie D antraben",null,null,1,0,null,null,1,0,null,null,1,0,null,null,1,0,null,null,1,0]
[20,"Halt und Gruss",null,null,1,{"$f":"E26*D26","v":0},null,null,1,{"$f":"I26*H26","v":0},null,null,1,{"$f":"M26*L26","v":0},null,null,1,0,null,null,1,0]
["Total der Lektionen",null,null,null,null,{"$f":"SUM(F7:F26)","v":0},null,null,null,{"$f":"SUM(J7:J26)","v":0},null,null,null,{"$f":"SUM(N7:N26)","v":0},null,null,null,{"$f":"SUM(R7:R26)","v":0},null,null,null,{"$f":"SUM(V7:V26)","v":0}]
[]
["Gesamteindruck"]
[{"$f":"A26+1","v":21},"Reinheit der Gänge /Abstände",null,null,2,{"$f":"E30*D30","v":0},null,null,2,0,null,null,2,0,null,null,2,{"$f":"P30*Q30","v":0},null,null,2,{"$f":"T30*U30","v":0}]
[{"$f":"A30+1","v":22},"Schwung / Exaktheit",null,null,2,{"$f":"E31*D31","v":0},null,null,2,0,null,null,2,0,null,null,2,{"$f":"P31*Q31","v":0},null,null,2,{"$f":"T31*U31","v":0}]
[{"$f":"A31+1","v":23},"Gehorsam / Ausführung",null,null,2,{"$f":"E32*D32","v":0},null,null,2,0,null,null,2,0,null,null,2,0,null,null,2,0]
[{"$f":"A32+1","v":24},"Exaktheit / Harmonie",null,null,2,{"$f":"E33*D33","v":0},null,null,2,0,null,null,2,0,null,null,2,0,null,null,2,0]
[{"$f":"A33+1","v":25},"Sitz und Einwirkung / Harmonie",null,null,2,{"$f":"E34*D34","v":0},null,null,2,0,null,null,2,0,null,null,2,0,null,null,2,0]
["Lektionen + Gesamteindruck",null,null,null,null,{"$f":"SUM(F30:F34,F27)","v":0},null,null,null,{"$f":"SUM(J30:J34,J27)","v":0},null,null,null,{"$f":"SUM(N30:N34,N27)","v":0},null,null,null,{"$f":"SUM(R30:R34,R27)","v":0},null,null,null,{"$f":"SUM(V30:V34,V27)","v":0}]
[]
["Abzüge"]
[null,"Erster Programmfehler",null,null,-2,{"$f":"E38*D38","v":0},null,null,-2,{"$f":"I38*H38","v":0},null,null,-2,{"$f":"M38*L38","v":0},null,null,-2,{"$f":"P38*Q38","v":0},null,null,-2,{"$f":"T38*U38","v":0}]
[null,"Zweiter Programmfehler",null,null,-5,{"$f":"E39*D39","v":0},null,null,-5,{"$f":"I39*H39","v":0},null,null,-5,{"$f":"M39*L39","v":0},null,null,-5,{"$f":"P39*Q39","v":0},null,null,-5,{"$f":"T39*U39","v":0}]
[null,"Dritter Programmfehler",null,null,-10,{"$f":"E40*D40","v":0},null,null,-10,{"$f":"I40*H40","v":0},null,null,-10,{"$f":"M40*L40","v":0},null,null,-10,0,null,null,-10,0]
["Total Abzüge",null,null,null,null,{"$f":"SUM(F38:F40)","v":0},null,null,null,{"$f":"SUM(J38:J40)","v":0},null,null,null,{"$f":"SUM(N38:N40)","v":0},null,null,null,{"$f":"SUM(R38:R40)","v":0},null,null,null,{"$f":"SUM(V38:V40)","v":0}]
[]
[]
["Endresultat",null,null,null,null,{"$f":"F35+F41","v":0},null,null,null,{"$f":"J35+J41","v":0},null,null,null,{"$f":"N35+N41","v":0},null,null,null,{"$f":"R35+R41","v":0},null,null,null,{"$f":"V35+V41","v":0}]
[]
["in Prozenten",null,null,null,null,{"$f":"F44/320","v":0},null,null,null,{"$f":"J44/320","v":0},null,null,null,{"$f":"N44/320","v":0},null,null,null,{"$f":"R44/320","v":0},null,null,null,{"$f":"V44/320","v":0}]
[]
[]
["ACHTUNG: Noten NUR in den farbigen Feldern eingeben & nach jeder Mannschaft die Datei speichern!"]

{"sheet":"32","index":34,"n_rows":49,"n_cols":22,"rows_kept":49,"cut":false,"hidden":false,"merged":[[0,20,0,21],[2,19,2,21],[3,19,3,21],[0,0,0,6],[2,11,2,13],[3,11,3,13],[2,3,2,5],[3,3,3,5],[2,7,2,9],[3,7,3,9],[2,15,2,17],[3,15,3,17]]}
[{"$f":"Mannschaften!$D$36","v":0},null,null,null,null,null,null,null,null,null,null,null,"Startnummer:",32,null,null,null,"Prozente:",null,null,{"$f":"((((F47+J47+N47)/3)+((R47+V47)/2))/2)","v":0}]
[]
[{"$f":"Stammdaten!B4","v":"Dressurtage XY"},null,null,{"$f":"Stammdaten!B14","v":"Richter H / Reiter 1"},null,null,null,{"$f":"Stammdaten!B17","v":"Richter C / Reiter 2"},null,null,null,{"$f":"Stammdaten!B20","v":"Richter M / Reiter 3"},null,null,null,{"$f":"Stammdaten!B23","v":"Richter E / Gesamteindr."},null,null,null,{"$f":"Stammdaten!B26","v":"Richter B / Gesamteindr."}]
[{"$f":"Stammdaten!B7","v":"OKV Mannschaftsdressur dd.mm.YYYY"},null,null,{"$f":"Stammdaten!D14","v":"Vor-, Nachname Richter/in 1"},null,null,null,{"$f":"Stammdaten!D17","v":"Vor-, Nachname Richter/in 2"},null,null,null,{"$f":"Stammdaten!D20","v":"Vor-, Nachname Richter/in 3"},null,null,null,{"$f":"Stammdaten!D23","v":"Vor-, Nachname Richter/in 4"},null,null,null,{"$f":"Stammdaten!D26","v":"Vor-, Nachname Richter/in 5"}]
[null,null,null,"Note","Koef.","Punkte",null,"Note","Koef.","Punkte",null,"Note","Koef.","Punkte",null,"Note","Koef.","Punkte",null,"Note","Koef.","Punkte"]
["Lektionen"]
[1,"Einreiten im Arbeitstrab",null,null,1,{"$f":"E7*D7","v":0},null,null,1,{"$f":"I7*H7","v":0},null,null,1,{"$f":"M7*L7","v":0},null,null,1,{"$f":"Q7*P7","v":0},null,null,1,{"$f":"U7*T7","v":0}]
[{"$f":"A7+1","v":2},"Anlegen Schlangenlinie",null,null,1,{"$f":"E8*D8","v":0},null,null,1,{"$f":"I8*H8","v":0},null,null,1,{"$f":"M8*L8","v":0},null,null,1,{"$f":"Q8*P8","v":0},null,null,1,{"$f":"U8*T8","v":0}]
[{"$f":"A8+1","v":3},"Arbeitsgalopp links",null,null,1,{"$f":"E9*D9","v":0},null,null,1,{"$f":"I9*H9","v":0},null,null,1,{"$f":"M9*L9","v":0},null,null,1,{"$f":"Q9*P9","v":0},null,null,1,{"$f":"U9*T9","v":0}]
[4,"Anlegen grosser Volte",null,null,1,{"$f":"E10*D10","v":0},null,null,1,{"$f":"I10*H10","v":0},null,null,1,{"$f":"M10*L10","v":0},null,null,1,{"$f":"Q10*P10","v":0},null,null,1,{"$f":"U10*T10","v":0}]
[5,"Arbeitsgalopp",null,null,1,{"$f":"E11*D11","v":0},null,null,1,{"$f":"I11*H11","v":0},null,null,1,{"$f":"M11*L11","v":0},null,null,1,{"$f":"Q11*P11","v":0},null,null,1,{"$f":"U11*T11","v":0}]
[6,"Volte, Galoppsprünge verlängern",null,null,1,0,null,null,1,0,null,null,1,0,null,null,1,{"$f":"Q12*P12","v":0},null,null,1,{"$f":"U12*T12","v":0}]
[7,"Aufnehmen über M nach C",null,null,1,0,null,null,1,0,null,null,1,0,null,null,1,0,null,null,1,0]
[8,"Arbeitstrab nach H",null,null,1,0,null,null,1,0,null,null,1,0,null,null,1,0,null,null,1,0]
[9,"Durch die ganze Bahn wechseln",null,null,1,0,null,null,1,0,null,null,1,0,null,null,1,0,null,null,1,0]
[10,"Arbeitsgalopp rechts",null,null,1,0,null,null,1,0,null,null,1,0,null,null,1,0,null,null,1,0]
[11,"Anlegen grosser Volte",null,null,1,0,null,null,1,0,null,null,1,0,null,null,1,0,null,null,1,0]
[12,"Arbeitsgalopp",null,null,1,0,null,null,1,0,null,null,1,0,null,null,1,0,null,null,1,0]
[13,"Volte, Galoppsprünge verlängern",null,null,1,0,null,null,1,0,null,null,1,0,null,null,1,0,null,null,1,0]
[14,"Aufnehmen und weiter nach H",null,null,1,0,null,null,1,0,null,null,1,0,null,null,1,0,null,null,1,0]
[15,"Volte, Zügel aus der Hand kauen",null,null,2,0,null,null,2,0,null,null,2,0,null,null,2,0,null,null,2,0]
[16,"Zügel aufnehmen, weiter nach R",null,null,1,0,null,null,1,0,null,null,1,0,null,null,1,0,null,null,1,0]
[17,"Starker Schritt",null,null,2,0,null,null,2,0,null,null,2,0,null,null,2,0,null,null,2,0]
[18,"Mittelschritt",null,null,1,{"$f":"E24*D24","v":0},null,null,1,{"$f":"I24*H24","v":0},null,null,1,{"$f":"M24*L24","v":0},null,null,1,0,null,null,1,0]
[19,"Mittellinie D antraben",null,null,1,0,null,null,1,0,null,null,1,0,null,null,1,0,null,null,1,0]
[20,"Halt und Gruss",null,null,1,{"$f":"E26*D26","v":0},null,null,1,{"$f":"I26*H26","v":0},null,null,1,{"$f":"M26*L26","v":0},null,null,1,0,null,null,1,0]
["Total der Lektionen",null,null,null,null,{"$f":"SUM(F7:F26)","v":0},null,null,null,{"$f":"SUM(J7:J26)","v":0},null,null,null,{"$f":"SUM(N7:N26)","v":0},null,null,null,{"$f":"SUM(R7:R26)","v":0},null,null,null,{"$f":"SUM(V7:V26)","v":0}]
[]
["Gesamteindruck"]
[{"$f":"A26+1","v":21},"Reinheit der Gänge /Abstände",null,null,2,{"$f":"E30*D30","v":0},null,null,2,0,null,null,2,0,null,null,2,{"$f":"P30*Q30","v":0},null,null,2,{"$f":"T30*U30","v":0}]
[{"$f":"A30+1","v":22},"Schwung / Exaktheit",null,null,2,{"$f":"E31*D31","v":0},null,null,2,0,null,null,2,0,null,null,2,{"$f":"P31*Q31","v":0},null,null,2,{"$f":"T31*U31","v":0}]
[{"$f":"A31+1","v":23},"Gehorsam / Ausführung",null,null,2,{"$f":"E32*D32","v":0},null,null,2,0,null,null,2,0,null,null,2,0,null,null,2,0]
[{"$f":"A32+1","v":24},"Exaktheit / Harmonie",null,null,2,{"$f":"E33*D33","v":0},null,null,2,0,null,null,2,0,null,null,2,0,null,null,2,0]
[{"$f":"A33+1","v":25},"Sitz und Einwirkung / Harmonie",null,null,2,{"$f":"E34*D34","v":0},null,null,2,0,null,null,2,0,null,null,2,0,null,null,2,0]
["Lektionen + Gesamteindruck",null,null,null,null,{"$f":"SUM(F30:F34,F27)","v":0},null,null,null,{"$f":"SUM(J30:J34,J27)","v":0},null,null,null,{"$f":"SUM(N30:N34,N27)","v":0},null,null,null,{"$f":"SUM(R30:R34,R27)","v":0},null,null,null,{"$f":"SUM(V30:V34,V27)","v":0}]
[]
["Abzüge"]
[null,"Erster Programmfehler",null,null,-2,{"$f":"E38*D38","v":0},null,null,-2,{"$f":"I38*H38","v":0},null,null,-2,{"$f":"M38*L38","v":0},null,null,-2,{"$f":"P38*Q38","v":0},null,null,-2,{"$f":"T38*U38","v":0}]
[null,"Zweiter Programmfehler",null,null,-5,{"$f":"E39*D39","v":0},null,null,-5,{"$f":"I39*H39","v":0},null,null,-5,{"$f":"M39*L39","v":0},null,null,-5,{"$f":"P39*Q39","v":0},null,null,-5,{"$f":"T39*U39","v":0}]
[null,"Dritter Programmfehler",null,null,-10,{"$f":"E40*D40","v":0},null,null,-10,{"$f":"I40*H40","v":0},null,null,-10,{"$f":"M40*L40","v":0},null,null,-10,0,null,null,-10,0]
["Total Abzüge",null,null,null,null,{"$f":"SUM(F38:F40)","v":0},null,null,null,{"$f":"SUM(J38:J40)","v":0},null,null,null,{"$f":"SUM(N38:N40)","v":0},null,null,null,{"$f":"SUM(R38:R40)","v":0},null,null,null,{"$f":"SUM(V38:V40)","v":0}]
[]
[]
["Endresultat",null,null,null,null,{"$f":"F35+F41","v":0},null,null,null,{"$f":"J35+J41","v":0},null,null,null,{"$f":"N35+N41","v":0},null,null,null,{"$f":"R35+R41","v":0},null,null,null,{"$f":"V35+V41","v":0}]
[]
["in Prozenten",null,null,null,null,{"$f":"F44/320","v":0},null,null,null,{"$f":"J44/320","v":0},null,null,null,{"$f":"N44/320","v":0},null,null,null,{"$f":"R44/320","v":0},null,null,null,{"$f":"V44/320","v":0}]
[]
[]
["ACHTUNG: Noten NUR in den farbigen Feldern eingeben & nach jeder Mannschaft die Datei speichern!"]